BEGIN:VCALENDAR
VERSION:2.0
PRODID:-//Universidad Nacional Agraria - ECPv6.15.20//NONSGML v1.0//EN
CALSCALE:GREGORIAN
METHOD:PUBLISH
X-ORIGINAL-URL:https://www.una.edu.ni
X-WR-CALDESC:Eventos para Universidad Nacional Agraria
REFRESH-INTERVAL;VALUE=DURATION:PT1H
X-Robots-Tag:noindex
X-PUBLISHED-TTL:PT1H
BEGIN:VTIMEZONE
TZID:America/Managua
BEGIN:STANDARD
TZOFFSETFROM:-0600
TZOFFSETTO:-0600
TZNAME:CST
DTSTART:20230101T000000
END:STANDARD
END:VTIMEZONE
BEGIN:VTIMEZONE
TZID:Europe/Madrid
BEGIN:DAYLIGHT
TZOFFSETFROM:+0100
TZOFFSETTO:+0200
TZNAME:CEST
DTSTART:20230326T010000
END:DAYLIGHT
BEGIN:STANDARD
TZOFFSETFROM:+0200
TZOFFSETTO:+0100
TZNAME:CET
DTSTART:20231029T010000
END:STANDARD
BEGIN:DAYLIGHT
TZOFFSETFROM:+0100
TZOFFSETTO:+0200
TZNAME:CEST
DTSTART:20240331T010000
END:DAYLIGHT
BEGIN:STANDARD
TZOFFSETFROM:+0200
TZOFFSETTO:+0100
TZNAME:CET
DTSTART:20241027T010000
END:STANDARD
BEGIN:DAYLIGHT
TZOFFSETFROM:+0100
TZOFFSETTO:+0200
TZNAME:CEST
DTSTART:20250330T010000
END:DAYLIGHT
BEGIN:STANDARD
TZOFFSETFROM:+0200
TZOFFSETTO:+0100
TZNAME:CET
DTSTART:20251026T010000
END:STANDARD
END:VTIMEZONE
BEGIN:VEVENT
DTSTART;TZID=America/Managua:20241104T080000
DTEND;TZID=America/Managua:20241104T120000
DTSTAMP:20260421T104628
CREATED:20241104T142141Z
LAST-MODIFIED:20241104T142141Z
UID:16489-1730707200-1730721600@www.una.edu.ni
SUMMARY:Lanzamiento de campaña “Prevención Enfermedades de Transmisión Alimentaria”\, promoviendo la inocuidad en la preparación de los alimentos
DESCRIPTION:
URL:https://www.una.edu.ni/event/lanzamiento-de-campana-prevencion-enfermedades-de-transmision-alimentaria-promoviendo-la-inocuidad-en-la-preparacion-de-los-alimentos/
LOCATION:Centro Universitario Regional UNA Camoapa\, Camoapa
CATEGORIES:LANZAMIENTO
END:VEVENT
BEGIN:VEVENT
DTSTART;TZID=America/Managua:20241104T080000
DTEND;TZID=America/Managua:20241104T170000
DTSTAMP:20260421T104628
CREATED:20241104T142337Z
LAST-MODIFIED:20241104T144550Z
UID:16491-1730707200-1730739600@www.una.edu.ni
SUMMARY:Promoción de la Oferta Académica UNA- 2025 en Centros de Educación y Tecnológicos
DESCRIPTION:
URL:https://www.una.edu.ni/event/promocion-de-la-oferta-academica-una-2025-en-centros-de-educacion-y-tecnologicos-3/
LOCATION:Centros de educación en los municipios de Waslala\, Río Blanco y Rancho Grande en Matagalpa; Pantasma\, El Cuá y Wiwili en Jinotega\, Nicaragua
CATEGORIES:OTROS
END:VEVENT
BEGIN:VEVENT
DTSTART;TZID=Europe/Madrid:20241104T080000
DTEND;TZID=Europe/Madrid:20241104T170000
DTSTAMP:20260421T104628
CREATED:20241104T143246Z
LAST-MODIFIED:20241104T143246Z
UID:16500-1730707200-1730739600@www.una.edu.ni
SUMMARY:Establecimiento de huerto escolar en marco del programa Universidad verde
DESCRIPTION:
URL:https://www.una.edu.ni/event/establecimiento-de-huerto-escolar-en-marco-del-programa-universidad-verde/
LOCATION:Colegio María Auxiliadora\, Boaco Viejo\, Nicaragua
CATEGORIES:OTROS
END:VEVENT
BEGIN:VEVENT
DTSTART;TZID=America/Managua:20241104T090000
DTEND;TZID=America/Managua:20241104T120000
DTSTAMP:20260421T104628
CREATED:20241104T143147Z
LAST-MODIFIED:20241104T143147Z
UID:16497-1730710800-1730721600@www.una.edu.ni
SUMMARY:Día de campo de prácticas agropecuarias para el manejo animal y de cultivos
DESCRIPTION:
URL:https://www.una.edu.ni/event/dia-de-campo-de-practicas-agropecuarias-para-el-manejo-animal-y-de-cultivos-4/
LOCATION:UNICAM El Ayote y Finca El Plantel\, Carretera Tipitapa-Masaya\, Nicaragua
CATEGORIES:OTROS
END:VEVENT
BEGIN:VEVENT
DTSTART;TZID=Europe/Madrid:20241104T100000
DTEND;TZID=Europe/Madrid:20241104T170000
DTSTAMP:20260421T104628
CREATED:20241104T143020Z
LAST-MODIFIED:20241104T143020Z
UID:16494-1730714400-1730739600@www.una.edu.ni
SUMMARY:Visitas de fortalecimiento de capacidades a productores y familias en el tema importancia de la inocuidad de los alimentos para la prevención de enfermedades
DESCRIPTION:
URL:https://www.una.edu.ni/event/visitas-de-fortalecimiento-de-capacidades-a-productores-y-familias-en-el-tema-importancia-de-la-inocuidad-de-los-alimentos-para-la-prevencion-de-enfermedades/
LOCATION:Finca la flor – Comarca San francisco\, Nicaragua
CATEGORIES:OTROS
END:VEVENT
BEGIN:VEVENT
DTSTART;TZID=Europe/Madrid:20241104T173000
DTEND;TZID=Europe/Madrid:20241107T200000
DTSTAMP:20260421T104628
CREATED:20241104T144352Z
LAST-MODIFIED:20241104T144352Z
UID:16503-1730741400-1731009600@www.una.edu.ni
SUMMARY:Torneos y encuentros deportivos de Voleibol\, Baloncesto\, Futsal\, futbol campo\, Ajedrez\, Beisbol y Taekwondo con estudiantiles y servidores públicos
DESCRIPTION:
URL:https://www.una.edu.ni/event/torneos-y-encuentros-deportivos-de-voleibol-baloncesto-futsal-futbol-campo-ajedrez-beisbol-y-taekwondo-con-estudiantiles-y-servidores-publicos/
LOCATION:Universidad Nacional Agraria\, Managua\, km 12 1/2\, Managua\, Nicaragua
CATEGORIES:OTROS
END:VEVENT
END:VCALENDAR