BEGIN:VCALENDAR
VERSION:2.0
PRODID:-//Universidad Nacional Agraria - ECPv6.15.20//NONSGML v1.0//EN
CALSCALE:GREGORIAN
METHOD:PUBLISH
X-WR-CALNAME:Universidad Nacional Agraria
X-ORIGINAL-URL:https://www.una.edu.ni
X-WR-CALDESC:Eventos para Universidad Nacional Agraria
REFRESH-INTERVAL;VALUE=DURATION:PT1H
X-Robots-Tag:noindex
X-PUBLISHED-TTL:PT1H
BEGIN:VTIMEZONE
TZID:Europe/Madrid
BEGIN:DAYLIGHT
TZOFFSETFROM:+0100
TZOFFSETTO:+0200
TZNAME:CEST
DTSTART:20230326T010000
END:DAYLIGHT
BEGIN:STANDARD
TZOFFSETFROM:+0200
TZOFFSETTO:+0100
TZNAME:CET
DTSTART:20231029T010000
END:STANDARD
BEGIN:DAYLIGHT
TZOFFSETFROM:+0100
TZOFFSETTO:+0200
TZNAME:CEST
DTSTART:20240331T010000
END:DAYLIGHT
BEGIN:STANDARD
TZOFFSETFROM:+0200
TZOFFSETTO:+0100
TZNAME:CET
DTSTART:20241027T010000
END:STANDARD
BEGIN:DAYLIGHT
TZOFFSETFROM:+0100
TZOFFSETTO:+0200
TZNAME:CEST
DTSTART:20250330T010000
END:DAYLIGHT
BEGIN:STANDARD
TZOFFSETFROM:+0200
TZOFFSETTO:+0100
TZNAME:CET
DTSTART:20251026T010000
END:STANDARD
END:VTIMEZONE
BEGIN:VTIMEZONE
TZID:America/Managua
BEGIN:STANDARD
TZOFFSETFROM:-0600
TZOFFSETTO:-0600
TZNAME:CST
DTSTART:20230101T000000
END:STANDARD
END:VTIMEZONE
BEGIN:VEVENT
DTSTART;TZID=Europe/Madrid:20241104T173000
DTEND;TZID=Europe/Madrid:20241107T200000
DTSTAMP:20260421T160326
CREATED:20241104T144352Z
LAST-MODIFIED:20241104T144352Z
UID:16503-1730741400-1731009600@www.una.edu.ni
SUMMARY:Torneos y encuentros deportivos de Voleibol\, Baloncesto\, Futsal\, futbol campo\, Ajedrez\, Beisbol y Taekwondo con estudiantiles y servidores públicos
DESCRIPTION:
URL:https://www.una.edu.ni/event/torneos-y-encuentros-deportivos-de-voleibol-baloncesto-futsal-futbol-campo-ajedrez-beisbol-y-taekwondo-con-estudiantiles-y-servidores-publicos/
LOCATION:Universidad Nacional Agraria\, Managua\, km 12 1/2\, Managua\, Nicaragua
CATEGORIES:OTROS
END:VEVENT
BEGIN:VEVENT
DTSTART;TZID=America/Managua:20241105T080000
DTEND;TZID=America/Managua:20241105T120000
DTSTAMP:20260421T160326
CREATED:20241104T145036Z
LAST-MODIFIED:20241104T145036Z
UID:16507-1730793600-1730808000@www.una.edu.ni
SUMMARY:Inicio de curso sobre interpretación de imágenes\, sensores y requerimientos hídricos de cultivos\, dirigido a Estudiantes de la Universidad en el Campo
DESCRIPTION:
URL:https://www.una.edu.ni/event/inicio-de-curso-sobre-interpretacion-de-imagenes-sensores-y-requerimientos-hidricos-de-cultivos-dirigido-a-estudiantes-de-la-universidad-en-el-campo/
LOCATION:UNICAM El Ayote\, Juigalpa\, Nicaragua
CATEGORIES:CURSO
END:VEVENT
BEGIN:VEVENT
DTSTART;TZID=America/Managua:20241105T080000
DTEND;TZID=America/Managua:20241105T120000
DTSTAMP:20260421T160326
CREATED:20241104T145642Z
LAST-MODIFIED:20241104T145642Z
UID:16515-1730793600-1730808000@www.una.edu.ni
SUMMARY:Taller práctico sobre establecimiento “in vitro” de musáceas
DESCRIPTION:
URL:https://www.una.edu.ni/event/taller-practico-sobre-establecimiento-in-vitro-de-musaceas/
LOCATION:Universidad Nacional Agraria\, Managua\, km 12 1/2\, Managua\, Nicaragua
CATEGORIES:TALLER
END:VEVENT
BEGIN:VEVENT
DTSTART;TZID=Europe/Madrid:20241105T080000
DTEND;TZID=Europe/Madrid:20241105T120000
DTSTAMP:20260421T160326
CREATED:20241105T145042Z
LAST-MODIFIED:20241105T145042Z
UID:16682-1730793600-1730808000@www.una.edu.ni
SUMMARY:Visitas de fortalecimiento de capacidades a productores y familias en el tema importancia de la inocuidad de los alimentos para la prevención de enfermedades
DESCRIPTION:
URL:https://www.una.edu.ni/event/visitas-de-fortalecimiento-de-capacidades-a-productores-y-familias-en-el-tema-importancia-de-la-inocuidad-de-los-alimentos-para-la-prevencion-de-enfermedades-2/
LOCATION:Comarca Salinas y Comarca Matamba finca los Laureles\, Nicaragua
CATEGORIES:OTROS
END:VEVENT
BEGIN:VEVENT
DTSTART;TZID=Europe/Madrid:20241105T080000
DTEND;TZID=Europe/Madrid:20241105T170000
DTSTAMP:20260421T160326
CREATED:20241105T144931Z
LAST-MODIFIED:20241105T144931Z
UID:16679-1730793600-1730826000@www.una.edu.ni
SUMMARY:Promoción de la Oferta Académica UNA- 2025 en Centros de Educación y Tecnológicos
DESCRIPTION:
URL:https://www.una.edu.ni/event/promocion-de-la-oferta-academica-una-2025-en-centros-de-educacion-y-tecnologicos-4/
LOCATION:Centros de educación en los municipios de Jalapa\, Wiwili\, Murra\, Jícaro y Ocotal en Nueva Segovia\, Nicaragua
CATEGORIES:OTROS
END:VEVENT
BEGIN:VEVENT
DTSTART;TZID=America/Managua:20241105T090000
DTEND;TZID=America/Managua:20241105T120000
DTSTAMP:20260421T160326
CREATED:20241104T145443Z
LAST-MODIFIED:20241104T145443Z
UID:16511-1730797200-1730808000@www.una.edu.ni
SUMMARY:Conferencia sobre “Conservación de Forrajes tropicales"
DESCRIPTION:
URL:https://www.una.edu.ni/event/conferencia-sobre-conservacion-de-forrajes-tropicales/
LOCATION:Universidad Nacional Agraria\, Managua\, km 12 1/2\, Managua\, Nicaragua
CATEGORIES:CONFERENCIA
END:VEVENT
BEGIN:VEVENT
DTSTART;TZID=America/Managua:20241105T090000
DTEND;TZID=America/Managua:20241105T120000
DTSTAMP:20260421T160326
CREATED:20241105T145259Z
LAST-MODIFIED:20241105T145259Z
UID:16686-1730797200-1730808000@www.una.edu.ni
SUMMARY:Día de campo de prácticas agropecuarias para el manejo animal y de cultivos
DESCRIPTION:
URL:https://www.una.edu.ni/event/dia-de-campo-de-practicas-agropecuarias-para-el-manejo-animal-y-de-cultivos-5/
LOCATION:Sandia UNICAM El Ayote\, Nicaragua
CATEGORIES:OTROS
END:VEVENT
BEGIN:VEVENT
DTSTART;TZID=America/Managua:20241105T100000
DTEND;TZID=America/Managua:20241105T120000
DTSTAMP:20260421T160326
CREATED:20241104T145543Z
LAST-MODIFIED:20241104T145543Z
UID:16513-1730800800-1730808000@www.una.edu.ni
SUMMARY:Simposio sobre Gestión Ambiental\, compartiendo técnicas de colectas y tratamientos pregerminativos de semillas para producción en viveros
DESCRIPTION:
URL:https://www.una.edu.ni/event/simposio-sobre-gestion-ambiental-compartiendo-tecnicas-de-colectas-y-tratamientos-pregerminativos-de-semillas-para-produccion-en-viveros/
LOCATION:Universidad Nacional Agraria\, Managua\, km 12 1/2\, Managua\, Nicaragua
CATEGORIES:Simposio
END:VEVENT
BEGIN:VEVENT
DTSTART;TZID=America/Managua:20241105T100000
DTEND;TZID=America/Managua:20241105T120000
DTSTAMP:20260421T160326
CREATED:20241104T145744Z
LAST-MODIFIED:20241104T145744Z
UID:16517-1730800800-1730808000@www.una.edu.ni
SUMMARY:Taller sobre manejo en la producción porcina tradicional
DESCRIPTION:
URL:https://www.una.edu.ni/event/taller-sobre-manejo-en-la-produccion-porcina-tradicional/
LOCATION:Chontales\, Comunidad La Altura\, Nicaragua
CATEGORIES:TALLER
END:VEVENT
BEGIN:VEVENT
DTSTART;TZID=America/Managua:20241105T123000
DTEND;TZID=America/Managua:20241105T170000
DTSTAMP:20260421T160326
CREATED:20241104T145848Z
LAST-MODIFIED:20241104T145848Z
UID:16520-1730809800-1730826000@www.una.edu.ni
SUMMARY:Inauguración de la Copa Universitaria de Voleibol “F”\, en coordinación con el Ministerio de la Juventud\, UNEN y Movimiento Deportivo Alexis Argüello
DESCRIPTION:
URL:https://www.una.edu.ni/event/inauguracion-de-la-copa-universitaria-de-voleibol-f-en-coordinacion-con-el-ministerio-de-la-juventud-unen-y-movimiento-deportivo-alexis-arguello/
LOCATION:Universidad Nacional Agraria\, Managua\, km 12 1/2\, Managua\, Nicaragua
CATEGORIES:INAUGURACIÓN
END:VEVENT
END:VCALENDAR