BEGIN:VCALENDAR
VERSION:2.0
PRODID:-//Universidad Nacional Agraria - ECPv6.15.20//NONSGML v1.0//EN
CALSCALE:GREGORIAN
METHOD:PUBLISH
X-ORIGINAL-URL:https://www.una.edu.ni
X-WR-CALDESC:Eventos para Universidad Nacional Agraria
REFRESH-INTERVAL;VALUE=DURATION:PT1H
X-Robots-Tag:noindex
X-PUBLISHED-TTL:PT1H
BEGIN:VTIMEZONE
TZID:Europe/Madrid
BEGIN:DAYLIGHT
TZOFFSETFROM:+0100
TZOFFSETTO:+0200
TZNAME:CEST
DTSTART:20230326T010000
END:DAYLIGHT
BEGIN:STANDARD
TZOFFSETFROM:+0200
TZOFFSETTO:+0100
TZNAME:CET
DTSTART:20231029T010000
END:STANDARD
BEGIN:DAYLIGHT
TZOFFSETFROM:+0100
TZOFFSETTO:+0200
TZNAME:CEST
DTSTART:20240331T010000
END:DAYLIGHT
BEGIN:STANDARD
TZOFFSETFROM:+0200
TZOFFSETTO:+0100
TZNAME:CET
DTSTART:20241027T010000
END:STANDARD
BEGIN:DAYLIGHT
TZOFFSETFROM:+0100
TZOFFSETTO:+0200
TZNAME:CEST
DTSTART:20250330T010000
END:DAYLIGHT
BEGIN:STANDARD
TZOFFSETFROM:+0200
TZOFFSETTO:+0100
TZNAME:CET
DTSTART:20251026T010000
END:STANDARD
END:VTIMEZONE
BEGIN:VTIMEZONE
TZID:America/Managua
BEGIN:STANDARD
TZOFFSETFROM:-0600
TZOFFSETTO:-0600
TZNAME:CST
DTSTART:20230101T000000
END:STANDARD
END:VTIMEZONE
BEGIN:VEVENT
DTSTART;TZID=Europe/Madrid:20241104T173000
DTEND;TZID=Europe/Madrid:20241107T200000
DTSTAMP:20260421T104627
CREATED:20241104T144352Z
LAST-MODIFIED:20241104T144352Z
UID:16503-1730741400-1731009600@www.una.edu.ni
SUMMARY:Torneos y encuentros deportivos de Voleibol\, Baloncesto\, Futsal\, futbol campo\, Ajedrez\, Beisbol y Taekwondo con estudiantiles y servidores públicos
DESCRIPTION:
URL:https://www.una.edu.ni/event/torneos-y-encuentros-deportivos-de-voleibol-baloncesto-futsal-futbol-campo-ajedrez-beisbol-y-taekwondo-con-estudiantiles-y-servidores-publicos/
LOCATION:Universidad Nacional Agraria\, Managua\, km 12 1/2\, Managua\, Nicaragua
CATEGORIES:OTROS
END:VEVENT
BEGIN:VEVENT
DTSTART;TZID=America/Managua:20241106T080000
DTEND;TZID=America/Managua:20241106T120000
DTSTAMP:20260421T104627
CREATED:20241105T145802Z
LAST-MODIFIED:20241105T145802Z
UID:16693-1730880000-1730894400@www.una.edu.ni
SUMMARY:Foro sobre “Diseño Agroecológico de fincas”
DESCRIPTION:
URL:https://www.una.edu.ni/event/foro-sobre-diseno-agroecologico-de-fincas/
LOCATION:Universidad Nacional Agraria\, Managua\, km 12 1/2\, Managua\, Nicaragua
CATEGORIES:FORO
END:VEVENT
BEGIN:VEVENT
DTSTART;TZID=America/Managua:20241106T090000
DTEND;TZID=America/Managua:20241106T120000
DTSTAMP:20260421T104627
CREATED:20241105T150255Z
LAST-MODIFIED:20241105T150255Z
UID:16695-1730883600-1730894400@www.una.edu.ni
SUMMARY:Conversatorio sobre métodos de estimación y estrategias para la sostenibilidad en la agricultura
DESCRIPTION:
URL:https://www.una.edu.ni/event/conversatorio-sobre-metodos-de-estimacion-y-estrategias-para-la-sostenibilidad-en-la-agricultura/
LOCATION:Universidad Nacional Agraria\, Managua\, km 12 1/2\, Managua\, Nicaragua
CATEGORIES:CONVERSATORIO
END:VEVENT
BEGIN:VEVENT
DTSTART;TZID=America/Managua:20241106T090000
DTEND;TZID=America/Managua:20241106T120000
DTSTAMP:20260421T104627
CREATED:20241105T150416Z
LAST-MODIFIED:20241105T150416Z
UID:16697-1730883600-1730894400@www.una.edu.ni
SUMMARY:Expo feria "Y también enséñales a leer" en saludo al día del Bibliotecario y Bibliotecaria
DESCRIPTION:
URL:https://www.una.edu.ni/event/expo-feria-y-tambien-ensenales-a-leer-en-saludo-al-dia-del-bibliotecario-y-bibliotecaria/
LOCATION:Universidad Nacional Agraria\, Managua\, km 12 1/2\, Managua\, Nicaragua
CATEGORIES:FERIA
END:VEVENT
BEGIN:VEVENT
DTSTART;TZID=America/Managua:20241106T100000
DTEND;TZID=America/Managua:20241106T120000
DTSTAMP:20260421T104627
CREATED:20241105T145547Z
LAST-MODIFIED:20241105T145611Z
UID:16689-1730887200-1730894400@www.una.edu.ni
SUMMARY:Lanzamiento de la escuela de producción avícola
DESCRIPTION:
URL:https://www.una.edu.ni/event/lanzamiento-de-la-escuela-de-produccion-avicola/
LOCATION:Centro Universitario Regional UNA Juigalpa\, Juigapa
CATEGORIES:LANZAMIENTO
END:VEVENT
BEGIN:VEVENT
DTSTART;TZID=America/Managua:20241106T100000
DTEND;TZID=America/Managua:20241106T120000
DTSTAMP:20260421T104627
CREATED:20241105T145707Z
LAST-MODIFIED:20241105T145707Z
UID:16691-1730887200-1730894400@www.una.edu.ni
SUMMARY:Conferencia producción e inocuidad de la leche
DESCRIPTION:
URL:https://www.una.edu.ni/event/conferencia-produccion-e-inocuidad-de-la-leche/
LOCATION:Universidad Nacional Agraria\, Managua\, km 12 1/2\, Managua\, Nicaragua
CATEGORIES:CONFERENCIA
END:VEVENT
BEGIN:VEVENT
DTSTART;TZID=America/Managua:20241106T130000
DTEND;TZID=America/Managua:20241106T170000
DTSTAMP:20260421T104627
CREATED:20241105T150759Z
LAST-MODIFIED:20241105T150759Z
UID:16699-1730898000-1730912400@www.una.edu.ni
SUMMARY:Jornada de Vitaminación y desparasitación en aves y cerdos
DESCRIPTION:
URL:https://www.una.edu.ni/event/jornada-de-vitaminacion-y-desparasitacion-en-aves-y-cerdos/
LOCATION:El barro\, municipio de Esquipulas\, Nicaragua
CATEGORIES:JORNADA
END:VEVENT
END:VCALENDAR