BEGIN:VCALENDAR
VERSION:2.0
PRODID:-//Universidad Nacional Agraria - ECPv6.15.20//NONSGML v1.0//EN
CALSCALE:GREGORIAN
METHOD:PUBLISH
X-WR-CALNAME:Universidad Nacional Agraria
X-ORIGINAL-URL:https://www.una.edu.ni
X-WR-CALDESC:Eventos para Universidad Nacional Agraria
REFRESH-INTERVAL;VALUE=DURATION:PT1H
X-Robots-Tag:noindex
X-PUBLISHED-TTL:PT1H
BEGIN:VTIMEZONE
TZID:Europe/Madrid
BEGIN:DAYLIGHT
TZOFFSETFROM:+0100
TZOFFSETTO:+0200
TZNAME:CEST
DTSTART:20230326T010000
END:DAYLIGHT
BEGIN:STANDARD
TZOFFSETFROM:+0200
TZOFFSETTO:+0100
TZNAME:CET
DTSTART:20231029T010000
END:STANDARD
BEGIN:DAYLIGHT
TZOFFSETFROM:+0100
TZOFFSETTO:+0200
TZNAME:CEST
DTSTART:20240331T010000
END:DAYLIGHT
BEGIN:STANDARD
TZOFFSETFROM:+0200
TZOFFSETTO:+0100
TZNAME:CET
DTSTART:20241027T010000
END:STANDARD
BEGIN:DAYLIGHT
TZOFFSETFROM:+0100
TZOFFSETTO:+0200
TZNAME:CEST
DTSTART:20250330T010000
END:DAYLIGHT
BEGIN:STANDARD
TZOFFSETFROM:+0200
TZOFFSETTO:+0100
TZNAME:CET
DTSTART:20251026T010000
END:STANDARD
END:VTIMEZONE
BEGIN:VTIMEZONE
TZID:America/Managua
BEGIN:STANDARD
TZOFFSETFROM:-0600
TZOFFSETTO:-0600
TZNAME:CST
DTSTART:20230101T000000
END:STANDARD
END:VTIMEZONE
BEGIN:VEVENT
DTSTART;TZID=Europe/Madrid:20241104T173000
DTEND;TZID=Europe/Madrid:20241107T200000
DTSTAMP:20260421T160326
CREATED:20241104T144352Z
LAST-MODIFIED:20241104T144352Z
UID:16503-1730741400-1731009600@www.una.edu.ni
SUMMARY:Torneos y encuentros deportivos de Voleibol\, Baloncesto\, Futsal\, futbol campo\, Ajedrez\, Beisbol y Taekwondo con estudiantiles y servidores públicos
DESCRIPTION:
URL:https://www.una.edu.ni/event/torneos-y-encuentros-deportivos-de-voleibol-baloncesto-futsal-futbol-campo-ajedrez-beisbol-y-taekwondo-con-estudiantiles-y-servidores-publicos/
LOCATION:Universidad Nacional Agraria\, Managua\, km 12 1/2\, Managua\, Nicaragua
CATEGORIES:OTROS
END:VEVENT
BEGIN:VEVENT
DTSTART;TZID=America/Managua:20241107T080000
DTEND;TZID=America/Managua:20241107T120000
DTSTAMP:20260421T160326
CREATED:20241106T205720Z
LAST-MODIFIED:20241106T205720Z
UID:16781-1730966400-1730980800@www.una.edu.ni
SUMMARY:Establecimiento de huerto escolar en marco del programa Universidad verde
DESCRIPTION:
URL:https://www.una.edu.ni/event/establecimiento-de-huerto-escolar-en-marco-del-programa-universidad-verde-2/
LOCATION:Centro escolar Wiquili\, municipio de Achuapa\, Nicaragua
CATEGORIES:OTROS
END:VEVENT
BEGIN:VEVENT
DTSTART;TZID=Europe/Madrid:20241107T080000
DTEND;TZID=Europe/Madrid:20241107T170000
DTSTAMP:20260421T160326
CREATED:20241106T205214Z
LAST-MODIFIED:20241106T205214Z
UID:16776-1730966400-1730998800@www.una.edu.ni
SUMMARY:Promoción de la Oferta Académica UNA- 2025 en Centros de Educación y Tecnológicos
DESCRIPTION:
URL:https://www.una.edu.ni/event/promocion-de-la-oferta-academica-una-2025-en-centros-de-educacion-y-tecnologicos-5/
LOCATION:Centro de educación en el municipio de San Carlos\, San Miguelito\, El Almendro en Río San Juan; El Rama\, Nueva Guinea en Zelaya Central\, Nicaragua
CATEGORIES:OTROS
END:VEVENT
BEGIN:VEVENT
DTSTART;TZID=America/Managua:20241107T090000
DTEND;TZID=America/Managua:20241107T120000
DTSTAMP:20260421T160326
CREATED:20241106T205345Z
LAST-MODIFIED:20241106T205345Z
UID:16779-1730970000-1730980800@www.una.edu.ni
SUMMARY:Día de campo de prácticas agropecuarias para el manejo animal y de cultivos
DESCRIPTION:
URL:https://www.una.edu.ni/event/dia-de-campo-de-practicas-agropecuarias-para-el-manejo-animal-y-de-cultivos-6/
LOCATION:Universidad Nacional Agraria\, Managua\, km 12 1/2\, Managua\, Nicaragua
CATEGORIES:OTROS
END:VEVENT
BEGIN:VEVENT
DTSTART;TZID=America/Managua:20241107T090000
DTEND;TZID=America/Managua:20241107T120000
DTSTAMP:20260421T160326
CREATED:20241106T205905Z
LAST-MODIFIED:20241106T205905Z
UID:16784-1730970000-1730980800@www.una.edu.ni
SUMMARY:Inicio de cursos de Inseminación Artificial y Ecografía\, con productores de bovino
DESCRIPTION:
URL:https://www.una.edu.ni/event/inicio-de-cursos-de-inseminacion-artificial-y-ecografia-con-productores-de-bovino/
LOCATION:UNICAM\, municipio de Achuapa\, Nicaragua
CATEGORIES:CURSO
END:VEVENT
BEGIN:VEVENT
DTSTART;TZID=America/Managua:20241107T090000
DTEND;TZID=America/Managua:20241107T120000
DTSTAMP:20260421T160326
CREATED:20241106T210053Z
LAST-MODIFIED:20241106T210053Z
UID:16787-1730970000-1730980800@www.una.edu.ni
SUMMARY:Entrega de material bibliográfico para el Centro de Documentación y Lectura\, en saludo al 48 Aniversario del paso a la inmortalidad del Comandante Carlos Fonseca Amador
DESCRIPTION:
URL:https://www.una.edu.ni/event/entrega-de-material-bibliografico-para-el-centro-de-documentacion-y-lectura-en-saludo-al-48-aniversario-del-paso-a-la-inmortalidad-del-comandante-carlos-fonseca-amador/
LOCATION:Universidad Nacional Agraria\, Managua\, km 12 1/2\, Managua\, Nicaragua
CATEGORIES:OTROS
END:VEVENT
BEGIN:VEVENT
DTSTART;TZID=America/Managua:20241107T090000
DTEND;TZID=America/Managua:20241107T120000
DTSTAMP:20260421T160326
CREATED:20241106T210202Z
LAST-MODIFIED:20241106T210202Z
UID:16789-1730970000-1730980800@www.una.edu.ni
SUMMARY:Feria vocacional UNA-2025
DESCRIPTION:
URL:https://www.una.edu.ni/event/feria-vocacional-una-2025/
LOCATION:Sistema penitenciario Jorge Navarro\, municipio de Tipitapa\, Nicaragua
CATEGORIES:FERIA
END:VEVENT
BEGIN:VEVENT
DTSTART;TZID=America/Managua:20241107T090000
DTEND;TZID=America/Managua:20241107T120000
DTSTAMP:20260421T160326
CREATED:20241106T210353Z
LAST-MODIFIED:20241106T210353Z
UID:16793-1730970000-1730980800@www.una.edu.ni
SUMMARY:Panel “Plan de Acción Nacional para la contención de la Resistencia Antimicrobiana”
DESCRIPTION:
URL:https://www.una.edu.ni/event/panel-plan-de-accion-nacional-para-la-contencion-de-la-resistencia-antimicrobiana/
LOCATION:Universidad Nacional Agraria\, Managua\, km 12 1/2\, Managua\, Nicaragua
CATEGORIES:PANEL
END:VEVENT
BEGIN:VEVENT
DTSTART;TZID=America/Managua:20241107T090000
DTEND;TZID=America/Managua:20241107T160000
DTSTAMP:20260421T160326
CREATED:20241106T210606Z
LAST-MODIFIED:20241106T210606Z
UID:16797-1730970000-1730995200@www.una.edu.ni
SUMMARY:Capacitación sobre Primeros Auxilios
DESCRIPTION:
URL:https://www.una.edu.ni/event/capacitacion-sobre-primeros-auxilios/
LOCATION:Universidad Nacional Agraria\, Managua\, km 12 1/2\, Managua\, Nicaragua
CATEGORIES:CAPACITACION
END:VEVENT
BEGIN:VEVENT
DTSTART;TZID=Europe/Madrid:20241107T090000
DTEND;TZID=Europe/Madrid:20241108T170000
DTSTAMP:20260421T160326
CREATED:20241106T204722Z
LAST-MODIFIED:20241106T204722Z
UID:16774-1730970000-1731085200@www.una.edu.ni
SUMMARY:Encuentro Científico de Docentes investigadores UNA- 2024\, con presentaciones y ponencias de trabajos de investigación en ciencias agrarias
DESCRIPTION:
URL:https://www.una.edu.ni/event/encuentro-cientifico-de-docentes-investigadores-una-2024-con-presentaciones-y-ponencias-de-trabajos-de-investigacion-en-ciencias-agrarias/
LOCATION:Universidad Nacional Agraria\, Managua\, km 12 1/2\, Managua\, Nicaragua
CATEGORIES:ENCUENTRO
END:VEVENT
BEGIN:VEVENT
DTSTART;TZID=America/Managua:20241107T130000
DTEND;TZID=America/Managua:20241107T160000
DTSTAMP:20260421T160326
CREATED:20241106T210458Z
LAST-MODIFIED:20241106T210458Z
UID:16795-1730984400-1730995200@www.una.edu.ni
SUMMARY:Charla sobre técnicas para la mejorar la producción en Ovinos y Caprinos
DESCRIPTION:
URL:https://www.una.edu.ni/event/charla-sobre-tecnicas-para-la-mejorar-la-produccion-en-ovinos-y-caprinos/
LOCATION:Universidad Nacional Agraria\, Managua\, km 12 1/2\, Managua\, Nicaragua
CATEGORIES:CHARLA
END:VEVENT
END:VCALENDAR