BEGIN:VCALENDAR
VERSION:2.0
PRODID:-//Universidad Nacional Agraria - ECPv6.15.20//NONSGML v1.0//EN
CALSCALE:GREGORIAN
METHOD:PUBLISH
X-ORIGINAL-URL:https://www.una.edu.ni
X-WR-CALDESC:Eventos para Universidad Nacional Agraria
REFRESH-INTERVAL;VALUE=DURATION:PT1H
X-Robots-Tag:noindex
X-PUBLISHED-TTL:PT1H
BEGIN:VTIMEZONE
TZID:Europe/Madrid
BEGIN:DAYLIGHT
TZOFFSETFROM:+0100
TZOFFSETTO:+0200
TZNAME:CEST
DTSTART:20230326T010000
END:DAYLIGHT
BEGIN:STANDARD
TZOFFSETFROM:+0200
TZOFFSETTO:+0100
TZNAME:CET
DTSTART:20231029T010000
END:STANDARD
BEGIN:DAYLIGHT
TZOFFSETFROM:+0100
TZOFFSETTO:+0200
TZNAME:CEST
DTSTART:20240331T010000
END:DAYLIGHT
BEGIN:STANDARD
TZOFFSETFROM:+0200
TZOFFSETTO:+0100
TZNAME:CET
DTSTART:20241027T010000
END:STANDARD
BEGIN:DAYLIGHT
TZOFFSETFROM:+0100
TZOFFSETTO:+0200
TZNAME:CEST
DTSTART:20250330T010000
END:DAYLIGHT
BEGIN:STANDARD
TZOFFSETFROM:+0200
TZOFFSETTO:+0100
TZNAME:CET
DTSTART:20251026T010000
END:STANDARD
END:VTIMEZONE
BEGIN:VTIMEZONE
TZID:America/Managua
BEGIN:STANDARD
TZOFFSETFROM:-0600
TZOFFSETTO:-0600
TZNAME:CST
DTSTART:20230101T000000
END:STANDARD
END:VTIMEZONE
BEGIN:VEVENT
DTSTART;TZID=Europe/Madrid:20241111T090000
DTEND;TZID=Europe/Madrid:20241115T160000
DTSTAMP:20260421T104626
CREATED:20241111T172314Z
LAST-MODIFIED:20241111T172314Z
UID:16948-1731315600-1731686400@www.una.edu.ni
SUMMARY:Encuentros deportivos entre estudiantes y servidores públicos en Voleibol\, Baloncesto\, Futsal\, futbol campo\, Ajedrez\, Beisbol y Taekwondo
DESCRIPTION:
URL:https://www.una.edu.ni/event/encuentros-deportivos-entre-estudiantes-y-servidores-publicos-en-voleibol-baloncesto-futsal-futbol-campo-ajedrez-beisbol-y-taekwondo/
LOCATION:Universidad Nacional Agraria\, Managua\, km 12 1/2\, Managua\, Nicaragua
CATEGORIES:ENCUENTRO
END:VEVENT
BEGIN:VEVENT
DTSTART;TZID=Europe/Madrid:20241111T123000
DTEND;TZID=Europe/Madrid:20241113T170000
DTSTAMP:20260421T104626
CREATED:20241111T172108Z
LAST-MODIFIED:20241111T172108Z
UID:16946-1731328200-1731517200@www.una.edu.ni
SUMMARY:Copa Universitaria de Voleibol y Baloncesto
DESCRIPTION:
URL:https://www.una.edu.ni/event/copa-universitaria-de-voleibol-y-baloncesto/
LOCATION:Universidad Nacional Agraria\, Managua\, km 12 1/2\, Managua\, Nicaragua
CATEGORIES:OTROS
END:VEVENT
BEGIN:VEVENT
DTSTART;TZID=America/Managua:20241113T080000
DTEND;TZID=America/Managua:20241113T120000
DTSTAMP:20260421T104626
CREATED:20241112T212236Z
LAST-MODIFIED:20241112T212236Z
UID:16999-1731484800-1731499200@www.una.edu.ni
SUMMARY:Inicio de curso en administración de fincas dirigido a productores\, jóvenes y estudiantes de la UNA
DESCRIPTION:
URL:https://www.una.edu.ni/event/inicio-de-curso-en-administracion-de-fincas-dirigido-a-productores-jovenes-y-estudiantes-de-la-una/
LOCATION:Instituto Nacional Tecnológico – INATEC\, Nicaragua
CATEGORIES:CURSO
END:VEVENT
BEGIN:VEVENT
DTSTART;TZID=America/Managua:20241113T080000
DTEND;TZID=America/Managua:20241113T120000
DTSTAMP:20260421T104626
CREATED:20241112T213006Z
LAST-MODIFIED:20241112T213006Z
UID:17007-1731484800-1731499200@www.una.edu.ni
SUMMARY:Día de campo de prácticas agropecuarias para el manejo animal y de cultivos
DESCRIPTION:
URL:https://www.una.edu.ni/event/dia-de-campo-de-practicas-agropecuarias-para-el-manejo-animal-y-de-cultivos-11/
LOCATION:Finca El Challo\, Jinotepe\, Carazo y Dirección de Ciencias para el Desarrollo Comunitario\, UNA Managua\, Nicaragua
CATEGORIES:OTROS
END:VEVENT
BEGIN:VEVENT
DTSTART;TZID=America/Managua:20241113T080000
DTEND;TZID=America/Managua:20241113T130000
DTSTAMP:20260421T104626
CREATED:20241112T214407Z
LAST-MODIFIED:20241112T214407Z
UID:17013-1731484800-1731502800@www.una.edu.ni
SUMMARY:Expo feria histórico-cultural “Raíces y Alma\, el legado de Nicaragua”
DESCRIPTION:
URL:https://www.una.edu.ni/event/expo-feria-historico-cultural-raices-y-alma-el-legado-de-nicaragua/
LOCATION:Universidad Nacional Agraria\, Managua\, km 12 1/2\, Managua\, Nicaragua
CATEGORIES:FERIA
END:VEVENT
BEGIN:VEVENT
DTSTART;TZID=America/Managua:20241113T090000
DTEND;TZID=America/Managua:20241113T130000
DTSTAMP:20260421T104626
CREATED:20241112T214305Z
LAST-MODIFIED:20241112T214305Z
UID:17010-1731488400-1731502800@www.una.edu.ni
SUMMARY:Jornada de atención veterinaria a equinos y mulares
DESCRIPTION:
URL:https://www.una.edu.ni/event/jornada-de-atencion-veterinaria-a-equinos-y-mulares/
LOCATION:Kamusaska\, Villa Sandino\, Nicaragua
CATEGORIES:JORNADA
END:VEVENT
BEGIN:VEVENT
DTSTART;TZID=Europe/Madrid:20241113T090000
DTEND;TZID=Europe/Madrid:20241113T170000
DTSTAMP:20260421T104626
CREATED:20241112T212651Z
LAST-MODIFIED:20241112T212651Z
UID:17002-1731488400-1731517200@www.una.edu.ni
SUMMARY:Promoción de la Oferta Académica UNA-2025 en Centros de Educación y Tecnológicos
DESCRIPTION:
URL:https://www.una.edu.ni/event/promocion-de-la-oferta-academica-una-2025-en-centros-de-educacion-y-tecnologicos-9/
LOCATION:Departamentos de Masaya\, Granada\, Carazo y Rivas\, Nicaragua
CATEGORIES:OTROS
END:VEVENT
BEGIN:VEVENT
DTSTART;TZID=America/Managua:20241113T100000
DTEND;TZID=America/Managua:20241113T130000
DTSTAMP:20260421T104626
CREATED:20241112T212823Z
LAST-MODIFIED:20241112T212823Z
UID:17005-1731492000-1731502800@www.una.edu.ni
SUMMARY:Simposio sobre Evolución Digital en la Educación Superior: Herramientas Tecnológicas en el marco de la Estrategia Nacional de educación en todas sus modalidades\, Bendiciones y Victorias
DESCRIPTION:
URL:https://www.una.edu.ni/event/simposio-sobre-evolucion-digital-en-la-educacion-superior-herramientas-tecnologicas-en-el-marco-de-la-estrategia-nacional-de-educacion-en-todas-sus-modalidades-bendiciones-y-victorias/
LOCATION:Universidad Nacional Agraria\, Managua\, km 12 1/2\, Managua\, Nicaragua
CATEGORIES:Simposio
END:VEVENT
END:VCALENDAR