BEGIN:VCALENDAR
VERSION:2.0
PRODID:-//Universidad Nacional Agraria - ECPv6.15.20//NONSGML v1.0//EN
CALSCALE:GREGORIAN
METHOD:PUBLISH
X-WR-CALNAME:Universidad Nacional Agraria
X-ORIGINAL-URL:https://www.una.edu.ni
X-WR-CALDESC:Eventos para Universidad Nacional Agraria
REFRESH-INTERVAL;VALUE=DURATION:PT1H
X-Robots-Tag:noindex
X-PUBLISHED-TTL:PT1H
BEGIN:VTIMEZONE
TZID:America/Managua
BEGIN:STANDARD
TZOFFSETFROM:-0600
TZOFFSETTO:-0600
TZNAME:CST
DTSTART:20230101T000000
END:STANDARD
END:VTIMEZONE
BEGIN:VTIMEZONE
TZID:Europe/Madrid
BEGIN:DAYLIGHT
TZOFFSETFROM:+0100
TZOFFSETTO:+0200
TZNAME:CEST
DTSTART:20230326T010000
END:DAYLIGHT
BEGIN:STANDARD
TZOFFSETFROM:+0200
TZOFFSETTO:+0100
TZNAME:CET
DTSTART:20231029T010000
END:STANDARD
BEGIN:DAYLIGHT
TZOFFSETFROM:+0100
TZOFFSETTO:+0200
TZNAME:CEST
DTSTART:20240331T010000
END:DAYLIGHT
BEGIN:STANDARD
TZOFFSETFROM:+0200
TZOFFSETTO:+0100
TZNAME:CET
DTSTART:20241027T010000
END:STANDARD
BEGIN:DAYLIGHT
TZOFFSETFROM:+0100
TZOFFSETTO:+0200
TZNAME:CEST
DTSTART:20250330T010000
END:DAYLIGHT
BEGIN:STANDARD
TZOFFSETFROM:+0200
TZOFFSETTO:+0100
TZNAME:CET
DTSTART:20251026T010000
END:STANDARD
END:VTIMEZONE
BEGIN:VEVENT
DTSTART;TZID=America/Managua:20241116T080000
DTEND;TZID=America/Managua:20241116T120000
DTSTAMP:20260421T160325
CREATED:20241115T213220Z
LAST-MODIFIED:20241115T213220Z
UID:17123-1731744000-1731758400@www.una.edu.ni
SUMMARY:Embellecimiento y limpieza de áreas verdes
DESCRIPTION:
URL:https://www.una.edu.ni/event/embellecimiento-y-limpieza-de-areas-verdes-3/
LOCATION:San Pedro del Norte\, Bocana de Paiwas\, Nicaragua
CATEGORIES:OTROS
END:VEVENT
BEGIN:VEVENT
DTSTART;TZID=Europe/Madrid:20241116T080000
DTEND;TZID=Europe/Madrid:20241116T120000
DTSTAMP:20260421T160325
CREATED:20241115T213402Z
LAST-MODIFIED:20241115T213402Z
UID:17126-1731744000-1731758400@www.una.edu.ni
SUMMARY:Día de campo de prácticas agropecuarias para el manejo animal y de cultivos
DESCRIPTION:
URL:https://www.una.edu.ni/event/dia-de-campo-de-practicas-agropecuarias-para-el-manejo-animal-y-de-cultivos-13/
LOCATION:Empalme Wanawana – Bocana de Paiwas. Finca la Pedrera\, Nicaragua
CATEGORIES:OTROS
END:VEVENT
BEGIN:VEVENT
DTSTART;TZID=America/Managua:20241116T150000
DTEND;TZID=America/Managua:20241116T170000
DTSTAMP:20260421T160325
CREATED:20241115T212507Z
LAST-MODIFIED:20241115T212507Z
UID:17117-1731769200-1731776400@www.una.edu.ni
SUMMARY:Presentación de mapeo de las propiedades microbiológicas de los suelos plataneros en el departamento de Rivas
DESCRIPTION:
URL:https://www.una.edu.ni/event/presentacion-de-mapeo-de-las-propiedades-microbiologicas-de-los-suelos-plataneros-en-el-departamento-de-rivas/
LOCATION:Escuela de plátano\, Nicaragua
CATEGORIES:PRESENTACIÓN
END:VEVENT
END:VCALENDAR