BEGIN:VCALENDAR
VERSION:2.0
PRODID:-//Universidad Nacional Agraria - ECPv6.15.20//NONSGML v1.0//EN
CALSCALE:GREGORIAN
METHOD:PUBLISH
X-ORIGINAL-URL:https://www.una.edu.ni
X-WR-CALDESC:Eventos para Universidad Nacional Agraria
REFRESH-INTERVAL;VALUE=DURATION:PT1H
X-Robots-Tag:noindex
X-PUBLISHED-TTL:PT1H
BEGIN:VTIMEZONE
TZID:America/Managua
BEGIN:STANDARD
TZOFFSETFROM:-0600
TZOFFSETTO:-0600
TZNAME:CST
DTSTART:20230101T000000
END:STANDARD
END:VTIMEZONE
BEGIN:VEVENT
DTSTART;TZID=America/Managua:20241213T080000
DTEND;TZID=America/Managua:20241213T120000
DTSTAMP:20260421T112053
CREATED:20241212T142708Z
LAST-MODIFIED:20241212T142708Z
UID:19278-1734076800-1734091200@www.una.edu.ni
SUMMARY:Ponencia “Granada Arquitectura y Ciudad”
DESCRIPTION:
URL:https://www.una.edu.ni/event/ponencia-granada-arquitectura-y-ciudad/
LOCATION:Convento San Francisco Granada\, Nicaragua
CATEGORIES:PONENCIA
END:VEVENT
BEGIN:VEVENT
DTSTART;TZID=America/Managua:20241213T090000
DTEND;TZID=America/Managua:20241213T120000
DTSTAMP:20260421T112053
CREATED:20241212T142007Z
LAST-MODIFIED:20241212T142007Z
UID:19268-1734080400-1734091200@www.una.edu.ni
SUMMARY:Conversatorio con productores de plátano
DESCRIPTION:
URL:https://www.una.edu.ni/event/conversatorio-con-productores-de-platano/
LOCATION:Finca Las Mercedes (UNA)\, los Sábalos\, distrito 6.1\, Nicaragua
CATEGORIES:CONVERSATORIO
END:VEVENT
BEGIN:VEVENT
DTSTART;TZID=America/Managua:20241213T100000
DTEND;TZID=America/Managua:20241213T120000
DTSTAMP:20260421T112053
CREATED:20241210T142600Z
LAST-MODIFIED:20241210T142600Z
UID:19157-1734084000-1734091200@www.una.edu.ni
SUMMARY:Presentación de resultados del Diplomado Tecno Agro 2024
DESCRIPTION:
URL:https://www.una.edu.ni/event/presentacion-de-resultados-del-diplomado-tecno-agro-2024/
LOCATION:Universidad Nacional Agraria\, Managua\, km 12 1/2\, Managua\, Nicaragua
CATEGORIES:PRESENTACIÓN
END:VEVENT
BEGIN:VEVENT
DTSTART;TZID=America/Managua:20241213T120000
DTEND;TZID=America/Managua:20241213T170000
DTSTAMP:20260421T112053
CREATED:20241212T142825Z
LAST-MODIFIED:20241213T141605Z
UID:19281-1734091200-1734109200@www.una.edu.ni
SUMMARY:Convivio de fin de año “Victorias de la Paz”
DESCRIPTION:
URL:https://www.una.edu.ni/event/convivio-de-fin-de-ano-victorias-de-la-paz/
LOCATION:Universidad Nacional Agraria\, Managua\, km 12 1/2\, Managua\, Nicaragua
CATEGORIES:OTROS
END:VEVENT
END:VCALENDAR