BEGIN:VCALENDAR
VERSION:2.0
PRODID:-//Universidad Nacional Agraria - ECPv6.15.20//NONSGML v1.0//EN
CALSCALE:GREGORIAN
METHOD:PUBLISH
X-ORIGINAL-URL:https://www.una.edu.ni
X-WR-CALDESC:Eventos para Universidad Nacional Agraria
REFRESH-INTERVAL;VALUE=DURATION:PT1H
X-Robots-Tag:noindex
X-PUBLISHED-TTL:PT1H
BEGIN:VTIMEZONE
TZID:Europe/Madrid
BEGIN:DAYLIGHT
TZOFFSETFROM:+0100
TZOFFSETTO:+0200
TZNAME:CEST
DTSTART:20230326T010000
END:DAYLIGHT
BEGIN:STANDARD
TZOFFSETFROM:+0200
TZOFFSETTO:+0100
TZNAME:CET
DTSTART:20231029T010000
END:STANDARD
BEGIN:DAYLIGHT
TZOFFSETFROM:+0100
TZOFFSETTO:+0200
TZNAME:CEST
DTSTART:20240331T010000
END:DAYLIGHT
BEGIN:STANDARD
TZOFFSETFROM:+0200
TZOFFSETTO:+0100
TZNAME:CET
DTSTART:20241027T010000
END:STANDARD
BEGIN:DAYLIGHT
TZOFFSETFROM:+0100
TZOFFSETTO:+0200
TZNAME:CEST
DTSTART:20250330T010000
END:DAYLIGHT
BEGIN:STANDARD
TZOFFSETFROM:+0200
TZOFFSETTO:+0100
TZNAME:CET
DTSTART:20251026T010000
END:STANDARD
END:VTIMEZONE
BEGIN:VTIMEZONE
TZID:America/Managua
BEGIN:STANDARD
TZOFFSETFROM:-0600
TZOFFSETTO:-0600
TZNAME:CST
DTSTART:20230101T000000
END:STANDARD
END:VTIMEZONE
BEGIN:VEVENT
DTSTART;TZID=Europe/Madrid:20241216T180000
DTEND;TZID=Europe/Madrid:20241220T200000
DTSTAMP:20260421T112053
CREATED:20241216T191948Z
LAST-MODIFIED:20241216T191948Z
UID:19305-1734372000-1734724800@www.una.edu.ni
SUMMARY:Exhibición de las disciplinas de taekwondo masculino y femenino
DESCRIPTION:
URL:https://www.una.edu.ni/event/exhibicion-de-las-disciplinas-de-taekwondo-masculino-y-femenino/
LOCATION:Universidad Nacional Agraria\, Managua\, km 12 1/2\, Managua\, Nicaragua
CATEGORIES:OTROS
END:VEVENT
BEGIN:VEVENT
DTSTART;TZID=America/Managua:20241217T090000
DTEND;TZID=America/Managua:20241217T120000
DTSTAMP:20260421T112053
CREATED:20241216T191701Z
LAST-MODIFIED:20241216T191701Z
UID:19299-1734426000-1734436800@www.una.edu.ni
SUMMARY:Ponencia “La propiedad intelectual\, una herramienta en la gestión de la innovación y el emprendimiento”
DESCRIPTION:
URL:https://www.una.edu.ni/event/ponencia-la-propiedad-intelectual-una-herramienta-en-la-gestion-de-la-innovacion-y-el-emprendimiento/
LOCATION:Universidad Nacional Agraria\, Managua\, km 12 1/2\, Managua\, Nicaragua
CATEGORIES:PONENCIA
END:VEVENT
BEGIN:VEVENT
DTSTART;TZID=America/Managua:20241217T090000
DTEND;TZID=America/Managua:20241217T120000
DTSTAMP:20260421T112053
CREATED:20241216T191802Z
LAST-MODIFIED:20241216T191802Z
UID:19303-1734426000-1734436800@www.una.edu.ni
SUMMARY:Webinar “Experimentación en empaques creativos y ecológicos”
DESCRIPTION:
URL:https://www.una.edu.ni/event/webinar-experimentacion-en-empaques-creativos-y-ecologicos/
LOCATION:Universidad Nacional Agraria\, Managua\, km 12 1/2\, Managua\, Nicaragua
CATEGORIES:WEBINAR
END:VEVENT
BEGIN:VEVENT
DTSTART;TZID=America/Managua:20241217T090000
DTEND;TZID=America/Managua:20241217T120000
DTSTAMP:20260421T112053
CREATED:20241216T192253Z
LAST-MODIFIED:20241216T192253Z
UID:19309-1734426000-1734436800@www.una.edu.ni
SUMMARY:Taller práctico “Aprovechamiento de granos y plantas con inclusión de hojas de marango”
DESCRIPTION:
URL:https://www.una.edu.ni/event/taller-practico-aprovechamiento-de-granos-y-plantas-con-inclusion-de-hojas-de-marango/
LOCATION:Centro de Desarrollo Moringa Comandante Fidel\, municipio de León\, Nicaragua
CATEGORIES:TALLER
END:VEVENT
BEGIN:VEVENT
DTSTART;TZID=America/Managua:20241217T100000
DTEND;TZID=America/Managua:20241217T120000
DTSTAMP:20260421T112053
CREATED:20241216T190941Z
LAST-MODIFIED:20241216T190941Z
UID:19288-1734429600-1734436800@www.una.edu.ni
SUMMARY:Feria Agropecuaria\, exponiendo resultados en agregación de valor de los cultivos y animales
DESCRIPTION:
URL:https://www.una.edu.ni/event/feria-agropecuaria-exponiendo-resultados-en-agregacion-de-valor-de-los-cultivos-y-animales/
LOCATION:Universidad Nacional Agraria\, Managua\, km 12 1/2\, Managua\, Nicaragua
CATEGORIES:FERIA
END:VEVENT
END:VCALENDAR