BEGIN:VCALENDAR
VERSION:2.0
PRODID:-//Universidad Nacional Agraria - ECPv6.15.20//NONSGML v1.0//EN
CALSCALE:GREGORIAN
METHOD:PUBLISH
X-WR-CALNAME:Universidad Nacional Agraria
X-ORIGINAL-URL:https://www.una.edu.ni
X-WR-CALDESC:Eventos para Universidad Nacional Agraria
REFRESH-INTERVAL;VALUE=DURATION:PT1H
X-Robots-Tag:noindex
X-PUBLISHED-TTL:PT1H
BEGIN:VTIMEZONE
TZID:Europe/Madrid
BEGIN:DAYLIGHT
TZOFFSETFROM:+0100
TZOFFSETTO:+0200
TZNAME:CEST
DTSTART:20230326T010000
END:DAYLIGHT
BEGIN:STANDARD
TZOFFSETFROM:+0200
TZOFFSETTO:+0100
TZNAME:CET
DTSTART:20231029T010000
END:STANDARD
BEGIN:DAYLIGHT
TZOFFSETFROM:+0100
TZOFFSETTO:+0200
TZNAME:CEST
DTSTART:20240331T010000
END:DAYLIGHT
BEGIN:STANDARD
TZOFFSETFROM:+0200
TZOFFSETTO:+0100
TZNAME:CET
DTSTART:20241027T010000
END:STANDARD
BEGIN:DAYLIGHT
TZOFFSETFROM:+0100
TZOFFSETTO:+0200
TZNAME:CEST
DTSTART:20250330T010000
END:DAYLIGHT
BEGIN:STANDARD
TZOFFSETFROM:+0200
TZOFFSETTO:+0100
TZNAME:CET
DTSTART:20251026T010000
END:STANDARD
END:VTIMEZONE
BEGIN:VTIMEZONE
TZID:America/Managua
BEGIN:STANDARD
TZOFFSETFROM:-0600
TZOFFSETTO:-0600
TZNAME:CST
DTSTART:20230101T000000
END:STANDARD
END:VTIMEZONE
BEGIN:VEVENT
DTSTART;TZID=Europe/Madrid:20241216T180000
DTEND;TZID=Europe/Madrid:20241220T200000
DTSTAMP:20260421T120855
CREATED:20241216T191948Z
LAST-MODIFIED:20241216T191948Z
UID:19305-1734372000-1734724800@www.una.edu.ni
SUMMARY:Exhibición de las disciplinas de taekwondo masculino y femenino
DESCRIPTION:
URL:https://www.una.edu.ni/event/exhibicion-de-las-disciplinas-de-taekwondo-masculino-y-femenino/
LOCATION:Universidad Nacional Agraria\, Managua\, km 12 1/2\, Managua\, Nicaragua
CATEGORIES:OTROS
END:VEVENT
BEGIN:VEVENT
DTSTART;TZID=Europe/Madrid:20241220T093000
DTEND;TZID=Europe/Madrid:20241220T120000
DTSTAMP:20260421T120855
CREATED:20241218T143104Z
LAST-MODIFIED:20241218T143104Z
UID:19414-1734687000-1734696000@www.una.edu.ni
SUMMARY:Simposio sobre control de plagas y malezas en cultivos de plátanos\, sandías\, cúrcuma y pipián
DESCRIPTION:
URL:https://www.una.edu.ni/event/simposio-sobre-control-de-plagas-y-malezas-en-cultivos-de-platanos-sandias-curcuma-y-pipian/
LOCATION:Universidad Nacional Agraria\, Managua\, km 12 1/2\, Managua\, Nicaragua
CATEGORIES:Simposio
END:VEVENT
BEGIN:VEVENT
DTSTART;TZID=America/Managua:20241220T100000
DTEND;TZID=America/Managua:20241220T110000
DTSTAMP:20260421T120855
CREATED:20241218T142024Z
LAST-MODIFIED:20241218T142024Z
UID:19406-1734688800-1734692400@www.una.edu.ni
SUMMARY:Ponencia: “La Mediación Pedagógica desde las Ciencias de la Complejidad”
DESCRIPTION:
URL:https://www.una.edu.ni/event/ponencia-la-mediacion-pedagogica-desde-las-ciencias-de-la-complejidad/
LOCATION:Universidad Nacional Agraria\, Managua\, km 12 1/2\, Managua\, Nicaragua
CATEGORIES:PONENCIA
END:VEVENT
BEGIN:VEVENT
DTSTART;TZID=America/Managua:20241220T103000
DTEND;TZID=America/Managua:20241220T120000
DTSTAMP:20260421T120855
CREATED:20241218T142618Z
LAST-MODIFIED:20241218T142618Z
UID:19408-1734690600-1734696000@www.una.edu.ni
SUMMARY:Inauguración de pabellón de aulas en el Centro Regional Camoapa
DESCRIPTION:
URL:https://www.una.edu.ni/event/inauguracion-de-pabellon-de-aulas-en-el-centro-regional-camoapa/
LOCATION:Centro Universitario Regional UNA Camoapa\, Camoapa
CATEGORIES:INAUGURACIÓN
END:VEVENT
END:VCALENDAR