BEGIN:VCALENDAR
VERSION:2.0
PRODID:-//Universidad Nacional Agraria - ECPv6.15.20//NONSGML v1.0//EN
CALSCALE:GREGORIAN
METHOD:PUBLISH
X-ORIGINAL-URL:https://www.una.edu.ni
X-WR-CALDESC:Eventos para Universidad Nacional Agraria
REFRESH-INTERVAL;VALUE=DURATION:PT1H
X-Robots-Tag:noindex
X-PUBLISHED-TTL:PT1H
BEGIN:VTIMEZONE
TZID:Europe/Madrid
BEGIN:DAYLIGHT
TZOFFSETFROM:+0100
TZOFFSETTO:+0200
TZNAME:CEST
DTSTART:20240331T010000
END:DAYLIGHT
BEGIN:STANDARD
TZOFFSETFROM:+0200
TZOFFSETTO:+0100
TZNAME:CET
DTSTART:20241027T010000
END:STANDARD
BEGIN:DAYLIGHT
TZOFFSETFROM:+0100
TZOFFSETTO:+0200
TZNAME:CEST
DTSTART:20250330T010000
END:DAYLIGHT
BEGIN:STANDARD
TZOFFSETFROM:+0200
TZOFFSETTO:+0100
TZNAME:CET
DTSTART:20251026T010000
END:STANDARD
BEGIN:DAYLIGHT
TZOFFSETFROM:+0100
TZOFFSETTO:+0200
TZNAME:CEST
DTSTART:20260329T010000
END:DAYLIGHT
BEGIN:STANDARD
TZOFFSETFROM:+0200
TZOFFSETTO:+0100
TZNAME:CET
DTSTART:20261025T010000
END:STANDARD
END:VTIMEZONE
BEGIN:VEVENT
DTSTART;TZID=Europe/Madrid:20250118T090000
DTEND;TZID=Europe/Madrid:20250118T120000
DTSTAMP:20260421T133300
CREATED:20250117T194802Z
LAST-MODIFIED:20250117T194802Z
UID:19767-1737190800-1737201600@www.una.edu.ni
SUMMARY:Primera graduación de Curso Manejo y conservación de la flora\, con estudiantes de Universidad en El Campo El Cuá\, conmemorando el natalicio del Príncipe de las letras castellanas Rubén Darío
DESCRIPTION:
URL:https://www.una.edu.ni/event/primera-graduacion-de-curso-manejo-y-conservacion-de-la-flora-con-estudiantes-de-universidad-en-el-campo-el-cua-conmemorando-el-natalicio-del-principe-de-las-letras-castellanas-ruben-dario/
LOCATION:El Cuá\, Jinotega\, Nicaragua
CATEGORIES:OTROS
END:VEVENT
BEGIN:VEVENT
DTSTART;TZID=Europe/Madrid:20250118T090000
DTEND;TZID=Europe/Madrid:20250118T170000
DTSTAMP:20260421T133300
CREATED:20250117T194632Z
LAST-MODIFIED:20250117T194632Z
UID:19764-1737190800-1737219600@www.una.edu.ni
SUMMARY:Inicio de clases de estudiantes de segundo a quinto año de todas las carreras de la universidad de la modalidad sabatino en saludo al Natalicio de nuestro Poeta universal Rubén Darío
DESCRIPTION:
URL:https://www.una.edu.ni/event/inicio-de-clases-de-estudiantes-de-segundo-a-quinto-ano-de-todas-las-carreras-de-la-universidad-de-la-modalidad-sabatino-en-saludo-al-natalicio-de-nuestro-poeta-universal-ruben-dario/
LOCATION:Centro Universitario Regional UNA Camoapa\, Camoapa
CATEGORIES:OTROS
END:VEVENT
BEGIN:VEVENT
DTSTART;TZID=Europe/Madrid:20250118T110000
DTEND;TZID=Europe/Madrid:20250118T140000
DTSTAMP:20260421T133300
CREATED:20250117T195120Z
LAST-MODIFIED:20250117T195120Z
UID:19774-1737198000-1737208800@www.una.edu.ni
SUMMARY:Festival de lectura “Cantos de Vida y Esperanza”
DESCRIPTION:
URL:https://www.una.edu.ni/event/festival-de-lectura-cantos-de-vida-y-esperanza/
LOCATION:Universidad Nacional Agraria\, Managua\, km 12 1/2\, Managua\, Nicaragua
CATEGORIES:FESTIVAL
END:VEVENT
END:VCALENDAR