BEGIN:VCALENDAR
VERSION:2.0
PRODID:-//Universidad Nacional Agraria - ECPv6.15.20//NONSGML v1.0//EN
CALSCALE:GREGORIAN
METHOD:PUBLISH
X-ORIGINAL-URL:https://www.una.edu.ni
X-WR-CALDESC:Eventos para Universidad Nacional Agraria
REFRESH-INTERVAL;VALUE=DURATION:PT1H
X-Robots-Tag:noindex
X-PUBLISHED-TTL:PT1H
BEGIN:VTIMEZONE
TZID:America/Managua
BEGIN:STANDARD
TZOFFSETFROM:-0600
TZOFFSETTO:-0600
TZNAME:CST
DTSTART:20240101T000000
END:STANDARD
END:VTIMEZONE
BEGIN:VTIMEZONE
TZID:Europe/Madrid
BEGIN:DAYLIGHT
TZOFFSETFROM:+0100
TZOFFSETTO:+0200
TZNAME:CEST
DTSTART:20240331T010000
END:DAYLIGHT
BEGIN:STANDARD
TZOFFSETFROM:+0200
TZOFFSETTO:+0100
TZNAME:CET
DTSTART:20241027T010000
END:STANDARD
BEGIN:DAYLIGHT
TZOFFSETFROM:+0100
TZOFFSETTO:+0200
TZNAME:CEST
DTSTART:20250330T010000
END:DAYLIGHT
BEGIN:STANDARD
TZOFFSETFROM:+0200
TZOFFSETTO:+0100
TZNAME:CET
DTSTART:20251026T010000
END:STANDARD
BEGIN:DAYLIGHT
TZOFFSETFROM:+0100
TZOFFSETTO:+0200
TZNAME:CEST
DTSTART:20260329T010000
END:DAYLIGHT
BEGIN:STANDARD
TZOFFSETFROM:+0200
TZOFFSETTO:+0100
TZNAME:CET
DTSTART:20261025T010000
END:STANDARD
END:VTIMEZONE
BEGIN:VEVENT
DTSTART;TZID=America/Managua:20250123T090000
DTEND;TZID=America/Managua:20250123T120000
DTSTAMP:20260421T133300
CREATED:20250121T225005Z
LAST-MODIFIED:20250121T225005Z
UID:19960-1737622800-1737633600@www.una.edu.ni
SUMMARY:Simposio “Pensamiento lógico para el desarrollo de la creatividad y la innovación”
DESCRIPTION:
URL:https://www.una.edu.ni/event/simposio-pensamiento-logico-para-el-desarrollo-de-la-creatividad-y-la-innovacion/
LOCATION:Universidad Nacional Agraria\, Managua\, km 12 1/2\, Managua\, Nicaragua
CATEGORIES:Simposio
END:VEVENT
BEGIN:VEVENT
DTSTART;TZID=Europe/Madrid:20250123T100000
DTEND;TZID=Europe/Madrid:20250123T120000
DTSTAMP:20260421T133300
CREATED:20250118T165736Z
LAST-MODIFIED:20250118T165736Z
UID:19789-1737626400-1737633600@www.una.edu.ni
SUMMARY:Presentación sobre Manual de Uso y Manejo de instrumentos de medición forestal a docentes
DESCRIPTION:
URL:https://www.una.edu.ni/event/presentacion-sobre-manual-de-uso-y-manejo-de-instrumentos-de-medicion-forestal-a-docentes/
LOCATION:Universidad Nacional Agraria\, Managua\, km 12 1/2\, Managua\, Nicaragua
CATEGORIES:PRESENTACIÓN
END:VEVENT
BEGIN:VEVENT
DTSTART;TZID=Europe/Madrid:20250123T100000
DTEND;TZID=Europe/Madrid:20250123T120000
DTSTAMP:20260421T133300
CREATED:20250121T225205Z
LAST-MODIFIED:20250121T225205Z
UID:19962-1737626400-1737633600@www.una.edu.ni
SUMMARY:Taller virtual “Administración Financiera en la producción porcina”
DESCRIPTION:
URL:https://www.una.edu.ni/event/taller-virtual-administracion-financiera-en-la-produccion-porcina/
LOCATION:Universidad Nacional Agraria\, Managua\, km 12 1/2\, Managua\, Nicaragua
CATEGORIES:TALLER
END:VEVENT
END:VCALENDAR