BEGIN:VCALENDAR
VERSION:2.0
PRODID:-//Universidad Nacional Agraria - ECPv6.15.20//NONSGML v1.0//EN
CALSCALE:GREGORIAN
METHOD:PUBLISH
X-ORIGINAL-URL:https://www.una.edu.ni
X-WR-CALDESC:Eventos para Universidad Nacional Agraria
REFRESH-INTERVAL;VALUE=DURATION:PT1H
X-Robots-Tag:noindex
X-PUBLISHED-TTL:PT1H
BEGIN:VTIMEZONE
TZID:America/Managua
BEGIN:STANDARD
TZOFFSETFROM:-0600
TZOFFSETTO:-0600
TZNAME:CST
DTSTART:20240101T000000
END:STANDARD
END:VTIMEZONE
BEGIN:VEVENT
DTSTART;TZID=America/Managua:20250124T083000
DTEND;TZID=America/Managua:20250124T120000
DTSTAMP:20260421T133301
CREATED:20250122T192717Z
LAST-MODIFIED:20250122T192717Z
UID:19990-1737707400-1737720000@www.una.edu.ni
SUMMARY:Sesión de trabajo y capacitación para la actualización procesos administrativos para el buen uso de los bienes y recursos del estado
DESCRIPTION:
URL:https://www.una.edu.ni/event/sesion-de-trabajo-y-capacitacion-para-la-actualizacion-procesos-administrativos-para-el-buen-uso-de-los-bienes-y-recursos-del-estado/
LOCATION:Centro Universitario Regional UNA Camoapa\, Camoapa
CATEGORIES:OTROS
END:VEVENT
BEGIN:VEVENT
DTSTART;TZID=America/Managua:20250124T090000
DTEND;TZID=America/Managua:20250124T120000
DTSTAMP:20260421T133301
CREATED:20250122T175007Z
LAST-MODIFIED:20250122T175007Z
UID:19983-1737709200-1737720000@www.una.edu.ni
SUMMARY:Inauguración de Viveros de semillas de pasto y leguminosas para la creación de bancos de proteínas para la alimentación de ganado bovino en celebración del Día Internacional de la Educación Ambiental
DESCRIPTION:
URL:https://www.una.edu.ni/event/inauguracion-de-viveros-de-semillas-de-pasto-y-leguminosas-para-la-creacion-de-bancos-de-proteinas-para-la-alimentacion-de-ganado-bovino-en-celebracion-del-dia-internacional-de-la-educacion-ambient/
LOCATION:Universidad Nacional Agraria\, Managua\, km 12 1/2\, Managua\, Nicaragua
CATEGORIES:INAUGURACIÓN
END:VEVENT
BEGIN:VEVENT
DTSTART;TZID=America/Managua:20250124T100000
DTEND;TZID=America/Managua:20250124T120000
DTSTAMP:20260421T133301
CREATED:20250121T225315Z
LAST-MODIFIED:20250121T225315Z
UID:19964-1737712800-1737720000@www.una.edu.ni
SUMMARY:Ponencia “Políticas públicas y estrategias de desarrollo en el sector agropecuario y forestal”
DESCRIPTION:
URL:https://www.una.edu.ni/event/ponencia-politicas-publicas-y-estrategias-de-desarrollo-en-el-sector-agropecuario-y-forestal/
LOCATION:Programa de formación integral a privados de libertad – Tipitapa\, Nicaragua
CATEGORIES:PONENCIA
END:VEVENT
END:VCALENDAR