BEGIN:VCALENDAR
VERSION:2.0
PRODID:-//Universidad Nacional Agraria - ECPv6.15.20//NONSGML v1.0//EN
CALSCALE:GREGORIAN
METHOD:PUBLISH
X-ORIGINAL-URL:https://www.una.edu.ni
X-WR-CALDESC:Eventos para Universidad Nacional Agraria
REFRESH-INTERVAL;VALUE=DURATION:PT1H
X-Robots-Tag:noindex
X-PUBLISHED-TTL:PT1H
BEGIN:VTIMEZONE
TZID:Europe/Madrid
BEGIN:DAYLIGHT
TZOFFSETFROM:+0100
TZOFFSETTO:+0200
TZNAME:CEST
DTSTART:20240331T010000
END:DAYLIGHT
BEGIN:STANDARD
TZOFFSETFROM:+0200
TZOFFSETTO:+0100
TZNAME:CET
DTSTART:20241027T010000
END:STANDARD
BEGIN:DAYLIGHT
TZOFFSETFROM:+0100
TZOFFSETTO:+0200
TZNAME:CEST
DTSTART:20250330T010000
END:DAYLIGHT
BEGIN:STANDARD
TZOFFSETFROM:+0200
TZOFFSETTO:+0100
TZNAME:CET
DTSTART:20251026T010000
END:STANDARD
BEGIN:DAYLIGHT
TZOFFSETFROM:+0100
TZOFFSETTO:+0200
TZNAME:CEST
DTSTART:20260329T010000
END:DAYLIGHT
BEGIN:STANDARD
TZOFFSETFROM:+0200
TZOFFSETTO:+0100
TZNAME:CET
DTSTART:20261025T010000
END:STANDARD
END:VTIMEZONE
BEGIN:VTIMEZONE
TZID:America/Managua
BEGIN:STANDARD
TZOFFSETFROM:-0600
TZOFFSETTO:-0600
TZNAME:CST
DTSTART:20240101T000000
END:STANDARD
END:VTIMEZONE
BEGIN:VEVENT
DTSTART;TZID=Europe/Madrid:20250204T080000
DTEND;TZID=Europe/Madrid:20250204T120000
DTSTAMP:20260421T150645
CREATED:20250204T142211Z
LAST-MODIFIED:20250204T142211Z
UID:20770-1738656000-1738670400@www.una.edu.ni
SUMMARY:Taller práctico “uso adecuado de plantas medicinales”
DESCRIPTION:
URL:https://www.una.edu.ni/event/taller-practico-uso-adecuado-de-plantas-medicinales/
LOCATION:Centro de Desarrollo Moringa Comandante Fidel\, municipio de León\, Nicaragua
CATEGORIES:TALLER
END:VEVENT
BEGIN:VEVENT
DTSTART;TZID=America/Managua:20250204T083000
DTEND;TZID=America/Managua:20250204T120000
DTSTAMP:20260421T150645
CREATED:20250204T141921Z
LAST-MODIFIED:20250204T141921Z
UID:20764-1738657800-1738670400@www.una.edu.ni
SUMMARY:Curso sobre procesamiento y transformación de leche en diferentes tipos de quesos y otros subproductos
DESCRIPTION:
URL:https://www.una.edu.ni/event/curso-sobre-procesamiento-y-transformacion-de-leche-en-diferentes-tipos-de-quesos-y-otros-subproductos/
LOCATION:Universidad Nacional Agraria\, Managua\, km 12 1/2\, Managua\, Nicaragua
CATEGORIES:CURSO
END:VEVENT
BEGIN:VEVENT
DTSTART;TZID=America/Managua:20250204T090000
DTEND;TZID=America/Managua:20250204T120000
DTSTAMP:20260421T150645
CREATED:20250204T142012Z
LAST-MODIFIED:20250204T142012Z
UID:20766-1738659600-1738670400@www.una.edu.ni
SUMMARY:Curso a productores “Mejoramiento genético en frijol con adaptación al cambio climático en Nicaragua”
DESCRIPTION:
URL:https://www.una.edu.ni/event/curso-a-productores-mejoramiento-genetico-en-frijol-con-adaptacion-al-cambio-climatico-en-nicaragua/
LOCATION:Universidad Nacional Agraria\, Managua\, km 12 1/2\, Managua\, Nicaragua
CATEGORIES:CURSO
END:VEVENT
BEGIN:VEVENT
DTSTART;TZID=America/Managua:20250204T090000
DTEND;TZID=America/Managua:20250204T120000
DTSTAMP:20260421T150645
CREATED:20250204T142423Z
LAST-MODIFIED:20250204T142423Z
UID:20775-1738659600-1738670400@www.una.edu.ni
SUMMARY:Conversatorio conmemorativo a la gesta heroica e historia revolucionaria del Frente Sandinista de Liberación Nacional
DESCRIPTION:
URL:https://www.una.edu.ni/event/conversatorio-conmemorativo-a-la-gesta-heroica-e-historia-revolucionaria-del-frente-sandinista-de-liberacion-nacional/
LOCATION:Universidad Nacional Agraria\, Managua\, km 12 1/2\, Managua\, Nicaragua
CATEGORIES:CONVERSATORIO
END:VEVENT
BEGIN:VEVENT
DTSTART;TZID=America/Managua:20250204T110000
DTEND;TZID=America/Managua:20250204T133000
DTSTAMP:20260421T150645
CREATED:20250204T141526Z
LAST-MODIFIED:20250204T141526Z
UID:20756-1738666800-1738675800@www.una.edu.ni
SUMMARY:Inicio de Curso sobre Manejo sanitario de la vaca lechera y el ternero
DESCRIPTION:
URL:https://www.una.edu.ni/event/inicio-de-curso-sobre-manejo-sanitario-de-la-vaca-lechera-y-el-ternero/
LOCATION:El Cobano\, Juigalpa\, Nicaragua
CATEGORIES:CURSO
END:VEVENT
END:VCALENDAR