BEGIN:VCALENDAR
VERSION:2.0
PRODID:-//Universidad Nacional Agraria - ECPv6.15.20//NONSGML v1.0//EN
CALSCALE:GREGORIAN
METHOD:PUBLISH
X-WR-CALNAME:Universidad Nacional Agraria
X-ORIGINAL-URL:https://www.una.edu.ni
X-WR-CALDESC:Eventos para Universidad Nacional Agraria
REFRESH-INTERVAL;VALUE=DURATION:PT1H
X-Robots-Tag:noindex
X-PUBLISHED-TTL:PT1H
BEGIN:VTIMEZONE
TZID:America/Managua
BEGIN:STANDARD
TZOFFSETFROM:-0600
TZOFFSETTO:-0600
TZNAME:CST
DTSTART:20240101T000000
END:STANDARD
END:VTIMEZONE
BEGIN:VTIMEZONE
TZID:Europe/Madrid
BEGIN:DAYLIGHT
TZOFFSETFROM:+0100
TZOFFSETTO:+0200
TZNAME:CEST
DTSTART:20240331T010000
END:DAYLIGHT
BEGIN:STANDARD
TZOFFSETFROM:+0200
TZOFFSETTO:+0100
TZNAME:CET
DTSTART:20241027T010000
END:STANDARD
BEGIN:DAYLIGHT
TZOFFSETFROM:+0100
TZOFFSETTO:+0200
TZNAME:CEST
DTSTART:20250330T010000
END:DAYLIGHT
BEGIN:STANDARD
TZOFFSETFROM:+0200
TZOFFSETTO:+0100
TZNAME:CET
DTSTART:20251026T010000
END:STANDARD
BEGIN:DAYLIGHT
TZOFFSETFROM:+0100
TZOFFSETTO:+0200
TZNAME:CEST
DTSTART:20260329T010000
END:DAYLIGHT
BEGIN:STANDARD
TZOFFSETFROM:+0200
TZOFFSETTO:+0100
TZNAME:CET
DTSTART:20261025T010000
END:STANDARD
END:VTIMEZONE
BEGIN:VEVENT
DTSTART;TZID=America/Managua:20250210T080000
DTEND;TZID=America/Managua:20250210T170000
DTSTAMP:20260421T221002
CREATED:20250207T221926Z
LAST-MODIFIED:20250207T221926Z
UID:21166-1739174400-1739206800@www.una.edu.ni
SUMMARY:Inicio del año académico 2025 para todas las carreras
DESCRIPTION:
URL:https://www.una.edu.ni/event/inicio-del-ano-academico-2025-para-todas-las-carreras/
LOCATION:Universidad Nacional Agraria\, Managua\, km 12 1/2\, Managua\, Nicaragua
CATEGORIES:OTROS
END:VEVENT
BEGIN:VEVENT
DTSTART;TZID=Europe/Madrid:20250210T083000
DTEND;TZID=Europe/Madrid:20250210T120000
DTSTAMP:20260421T221002
CREATED:20250207T222056Z
LAST-MODIFIED:20250207T222056Z
UID:21168-1739176200-1739188800@www.una.edu.ni
SUMMARY:Festival Agrario “Juegos Vaqueros” dando inicio al ciclo académico 2025
DESCRIPTION:
URL:https://www.una.edu.ni/event/festival-agrario-juegos-vaqueros-dando-inicio-al-ciclo-academico-2025/
LOCATION:Universidad Nacional Agraria\, Managua\, km 12 1/2\, Managua\, Nicaragua
CATEGORIES:FESTIVAL
END:VEVENT
BEGIN:VEVENT
DTSTART;TZID=America/Managua:20250210T083000
DTEND;TZID=America/Managua:20250210T120000
DTSTAMP:20260421T221002
CREATED:20250207T222714Z
LAST-MODIFIED:20250207T222714Z
UID:21174-1739176200-1739188800@www.una.edu.ni
SUMMARY:Capacitación sobre “Prevención de Enfermedades en Bovinos: La Importancia del Manejo Adecuado de Vacunas”
DESCRIPTION:
URL:https://www.una.edu.ni/event/capacitacion-sobre-prevencion-de-enfermedades-en-bovinos-la-importancia-del-manejo-adecuado-de-vacunas/
LOCATION:Centro de Práctica Bovino. UNA Managua\, Nicaragua
CATEGORIES:CAPACITACION
END:VEVENT
BEGIN:VEVENT
DTSTART;TZID=America/Managua:20250210T180000
DTEND;TZID=America/Managua:20250210T190000
DTSTAMP:20260421T221002
CREATED:20250207T223045Z
LAST-MODIFIED:20250207T223045Z
UID:21179-1739210400-1739214000@www.una.edu.ni
SUMMARY:Asamblea con becados internos
DESCRIPTION:
URL:https://www.una.edu.ni/event/asamblea-con-becados-internos/
LOCATION:Universidad Nacional Agraria\, Managua\, km 12 1/2\, Managua\, Nicaragua
CATEGORIES:OTROS
END:VEVENT
END:VCALENDAR