BEGIN:VCALENDAR
VERSION:2.0
PRODID:-//Universidad Nacional Agraria - ECPv6.15.20//NONSGML v1.0//EN
CALSCALE:GREGORIAN
METHOD:PUBLISH
X-WR-CALNAME:Universidad Nacional Agraria
X-ORIGINAL-URL:https://www.una.edu.ni
X-WR-CALDESC:Eventos para Universidad Nacional Agraria
REFRESH-INTERVAL;VALUE=DURATION:PT1H
X-Robots-Tag:noindex
X-PUBLISHED-TTL:PT1H
BEGIN:VTIMEZONE
TZID:America/Managua
BEGIN:STANDARD
TZOFFSETFROM:-0600
TZOFFSETTO:-0600
TZNAME:CST
DTSTART:20240101T000000
END:STANDARD
END:VTIMEZONE
BEGIN:VTIMEZONE
TZID:Europe/Madrid
BEGIN:DAYLIGHT
TZOFFSETFROM:+0100
TZOFFSETTO:+0200
TZNAME:CEST
DTSTART:20240331T010000
END:DAYLIGHT
BEGIN:STANDARD
TZOFFSETFROM:+0200
TZOFFSETTO:+0100
TZNAME:CET
DTSTART:20241027T010000
END:STANDARD
BEGIN:DAYLIGHT
TZOFFSETFROM:+0100
TZOFFSETTO:+0200
TZNAME:CEST
DTSTART:20250330T010000
END:DAYLIGHT
BEGIN:STANDARD
TZOFFSETFROM:+0200
TZOFFSETTO:+0100
TZNAME:CET
DTSTART:20251026T010000
END:STANDARD
BEGIN:DAYLIGHT
TZOFFSETFROM:+0100
TZOFFSETTO:+0200
TZNAME:CEST
DTSTART:20260329T010000
END:DAYLIGHT
BEGIN:STANDARD
TZOFFSETFROM:+0200
TZOFFSETTO:+0100
TZNAME:CET
DTSTART:20261025T010000
END:STANDARD
END:VTIMEZONE
BEGIN:VEVENT
DTSTART;TZID=America/Managua:20250226T080000
DTEND;TZID=America/Managua:20250226T120000
DTSTAMP:20260421T221001
CREATED:20250224T204020Z
LAST-MODIFIED:20250224T204020Z
UID:21346-1740556800-1740571200@www.una.edu.ni
SUMMARY:Conferencia Situación actual de la Influenza Aviar en Nicaragua: “Acciones sanitarias para la prevención”
DESCRIPTION:
URL:https://www.una.edu.ni/event/conferencia-situacion-actual-de-la-influenza-aviar-en-nicaragua-acciones-sanitarias-para-la-prevencion/
LOCATION:Universidad Nacional Agraria\, Managua\, km 12 1/2\, Managua\, Nicaragua
CATEGORIES:CONFERENCIA
END:VEVENT
BEGIN:VEVENT
DTSTART;TZID=America/Managua:20250226T080000
DTEND;TZID=America/Managua:20250226T120000
DTSTAMP:20260421T221001
CREATED:20250226T142444Z
LAST-MODIFIED:20250226T142444Z
UID:21446-1740556800-1740571200@www.una.edu.ni
SUMMARY:Mañana recreativa y ambiental\, con estudiantes de nuevo ingreso de la Dirección de Ciencias Ambientales y Cambio Climático
DESCRIPTION:
URL:https://www.una.edu.ni/event/manana-recreativa-y-ambiental-con-estudiantes-de-nuevo-ingreso-de-la-direccion-de-ciencias-ambientales-y-cambio-climatico/
LOCATION:Universidad Nacional Agraria\, Managua\, km 12 1/2\, Managua\, Nicaragua
CATEGORIES:OTROS
END:VEVENT
BEGIN:VEVENT
DTSTART;TZID=Europe/Madrid:20250226T080000
DTEND;TZID=Europe/Madrid:20250226T170000
DTSTAMP:20260421T221001
CREATED:20250224T203234Z
LAST-MODIFIED:20250224T203234Z
UID:21324-1740556800-1740589200@www.una.edu.ni
SUMMARY:Encuentro agroindustrial en conmemoración al 47 aniversario de la gesta heroica de los Sabogales
DESCRIPTION:
URL:https://www.una.edu.ni/event/encuentro-agroindustrial-en-conmemoracion-al-47-aniversario-de-la-gesta-heroica-de-los-sabogales/
LOCATION:Universidad Internacional Antonio de Valdivieso\, Rivas\, Rivas\, Nicaragua
CATEGORIES:OTROS
END:VEVENT
BEGIN:VEVENT
DTSTART;TZID=America/Managua:20250226T083000
DTEND;TZID=America/Managua:20250226T120000
DTSTAMP:20260421T221001
CREATED:20250225T143732Z
LAST-MODIFIED:20250225T143732Z
UID:21393-1740558600-1740571200@www.una.edu.ni
SUMMARY:Conversatorio “Fármacos de uso veterinario y sus vías de aplicación“
DESCRIPTION:
URL:https://www.una.edu.ni/event/conversatorio-farmacos-de-uso-veterinario-y-sus-vias-de-aplicacion/
LOCATION:Universidad Nacional Agraria\, Managua\, km 12 1/2\, Managua\, Nicaragua
CATEGORIES:CONVERSATORIO
END:VEVENT
BEGIN:VEVENT
DTSTART;TZID=America/Managua:20250226T090000
DTEND;TZID=America/Managua:20250226T120000
DTSTAMP:20260421T221001
CREATED:20250225T144103Z
LAST-MODIFIED:20250225T144103Z
UID:21397-1740560400-1740571200@www.una.edu.ni
SUMMARY:Intercambio de experiencias con productores sobre alternativas de propagación del tomate mediante esquejes\, claves para un enraizamiento exitoso
DESCRIPTION:
URL:https://www.una.edu.ni/event/intercambio-de-experiencias-con-productores-sobre-alternativas-de-propagacion-del-tomate-mediante-esquejes-claves-para-un-enraizamiento-exitoso/
LOCATION:Universidad Nacional Agraria\, Managua\, km 12 1/2\, Managua\, Nicaragua
CATEGORIES:OTROS
END:VEVENT
BEGIN:VEVENT
DTSTART;TZID=America/Managua:20250226T100000
DTEND;TZID=America/Managua:20250226T120000
DTSTAMP:20260421T221001
CREATED:20250224T203553Z
LAST-MODIFIED:20250224T203553Z
UID:21335-1740564000-1740571200@www.una.edu.ni
SUMMARY:Lanzamiento de Escuela de producción de cacao
DESCRIPTION:
URL:https://www.una.edu.ni/event/lanzamiento-de-escuela-de-produccion-de-cacao/
LOCATION:UNICAM El Ayote\, Juigalpa\, Nicaragua
CATEGORIES:LANZAMIENTO
END:VEVENT
BEGIN:VEVENT
DTSTART;TZID=America/Managua:20250226T130000
DTEND;TZID=America/Managua:20250226T170000
DTSTAMP:20260421T221001
CREATED:20250224T203920Z
LAST-MODIFIED:20250224T203920Z
UID:21344-1740574800-1740589200@www.una.edu.ni
SUMMARY:Simposio “Tecnologías en la Innovación Agropecuaria: Transformando la Agricultura con Herramientas Digitales”
DESCRIPTION:
URL:https://www.una.edu.ni/event/simposio-tecnologias-en-la-innovacion-agropecuaria-transformando-la-agricultura-con-herramientas-digitales/
LOCATION:Universidad Nacional Agraria\, Managua\, km 12 1/2\, Managua\, Nicaragua
CATEGORIES:Simposio
END:VEVENT
BEGIN:VEVENT
DTSTART;TZID=America/Managua:20250226T130000
DTEND;TZID=America/Managua:20250226T170000
DTSTAMP:20260421T221001
CREATED:20250225T144634Z
LAST-MODIFIED:20250225T144634Z
UID:21403-1740574800-1740589200@www.una.edu.ni
SUMMARY:Expo feria de proyectos agrícolas para la mejora de la producción sostenible ante los efectos del cambio climático
DESCRIPTION:
URL:https://www.una.edu.ni/event/expo-feria-de-proyectos-agricolas-para-la-mejora-de-la-produccion-sostenible-ante-los-efectos-del-cambio-climatico/
LOCATION:Universidad Nacional Agraria\, Managua\, km 12 1/2\, Managua\, Nicaragua
CATEGORIES:OTROS
END:VEVENT
END:VCALENDAR