BEGIN:VCALENDAR
VERSION:2.0
PRODID:-//Universidad Nacional Agraria - ECPv6.15.20//NONSGML v1.0//EN
CALSCALE:GREGORIAN
METHOD:PUBLISH
X-ORIGINAL-URL:https://www.una.edu.ni
X-WR-CALDESC:Eventos para Universidad Nacional Agraria
REFRESH-INTERVAL;VALUE=DURATION:PT1H
X-Robots-Tag:noindex
X-PUBLISHED-TTL:PT1H
BEGIN:VTIMEZONE
TZID:America/Managua
BEGIN:STANDARD
TZOFFSETFROM:-0600
TZOFFSETTO:-0600
TZNAME:CST
DTSTART:20240101T000000
END:STANDARD
END:VTIMEZONE
BEGIN:VEVENT
DTSTART;TZID=America/Managua:20250302T090000
DTEND;TZID=America/Managua:20250302T120000
DTSTAMP:20260421T150644
CREATED:20250228T202831Z
LAST-MODIFIED:20250228T202831Z
UID:21740-1740906000-1740916800@www.una.edu.ni
SUMMARY:Segundo Encuentro del Curso práctico Manejo Nutricional para ganado bovino en época seca
DESCRIPTION:
URL:https://www.una.edu.ni/event/segundo-encuentro-del-curso-practico-manejo-nutricional-para-ganado-bovino-en-epoca-seca/
LOCATION:CENSYRA\, El Rama\, Nicaragua
CATEGORIES:ENCUENTRO
END:VEVENT
END:VCALENDAR