BEGIN:VCALENDAR
VERSION:2.0
PRODID:-//Universidad Nacional Agraria - ECPv6.15.20//NONSGML v1.0//EN
CALSCALE:GREGORIAN
METHOD:PUBLISH
X-ORIGINAL-URL:https://www.una.edu.ni
X-WR-CALDESC:Eventos para Universidad Nacional Agraria
REFRESH-INTERVAL;VALUE=DURATION:PT1H
X-Robots-Tag:noindex
X-PUBLISHED-TTL:PT1H
BEGIN:VTIMEZONE
TZID:America/Managua
BEGIN:STANDARD
TZOFFSETFROM:-0600
TZOFFSETTO:-0600
TZNAME:CST
DTSTART:20240101T000000
END:STANDARD
END:VTIMEZONE
BEGIN:VEVENT
DTSTART;TZID=America/Managua:20250303T080000
DTEND;TZID=America/Managua:20250303T120000
DTSTAMP:20260422T071218
CREATED:20250303T171600Z
LAST-MODIFIED:20250303T171600Z
UID:21778-1740988800-1741003200@www.una.edu.ni
SUMMARY:Elaboración de concentrado en aves\, cerdos y bovinos
DESCRIPTION:
URL:https://www.una.edu.ni/event/elaboracion-de-concentrado-en-aves-cerdos-y-bovinos/
LOCATION:Centro Universitario Regional UNA Juigalpa\, Juigapa
CATEGORIES:OTROS
END:VEVENT
BEGIN:VEVENT
DTSTART;TZID=America/Managua:20250303T090000
DTEND;TZID=America/Managua:20250303T120000
DTSTAMP:20260422T071218
CREATED:20250303T173636Z
LAST-MODIFIED:20250303T173636Z
UID:21803-1740992400-1741003200@www.una.edu.ni
SUMMARY:Jornada ambientalista y de reforestación
DESCRIPTION:
URL:https://www.una.edu.ni/event/jornada-ambientalista-y-de-reforestacion/
LOCATION:Vivero Arlen Siu\, CUR UNA Juigalpa\, Nicaragua
CATEGORIES:JORNADA
END:VEVENT
BEGIN:VEVENT
DTSTART;TZID=America/Managua:20250303T130000
DTEND;TZID=America/Managua:20250303T150000
DTSTAMP:20260422T071218
CREATED:20250303T172150Z
LAST-MODIFIED:20250303T172150Z
UID:21786-1741006800-1741014000@www.una.edu.ni
SUMMARY:Conferencia "Metabolismo de las proteínas\, clasificación e importancia bioquímica para los Animales"
DESCRIPTION:
URL:https://www.una.edu.ni/event/conferencia-metabolismo-de-las-proteinas-clasificacion-e-importancia-bioquimica-para-los-animales/
LOCATION:Universidad Nacional Agraria\, Managua\, km 12 1/2\, Managua\, Nicaragua
CATEGORIES:CONFERENCIA
END:VEVENT
BEGIN:VEVENT
DTSTART;TZID=America/Managua:20250303T130000
DTEND;TZID=America/Managua:20250303T170000
DTSTAMP:20260422T071218
CREATED:20250303T171912Z
LAST-MODIFIED:20250303T171912Z
UID:21782-1741006800-1741021200@www.una.edu.ni
SUMMARY:Diplomado para productores “Manejo y sostenibilidad del cultivo de quequisque”
DESCRIPTION:
URL:https://www.una.edu.ni/event/diplomado-para-productores-manejo-y-sostenibilidad-del-cultivo-de-quequisque/
LOCATION:Universidad Nacional Agraria\, Managua\, km 12 1/2\, Managua\, Nicaragua
CATEGORIES:DIPLOMADO
END:VEVENT
BEGIN:VEVENT
DTSTART;TZID=America/Managua:20250303T170000
DTEND;TZID=America/Managua:20250303T180000
DTSTAMP:20260422T071218
CREATED:20250303T173458Z
LAST-MODIFIED:20250303T173458Z
UID:21801-1741021200-1741024800@www.una.edu.ni
SUMMARY:Inauguración de Torneos Estudiantiles de Fútbol campo y Béisbol
DESCRIPTION:
URL:https://www.una.edu.ni/event/inauguracion-de-torneos-estudiantiles-de-futbol-campo-y-beisbol/
LOCATION:Universidad Nacional Agraria\, Managua\, km 12 1/2\, Managua\, Nicaragua
CATEGORIES:INAUGURACIÓN
END:VEVENT
END:VCALENDAR