BEGIN:VCALENDAR
VERSION:2.0
PRODID:-//Universidad Nacional Agraria - ECPv6.15.20//NONSGML v1.0//EN
CALSCALE:GREGORIAN
METHOD:PUBLISH
X-ORIGINAL-URL:https://www.una.edu.ni
X-WR-CALDESC:Eventos para Universidad Nacional Agraria
REFRESH-INTERVAL;VALUE=DURATION:PT1H
X-Robots-Tag:noindex
X-PUBLISHED-TTL:PT1H
BEGIN:VTIMEZONE
TZID:America/Managua
BEGIN:STANDARD
TZOFFSETFROM:-0600
TZOFFSETTO:-0600
TZNAME:CST
DTSTART:20240101T000000
END:STANDARD
END:VTIMEZONE
BEGIN:VEVENT
DTSTART;TZID=America/Managua:20250306T080000
DTEND;TZID=America/Managua:20250306T120000
DTSTAMP:20260422T071220
CREATED:20250305T153154Z
LAST-MODIFIED:20250305T153154Z
UID:21865-1741248000-1741262400@www.una.edu.ni
SUMMARY:Taller práctico con productores y emprendedores sobre Elaboración de sustratos para el establecimiento de viveros forestales
DESCRIPTION:
URL:https://www.una.edu.ni/event/taller-practico-con-productores-y-emprendedores-sobre-elaboracion-de-sustratos-para-el-establecimiento-de-viveros-forestales/
LOCATION:Escuela Mixta San Lorenzo\, Boaco\, Nicaragua
CATEGORIES:TALLER
END:VEVENT
BEGIN:VEVENT
DTSTART;TZID=America/Managua:20250306T080000
DTEND;TZID=America/Managua:20250306T120000
DTSTAMP:20260422T071220
CREATED:20250305T153343Z
LAST-MODIFIED:20250305T153343Z
UID:21868-1741248000-1741262400@www.una.edu.ni
SUMMARY:Taller práctico con productores y emprendedores sobre Establecimiento de parcela demostrativa de variedades del cultivo de tomate
DESCRIPTION:
URL:https://www.una.edu.ni/event/taller-practico-con-productores-y-emprendedores-sobre-establecimiento-de-parcela-demostrativa-de-variedades-del-cultivo-de-tomate/
LOCATION:La Reyna\, Boaco\, Nicaragua
CATEGORIES:TALLER
END:VEVENT
BEGIN:VEVENT
DTSTART;TZID=America/Managua:20250306T090000
DTEND;TZID=America/Managua:20250306T120000
DTSTAMP:20260422T071220
CREATED:20250303T171744Z
LAST-MODIFIED:20250303T171744Z
UID:21780-1741251600-1741262400@www.una.edu.ni
SUMMARY:Encuentro de mujeres emprendedoras y líderes universitarias\, en conmemoración del Día Internacional de la Mujer
DESCRIPTION:
URL:https://www.una.edu.ni/event/encuentro-de-mujeres-emprendedoras-y-lideres-universitarias-en-conmemoracion-del-dia-internacional-de-la-mujer/
LOCATION:Universidad Nacional Agraria\, Managua\, km 12 1/2\, Managua\, Nicaragua
CATEGORIES:ENCUENTRO
END:VEVENT
BEGIN:VEVENT
DTSTART;TZID=America/Managua:20250306T090000
DTEND;TZID=America/Managua:20250306T120000
DTSTAMP:20260422T071220
CREATED:20250305T152634Z
LAST-MODIFIED:20250305T152634Z
UID:21857-1741251600-1741262400@www.una.edu.ni
SUMMARY:Presentación de Plan de Fertilización en Campo a partir del muestreo de Suelo e interpretación de análisis
DESCRIPTION:
URL:https://www.una.edu.ni/event/presentacion-de-plan-de-fertilizacion-en-campo-a-partir-del-muestreo-de-suelo-e-interpretacion-de-analisis/
LOCATION:Universidad Nacional Agraria\, Managua\, km 12 1/2\, Managua\, Nicaragua
CATEGORIES:PRESENTACIÓN
END:VEVENT
BEGIN:VEVENT
DTSTART;TZID=America/Managua:20250306T090000
DTEND;TZID=America/Managua:20250306T120000
DTSTAMP:20260422T071220
CREATED:20250305T153012Z
LAST-MODIFIED:20250305T153012Z
UID:21863-1741251600-1741262400@www.una.edu.ni
SUMMARY:Foro “Sin la participación de la mujer no hay revolución”\, en conmemoración del Día Internacional de la mujer
DESCRIPTION:
URL:https://www.una.edu.ni/event/foro-sin-la-participacion-de-la-mujer-no-hay-revolucion-en-conmemoracion-del-dia-internacional-de-la-mujer/
LOCATION:Centro Universitario Regional UNA Camoapa\, Camoapa
CATEGORIES:FORO
END:VEVENT
BEGIN:VEVENT
DTSTART;TZID=America/Managua:20250306T090000
DTEND;TZID=America/Managua:20250306T123000
DTSTAMP:20260422T071220
CREATED:20250305T153956Z
LAST-MODIFIED:20250305T153956Z
UID:21873-1741251600-1741264200@www.una.edu.ni
SUMMARY:Jornada Clínica veterinaria en especies menores
DESCRIPTION:
URL:https://www.una.edu.ni/event/jornada-clinica-veterinaria-en-especies-menores-2/
LOCATION:Barrio Pueblos Unidos\, Nueva Segovia Ocotal\, Nicaragua
CATEGORIES:JORNADA
END:VEVENT
BEGIN:VEVENT
DTSTART;TZID=America/Managua:20250306T140000
DTEND;TZID=America/Managua:20250306T170000
DTSTAMP:20260422T071220
CREATED:20250305T152915Z
LAST-MODIFIED:20250305T152915Z
UID:21861-1741269600-1741280400@www.una.edu.ni
SUMMARY:Foro Importancia del cuidado de los cascos para prevenir enfermedades en Equinos
DESCRIPTION:
URL:https://www.una.edu.ni/event/foro-importancia-del-cuidado-de-los-cascos-para-prevenir-enfermedades-en-equinos/
LOCATION:Universidad Nacional Agraria\, Managua\, km 12 1/2\, Managua\, Nicaragua
CATEGORIES:FORO
END:VEVENT
BEGIN:VEVENT
DTSTART;TZID=America/Managua:20250306T140000
DTEND;TZID=America/Managua:20250306T170000
DTSTAMP:20260422T071220
CREATED:20250305T153501Z
LAST-MODIFIED:20250305T153501Z
UID:21871-1741269600-1741280400@www.una.edu.ni
SUMMARY:Taller práctico con productores y emprendedores sobre Elaboración de compostera a base de recursos locales
DESCRIPTION:
URL:https://www.una.edu.ni/event/taller-practico-con-productores-y-emprendedores-sobre-elaboracion-de-compostera-a-base-de-recursos-locales/
LOCATION:Vivero Arlen Siu\, CUR UNA Juigalpa\, Nicaragua
CATEGORIES:TALLER
END:VEVENT
BEGIN:VEVENT
DTSTART;TZID=America/Managua:20250306T160000
DTEND;TZID=America/Managua:20250306T190000
DTSTAMP:20260422T071220
CREATED:20250305T154404Z
LAST-MODIFIED:20250305T154404Z
UID:21877-1741276800-1741287600@www.una.edu.ni
SUMMARY:Competencia de ajedrez “Mujeres Victoriosas”\, en saludo al día internacional de la Mujer
DESCRIPTION:
URL:https://www.una.edu.ni/event/competencia-de-ajedrez-mujeres-victoriosas-en-saludo-al-dia-internacional-de-la-mujer/
LOCATION:Universidad Nacional Agraria\, Managua\, km 12 1/2\, Managua\, Nicaragua
CATEGORIES:OTROS
END:VEVENT
END:VCALENDAR