BEGIN:VCALENDAR
VERSION:2.0
PRODID:-//Universidad Nacional Agraria - ECPv6.15.20//NONSGML v1.0//EN
CALSCALE:GREGORIAN
METHOD:PUBLISH
X-ORIGINAL-URL:https://www.una.edu.ni
X-WR-CALDESC:Eventos para Universidad Nacional Agraria
REFRESH-INTERVAL;VALUE=DURATION:PT1H
X-Robots-Tag:noindex
X-PUBLISHED-TTL:PT1H
BEGIN:VTIMEZONE
TZID:America/Managua
BEGIN:STANDARD
TZOFFSETFROM:-0600
TZOFFSETTO:-0600
TZNAME:CST
DTSTART:20240101T000000
END:STANDARD
END:VTIMEZONE
BEGIN:VTIMEZONE
TZID:Europe/Madrid
BEGIN:DAYLIGHT
TZOFFSETFROM:+0100
TZOFFSETTO:+0200
TZNAME:CEST
DTSTART:20240331T010000
END:DAYLIGHT
BEGIN:STANDARD
TZOFFSETFROM:+0200
TZOFFSETTO:+0100
TZNAME:CET
DTSTART:20241027T010000
END:STANDARD
BEGIN:DAYLIGHT
TZOFFSETFROM:+0100
TZOFFSETTO:+0200
TZNAME:CEST
DTSTART:20250330T010000
END:DAYLIGHT
BEGIN:STANDARD
TZOFFSETFROM:+0200
TZOFFSETTO:+0100
TZNAME:CET
DTSTART:20251026T010000
END:STANDARD
BEGIN:DAYLIGHT
TZOFFSETFROM:+0100
TZOFFSETTO:+0200
TZNAME:CEST
DTSTART:20260329T010000
END:DAYLIGHT
BEGIN:STANDARD
TZOFFSETFROM:+0200
TZOFFSETTO:+0100
TZNAME:CET
DTSTART:20261025T010000
END:STANDARD
END:VTIMEZONE
BEGIN:VEVENT
DTSTART;TZID=America/Managua:20250307T080000
DTEND;TZID=America/Managua:20250307T120000
DTSTAMP:20260422T071220
CREATED:20250306T142610Z
LAST-MODIFIED:20250306T142610Z
UID:21890-1741334400-1741348800@www.una.edu.ni
SUMMARY:Taller práctico con productores y emprendedores sobre Análisis de calidad de la leche
DESCRIPTION:
URL:https://www.una.edu.ni/event/taller-practico-con-productores-y-emprendedores-sobre-analisis-de-calidad-de-la-leche/
LOCATION:UNICAM Muelle de los Bueyes\, Nicaragua
CATEGORIES:TALLER
END:VEVENT
BEGIN:VEVENT
DTSTART;TZID=America/Managua:20250307T080000
DTEND;TZID=America/Managua:20250307T120000
DTSTAMP:20260422T071220
CREATED:20250306T143537Z
LAST-MODIFIED:20250306T143537Z
UID:21900-1741334400-1741348800@www.una.edu.ni
SUMMARY:Colecta de semillas de especies forestales nativas para establecimiento de viveros “Arlen Siu”
DESCRIPTION:
URL:https://www.una.edu.ni/event/colecta-de-semillas-de-especies-forestales-nativas-para-establecimiento-de-viveros-arlen-siu/
LOCATION:Vivero Arlen Siu\, CUR UNA Juigalpa\, Nicaragua
CATEGORIES:OTROS
END:VEVENT
BEGIN:VEVENT
DTSTART;TZID=America/Managua:20250307T090000
DTEND;TZID=America/Managua:20250307T120000
DTSTAMP:20260422T071220
CREATED:20250306T141754Z
LAST-MODIFIED:20250306T141754Z
UID:21879-1741338000-1741348800@www.una.edu.ni
SUMMARY:Capacitación sobre Gusano Barrenador y Trazabilidad Bovina
DESCRIPTION:
URL:https://www.una.edu.ni/event/capacitacion-sobre-gusano-barrenador-y-trazabilidad-bovina/
LOCATION:Quinta Jarquín\, UNICAM Matiguás\, Nicaragua
CATEGORIES:CAPACITACION
END:VEVENT
BEGIN:VEVENT
DTSTART;TZID=America/Managua:20250307T090000
DTEND;TZID=America/Managua:20250307T120000
DTSTAMP:20260422T071220
CREATED:20250306T141846Z
LAST-MODIFIED:20250306T141846Z
UID:21882-1741338000-1741348800@www.una.edu.ni
SUMMARY:Panel “Microvegetales\, una alternativa para la producción de alimentos en pequeños espacios”
DESCRIPTION:
URL:https://www.una.edu.ni/event/panel-microvegetales-una-alternativa-para-la-produccion-de-alimentos-en-pequenos-espacios/
LOCATION:Universidad Nacional Agraria\, Managua\, km 12 1/2\, Managua\, Nicaragua
CATEGORIES:PANEL
END:VEVENT
BEGIN:VEVENT
DTSTART;TZID=America/Managua:20250307T090000
DTEND;TZID=America/Managua:20250307T120000
DTSTAMP:20260422T071220
CREATED:20250306T142342Z
LAST-MODIFIED:20250306T142342Z
UID:21886-1741338000-1741348800@www.una.edu.ni
SUMMARY:Taller práctico con productores y emprendedores sobre Elaboración de concentrado artesanal para aves de patio
DESCRIPTION:
URL:https://www.una.edu.ni/event/taller-practico-con-productores-y-emprendedores-sobre-elaboracion-de-concentrado-artesanal-para-aves-de-patio/
LOCATION:Universidad Nacional Agraria\, Managua\, km 12 1/2\, Managua\, Nicaragua
CATEGORIES:TALLER
END:VEVENT
BEGIN:VEVENT
DTSTART;TZID=America/Managua:20250307T090000
DTEND;TZID=America/Managua:20250307T120000
DTSTAMP:20260422T071220
CREATED:20250306T142449Z
LAST-MODIFIED:20250306T142449Z
UID:21888-1741338000-1741348800@www.una.edu.ni
SUMMARY:Taller práctico con productores y emprendedores sobre Elaboración de productos medicinales a base de moringa
DESCRIPTION:
URL:https://www.una.edu.ni/event/taller-practico-con-productores-y-emprendedores-sobre-elaboracion-de-productos-medicinales-a-base-de-moringa/
LOCATION:Centro de Desarrollo Moringa Comandante Fidel\, municipio de León\, Nicaragua
CATEGORIES:TALLER
END:VEVENT
BEGIN:VEVENT
DTSTART;TZID=America/Managua:20250307T100000
DTEND;TZID=America/Managua:20250307T120000
DTSTAMP:20260422T071220
CREATED:20250303T165909Z
LAST-MODIFIED:20250303T165909Z
UID:21771-1741341600-1741348800@www.una.edu.ni
SUMMARY:Exhibición de razas lecheras incluyendo la raza nicaragüense reyna
DESCRIPTION:
URL:https://www.una.edu.ni/event/exhibicion-de-razas-lecheras-incluyendo-la-raza-nicaraguense-reyna/
LOCATION:Universidad Nacional Agraria\, Managua\, km 12 1/2\, Managua\, Nicaragua
CATEGORIES:OTROS
END:VEVENT
BEGIN:VEVENT
DTSTART;TZID=America/Managua:20250307T100000
DTEND;TZID=America/Managua:20250307T120000
DTSTAMP:20260422T071220
CREATED:20250303T170613Z
LAST-MODIFIED:20250303T170613Z
UID:21776-1741341600-1741348800@www.una.edu.ni
SUMMARY:Promoción y entrega de certificados a productores protagonistas del curso: Mejora genética en maíz
DESCRIPTION:
URL:https://www.una.edu.ni/event/promocion-y-entrega-de-certificados-a-productores-protagonistas-del-curso-mejora-genetica-en-maiz/
LOCATION:Centro Universitario Regional UNA Juigalpa\, Juigapa
CATEGORIES:OTROS
END:VEVENT
BEGIN:VEVENT
DTSTART;TZID=America/Managua:20250307T100000
DTEND;TZID=America/Managua:20250307T140000
DTSTAMP:20260422T071220
CREATED:20250306T142727Z
LAST-MODIFIED:20250306T142727Z
UID:21892-1741341600-1741356000@www.una.edu.ni
SUMMARY:Jornada Clínica veterinaria en especies menores
DESCRIPTION:
URL:https://www.una.edu.ni/event/jornada-clinica-veterinaria-en-especies-menores-3/
LOCATION:Calzada Padre Lorenzo\, El Rama\, Nicaragua
CATEGORIES:JORNADA
END:VEVENT
BEGIN:VEVENT
DTSTART;TZID=Europe/Madrid:20250307T130000
DTEND;TZID=Europe/Madrid:20250307T170000
DTSTAMP:20260422T071220
CREATED:20250306T142117Z
LAST-MODIFIED:20250306T142117Z
UID:21884-1741352400-1741366800@www.una.edu.ni
SUMMARY:Taller práctico con productores y emprendedores sobre Inseminación artificial porcina
DESCRIPTION:
URL:https://www.una.edu.ni/event/taller-practico-con-productores-y-emprendedores-sobre-inseminacion-artificial-porcina/
LOCATION:Universidad Nacional Agraria\, Managua\, km 12 1/2\, Managua\, Nicaragua
CATEGORIES:TALLER
END:VEVENT
BEGIN:VEVENT
DTSTART;TZID=America/Managua:20250307T130000
DTEND;TZID=America/Managua:20250307T170000
DTSTAMP:20260422T071220
CREATED:20250306T142853Z
LAST-MODIFIED:20250306T142853Z
UID:21896-1741352400-1741366800@www.una.edu.ni
SUMMARY:Inauguración de los XXXIV Juegos de la liga de Softbol “Iván Tercero Cruz\, in Memoriam”\, de trabajadores\, dedicada a las compañeras Jessenia Castillo y Johana Sandoval
DESCRIPTION:
URL:https://www.una.edu.ni/event/inauguracion-de-los-xxxiv-juegos-de-la-liga-de-softbol-ivan-tercero-cruz-in-memoriam-de-trabajadores-dedicada-a-las-companeras-jessenia-castillo-y-johana-sandoval/
LOCATION:Universidad Nacional Agraria\, Managua\, km 12 1/2\, Managua\, Nicaragua
CATEGORIES:INAUGURACIÓN
END:VEVENT
BEGIN:VEVENT
DTSTART;TZID=America/Managua:20250307T130000
DTEND;TZID=America/Managua:20250307T170000
DTSTAMP:20260422T071220
CREATED:20250306T143417Z
LAST-MODIFIED:20250306T143417Z
UID:21898-1741352400-1741366800@www.una.edu.ni
SUMMARY:Torneos relámpago de Voleibol “F” para las estudiantes y trabajadoras\, en Saludo al Día Internacional de la Mujer
DESCRIPTION:
URL:https://www.una.edu.ni/event/torneos-relampago-de-voleibol-f-para-las-estudiantes-y-trabajadoras-en-saludo-al-dia-internacional-de-la-mujer/
LOCATION:Universidad Nacional Agraria\, Managua\, km 12 1/2\, Managua\, Nicaragua
CATEGORIES:OTROS
END:VEVENT
END:VCALENDAR