BEGIN:VCALENDAR
VERSION:2.0
PRODID:-//Universidad Nacional Agraria - ECPv6.15.20//NONSGML v1.0//EN
CALSCALE:GREGORIAN
METHOD:PUBLISH
X-ORIGINAL-URL:https://www.una.edu.ni
X-WR-CALDESC:Eventos para Universidad Nacional Agraria
REFRESH-INTERVAL;VALUE=DURATION:PT1H
X-Robots-Tag:noindex
X-PUBLISHED-TTL:PT1H
BEGIN:VTIMEZONE
TZID:America/Managua
BEGIN:STANDARD
TZOFFSETFROM:-0600
TZOFFSETTO:-0600
TZNAME:CST
DTSTART:20240101T000000
END:STANDARD
END:VTIMEZONE
BEGIN:VEVENT
DTSTART;TZID=America/Managua:20250308T080000
DTEND;TZID=America/Managua:20250308T120000
DTSTAMP:20260422T055200
CREATED:20250306T145449Z
LAST-MODIFIED:20250306T145449Z
UID:21907-1741420800-1741435200@www.una.edu.ni
SUMMARY:Curso “Cultivo y Producción de Plátano\, enfocado en la calidad”
DESCRIPTION:
URL:https://www.una.edu.ni/event/curso-cultivo-y-produccion-de-platano-enfocado-en-la-calidad/
LOCATION:Escuela de plátano\, Altagracia\, Isla de Ometepe\, Rivas\, Nicaragua
CATEGORIES:CURSO
END:VEVENT
BEGIN:VEVENT
DTSTART;TZID=America/Managua:20250308T090000
DTEND;TZID=America/Managua:20250308T120000
DTSTAMP:20260422T055200
CREATED:20250306T145228Z
LAST-MODIFIED:20250306T145228Z
UID:21902-1741424400-1741435200@www.una.edu.ni
SUMMARY:Feria “Innovación\, emprendimiento y Revolución"\, en conmemoración del Día Internacional de la Mujer
DESCRIPTION:
URL:https://www.una.edu.ni/event/feria-innovacion-emprendimiento-y-revolucion-en-conmemoracion-del-dia-internacional-de-la-mujer/
LOCATION:UNICAM EL Plantel\, Nicaragua
CATEGORIES:FERIA
END:VEVENT
BEGIN:VEVENT
DTSTART;TZID=America/Managua:20250308T090000
DTEND;TZID=America/Managua:20250308T120000
DTSTAMP:20260422T055200
CREATED:20250306T145345Z
LAST-MODIFIED:20250306T145345Z
UID:21904-1741424400-1741435200@www.una.edu.ni
SUMMARY:Feria “Innovación\, emprendimiento y Revolución"\, en conmemoración del Día Internacional de la Mujer
DESCRIPTION:
URL:https://www.una.edu.ni/event/feria-innovacion-emprendimiento-y-revolucion-en-conmemoracion-del-dia-internacional-de-la-mujer-2/
LOCATION:Cancha Municipal del Cuá\, Nicaragua
CATEGORIES:FERIA
END:VEVENT
BEGIN:VEVENT
DTSTART;TZID=America/Managua:20250308T100000
DTEND;TZID=America/Managua:20250308T130000
DTSTAMP:20260422T055200
CREATED:20250303T165317Z
LAST-MODIFIED:20250303T165317Z
UID:21768-1741428000-1741438800@www.una.edu.ni
SUMMARY:Inauguración de Programa Porcino “Cocibolca”
DESCRIPTION:
URL:https://www.una.edu.ni/event/inauguracion-de-programa-porcino-cocibolca/
LOCATION:Municipio de Potosí\, Rivas\, Nicaragua
CATEGORIES:INAUGURACIÓN
END:VEVENT
END:VCALENDAR