BEGIN:VCALENDAR
VERSION:2.0
PRODID:-//Universidad Nacional Agraria - ECPv6.15.20//NONSGML v1.0//EN
CALSCALE:GREGORIAN
METHOD:PUBLISH
X-ORIGINAL-URL:https://www.una.edu.ni
X-WR-CALDESC:Eventos para Universidad Nacional Agraria
REFRESH-INTERVAL;VALUE=DURATION:PT1H
X-Robots-Tag:noindex
X-PUBLISHED-TTL:PT1H
BEGIN:VTIMEZONE
TZID:America/Managua
BEGIN:STANDARD
TZOFFSETFROM:-0600
TZOFFSETTO:-0600
TZNAME:CST
DTSTART:20240101T000000
END:STANDARD
END:VTIMEZONE
BEGIN:VEVENT
DTSTART;TZID=America/Managua:20250319T080000
DTEND;TZID=America/Managua:20250319T120000
DTSTAMP:20260422T071219
CREATED:20250318T144608Z
LAST-MODIFIED:20250318T144608Z
UID:22180-1742371200-1742385600@www.una.edu.ni
SUMMARY:Taller sobre Diagnóstico de gestación en ganado bovino
DESCRIPTION:
URL:https://www.una.edu.ni/event/taller-sobre-diagnostico-de-gestacion-en-ganado-bovino/
LOCATION:Comarca El Espejo\, Juigalpa\, Nicaragua
CATEGORIES:TALLER
END:VEVENT
BEGIN:VEVENT
DTSTART;TZID=America/Managua:20250319T083000
DTEND;TZID=America/Managua:20250319T120000
DTSTAMP:20260422T071219
CREATED:20250318T143828Z
LAST-MODIFIED:20250318T143828Z
UID:22169-1742373000-1742385600@www.una.edu.ni
SUMMARY:Panel “Sanidad Animal y Bioseguridad en Centros de producción láctea”
DESCRIPTION:
URL:https://www.una.edu.ni/event/panel-sanidad-animal-y-bioseguridad-en-centros-de-produccion-lactea/
LOCATION:Universidad Nacional Agraria\, Managua\, km 12 1/2\, Managua\, Nicaragua
CATEGORIES:PANEL
END:VEVENT
BEGIN:VEVENT
DTSTART;TZID=America/Managua:20250319T083000
DTEND;TZID=America/Managua:20250319T120000
DTSTAMP:20260422T071219
CREATED:20250318T144710Z
LAST-MODIFIED:20250318T144710Z
UID:22183-1742373000-1742385600@www.una.edu.ni
SUMMARY:Taller sobre Manejo de cultivo de tilapia
DESCRIPTION:
URL:https://www.una.edu.ni/event/taller-sobre-manejo-de-cultivo-de-tilapia/
LOCATION:Universidad Nacional Agraria\, Managua\, km 12 1/2\, Managua\, Nicaragua
CATEGORIES:TALLER
END:VEVENT
BEGIN:VEVENT
DTSTART;TZID=America/Managua:20250319T090000
DTEND;TZID=America/Managua:20250319T120000
DTSTAMP:20260422T071219
CREATED:20250318T143413Z
LAST-MODIFIED:20250318T143413Z
UID:22163-1742374800-1742385600@www.una.edu.ni
SUMMARY:Presentación a productores sobre Alternativas y Estrategias para la prevención de enfermedades metabólicas que afecta el rendimiento productivo de leche y carne de ganado bovino
DESCRIPTION:
URL:https://www.una.edu.ni/event/presentacion-a-productores-sobre-alternativas-y-estrategias-para-la-prevencion-de-enfermedades-metabolicas-que-afecta-el-rendimiento-productivo-de-leche-y-carne-de-ganado-bovino/
LOCATION:Municipio de Tisma\, Masaya\, Nicaragua
CATEGORIES:PRESENTACIÓN
END:VEVENT
BEGIN:VEVENT
DTSTART;TZID=America/Managua:20250319T100000
DTEND;TZID=America/Managua:20250319T120000
DTSTAMP:20260422T071219
CREATED:20250318T142811Z
LAST-MODIFIED:20250318T142811Z
UID:22156-1742378400-1742385600@www.una.edu.ni
SUMMARY:Entrega de Certificados a protagonistas del Curso “Alimentación y Nutrición Animal”
DESCRIPTION:
URL:https://www.una.edu.ni/event/entrega-de-certificados-a-protagonistas-del-curso-alimentacion-y-nutricion-animal/
LOCATION:UNICAM Morrito\, Nicaragua
CATEGORIES:OTROS
END:VEVENT
BEGIN:VEVENT
DTSTART;TZID=America/Managua:20250319T100000
DTEND;TZID=America/Managua:20250319T120000
DTSTAMP:20260422T071219
CREATED:20250318T143950Z
LAST-MODIFIED:20250318T143950Z
UID:22171-1742378400-1742385600@www.una.edu.ni
SUMMARY:Foro sobre Buenas prácticas postcosecha del cultivo del cacao
DESCRIPTION:
URL:https://www.una.edu.ni/event/foro-sobre-buenas-practicas-postcosecha-del-cultivo-del-cacao/
LOCATION:Universidad Nacional Agraria\, Managua\, km 12 1/2\, Managua\, Nicaragua
CATEGORIES:FORO
END:VEVENT
BEGIN:VEVENT
DTSTART;TZID=America/Managua:20250319T130000
DTEND;TZID=America/Managua:20250319T170000
DTSTAMP:20260422T071219
CREATED:20250318T143723Z
LAST-MODIFIED:20250318T143723Z
UID:22167-1742389200-1742403600@www.una.edu.ni
SUMMARY:Encuentro con productores y estudiantes sobre el “Impacto del uso de las vitaminas y minerales en la reproducción bovina”
DESCRIPTION:
URL:https://www.una.edu.ni/event/encuentro-con-productores-y-estudiantes-sobre-el-impacto-del-uso-de-las-vitaminas-y-minerales-en-la-reproduccion-bovina/
LOCATION:Universidad Nacional Agraria\, Managua\, km 12 1/2\, Managua\, Nicaragua
CATEGORIES:ENCUENTRO
END:VEVENT
BEGIN:VEVENT
DTSTART;TZID=America/Managua:20250319T130000
DTEND;TZID=America/Managua:20250319T170000
DTSTAMP:20260422T071219
CREATED:20250318T144956Z
LAST-MODIFIED:20250318T144956Z
UID:22187-1742389200-1742403600@www.una.edu.ni
SUMMARY:Festival en conmemoración del 45 Aniversario de la Cruzada Nacional de Alfabetización
DESCRIPTION:
URL:https://www.una.edu.ni/event/festival-en-conmemoracion-del-45-aniversario-de-la-cruzada-nacional-de-alfabetizacion/
LOCATION:Universidad Nacional Agraria\, Managua\, km 12 1/2\, Managua\, Nicaragua
CATEGORIES:FESTIVAL
END:VEVENT
BEGIN:VEVENT
DTSTART;TZID=America/Managua:20250319T130000
DTEND;TZID=America/Managua:20250319T170000
DTSTAMP:20260422T071219
CREATED:20250318T152429Z
LAST-MODIFIED:20250318T152429Z
UID:22189-1742389200-1742403600@www.una.edu.ni
SUMMARY:Jornada de atención veterinaria y bienestar animal en manejo de bovinos
DESCRIPTION:
URL:https://www.una.edu.ni/event/jornada-de-atencion-veterinaria-y-bienestar-animal-en-manejo-de-bovinos/
LOCATION:Comarca Mayasang\, Morrito\, Nicaragua
CATEGORIES:JORNADA
END:VEVENT
BEGIN:VEVENT
DTSTART;TZID=America/Managua:20250319T133000
DTEND;TZID=America/Managua:20250319T170000
DTSTAMP:20260422T071219
CREATED:20250318T142509Z
LAST-MODIFIED:20250318T142509Z
UID:22152-1742391000-1742403600@www.una.edu.ni
SUMMARY:Inicio del Diplomado “Planificación y Gestión de fincas agropecuarias”
DESCRIPTION:
URL:https://www.una.edu.ni/event/inicio-del-diplomado-planificacion-y-gestion-de-fincas-agropecuarias/
LOCATION:Universidad Nacional Agraria\, Managua\, km 12 1/2\, Managua\, Nicaragua
CATEGORIES:DIPLOMADO
END:VEVENT
END:VCALENDAR