BEGIN:VCALENDAR
VERSION:2.0
PRODID:-//Universidad Nacional Agraria - ECPv6.15.20//NONSGML v1.0//EN
CALSCALE:GREGORIAN
METHOD:PUBLISH
X-WR-CALNAME:Universidad Nacional Agraria
X-ORIGINAL-URL:https://www.una.edu.ni
X-WR-CALDESC:Eventos para Universidad Nacional Agraria
REFRESH-INTERVAL;VALUE=DURATION:PT1H
X-Robots-Tag:noindex
X-PUBLISHED-TTL:PT1H
BEGIN:VTIMEZONE
TZID:America/Managua
BEGIN:STANDARD
TZOFFSETFROM:-0600
TZOFFSETTO:-0600
TZNAME:CST
DTSTART:20240101T000000
END:STANDARD
END:VTIMEZONE
BEGIN:VEVENT
DTSTART;TZID=America/Managua:20250322T080000
DTEND;TZID=America/Managua:20250322T120000
DTSTAMP:20260422T055207
CREATED:20250320T160432Z
LAST-MODIFIED:20250320T160432Z
UID:22257-1742630400-1742644800@www.una.edu.ni
SUMMARY:Sexto encuentro del Curso “Cultivo y Producción de Plátano: Uso de bioestimulantes para la mejora de la absorción de nutrientes de las plantas”
DESCRIPTION:
URL:https://www.una.edu.ni/event/sexto-encuentro-del-curso-cultivo-y-produccion-de-platano-uso-de-bioestimulantes-para-la-mejora-de-la-absorcion-de-nutrientes-de-las-plantas/
LOCATION:Escuela de plátano\, Altagracia\, Isla de Ometepe\, Rivas\, Nicaragua
CATEGORIES:ENCUENTRO
END:VEVENT
BEGIN:VEVENT
DTSTART;TZID=America/Managua:20250322T080000
DTEND;TZID=America/Managua:20250322T120000
DTSTAMP:20260422T055207
CREATED:20250320T160550Z
LAST-MODIFIED:20250320T160550Z
UID:22259-1742630400-1742644800@www.una.edu.ni
SUMMARY:Foro Científico sobre Estrategias de adaptación y mitigación en los sistemas de producción agrícola ante los efectos del cambio climático
DESCRIPTION:
URL:https://www.una.edu.ni/event/foro-cientifico-sobre-estrategias-de-adaptacion-y-mitigacion-en-los-sistemas-de-produccion-agricola-ante-los-efectos-del-cambio-climatico/
LOCATION:San José de los Remates\, Nicaragua
CATEGORIES:FORO
END:VEVENT
BEGIN:VEVENT
DTSTART;TZID=America/Managua:20250322T080000
DTEND;TZID=America/Managua:20250322T120000
DTSTAMP:20260422T055207
CREATED:20250320T161151Z
LAST-MODIFIED:20250320T161152Z
UID:22267-1742630400-1742644800@www.una.edu.ni
SUMMARY:Charla sobre Evaluación en la densidad de las plantas\, componentes de producción y rendimiento de granos en materiales genéticos de maíz
DESCRIPTION:
URL:https://www.una.edu.ni/event/charla-sobre-evaluacion-en-la-densidad-de-las-plantas-componentes-de-produccion-y-rendimiento-de-granos-en-materiales-geneticos-de-maiz/
LOCATION:Universidad Nacional Agraria\, Managua\, km 12 1/2\, Managua\, Nicaragua
CATEGORIES:CHARLA
END:VEVENT
BEGIN:VEVENT
DTSTART;TZID=America/Managua:20250322T083000
DTEND;TZID=America/Managua:20250322T120000
DTSTAMP:20260422T055207
CREATED:20250320T161458Z
LAST-MODIFIED:20250320T161458Z
UID:22269-1742632200-1742644800@www.una.edu.ni
SUMMARY:Ponencia “Control\, prevención y erradicación del gusano barrenador”
DESCRIPTION:
URL:https://www.una.edu.ni/event/ponencia-control-prevencion-y-erradicacion-del-gusano-barrenador/
LOCATION:Centro Universitario de Tecnologías Agropecuarias y para la Agroexportación\, Matagalpa\, Nicaragua
CATEGORIES:PONENCIA
END:VEVENT
BEGIN:VEVENT
DTSTART;TZID=America/Managua:20250322T090000
DTEND;TZID=America/Managua:20250322T120000
DTSTAMP:20260422T055207
CREATED:20250321T163941Z
LAST-MODIFIED:20250321T164003Z
UID:22313-1742634000-1742644800@www.una.edu.ni
SUMMARY:Taller sobre Aplicación de procedimientos quirúrgicos para retiro de cuernos en bovinos
DESCRIPTION:
URL:https://www.una.edu.ni/event/taller-sobre-aplicacion-de-procedimientos-quirurgicos-para-retiro-de-cuernos-en-bovinos/
LOCATION:UNICAM EL Plantel\, Nicaragua
CATEGORIES:OTROS
END:VEVENT
BEGIN:VEVENT
DTSTART;TZID=America/Managua:20250322T130000
DTEND;TZID=America/Managua:20250322T170000
DTSTAMP:20260422T055207
CREATED:20250321T164112Z
LAST-MODIFIED:20250321T164112Z
UID:22316-1742648400-1742662800@www.una.edu.ni
SUMMARY:Día de campo sobre manejo de sistemas bovinos\, identificación de pastos de corte y manejo de especies forrajeras
DESCRIPTION:
URL:https://www.una.edu.ni/event/dia-de-campo-sobre-manejo-de-sistemas-bovinos-identificacion-de-pastos-de-corte-y-manejo-de-especies-forrajeras/
LOCATION:Finca El Real\, Productor Frank Salazar\, Comunidad Muelle de los Bueyes\, Nicaragua
CATEGORIES:OTROS
END:VEVENT
END:VCALENDAR