BEGIN:VCALENDAR
VERSION:2.0
PRODID:-//Universidad Nacional Agraria - ECPv6.15.20//NONSGML v1.0//EN
CALSCALE:GREGORIAN
METHOD:PUBLISH
X-ORIGINAL-URL:https://www.una.edu.ni
X-WR-CALDESC:Eventos para Universidad Nacional Agraria
REFRESH-INTERVAL;VALUE=DURATION:PT1H
X-Robots-Tag:noindex
X-PUBLISHED-TTL:PT1H
BEGIN:VTIMEZONE
TZID:Europe/Madrid
BEGIN:DAYLIGHT
TZOFFSETFROM:+0100
TZOFFSETTO:+0200
TZNAME:CEST
DTSTART:20240331T010000
END:DAYLIGHT
BEGIN:STANDARD
TZOFFSETFROM:+0200
TZOFFSETTO:+0100
TZNAME:CET
DTSTART:20241027T010000
END:STANDARD
BEGIN:DAYLIGHT
TZOFFSETFROM:+0100
TZOFFSETTO:+0200
TZNAME:CEST
DTSTART:20250330T010000
END:DAYLIGHT
BEGIN:STANDARD
TZOFFSETFROM:+0200
TZOFFSETTO:+0100
TZNAME:CET
DTSTART:20251026T010000
END:STANDARD
BEGIN:DAYLIGHT
TZOFFSETFROM:+0100
TZOFFSETTO:+0200
TZNAME:CEST
DTSTART:20260329T010000
END:DAYLIGHT
BEGIN:STANDARD
TZOFFSETFROM:+0200
TZOFFSETTO:+0100
TZNAME:CET
DTSTART:20261025T010000
END:STANDARD
END:VTIMEZONE
BEGIN:VTIMEZONE
TZID:America/Managua
BEGIN:STANDARD
TZOFFSETFROM:-0600
TZOFFSETTO:-0600
TZNAME:CST
DTSTART:20240101T000000
END:STANDARD
END:VTIMEZONE
BEGIN:VEVENT
DTSTART;TZID=Europe/Madrid:20250324T133000
DTEND;TZID=Europe/Madrid:20250324T170000
DTSTAMP:20260422T071219
CREATED:20250324T201150Z
LAST-MODIFIED:20250324T201150Z
UID:22347-1742823000-1742835600@www.una.edu.ni
SUMMARY:Presentación de resultados de estudio en tecnologías y prácticas para una producción más sana
DESCRIPTION:
URL:https://www.una.edu.ni/event/presentacion-de-resultados-de-estudio-en-tecnologias-y-practicas-para-una-produccion-mas-sana/
LOCATION:Universidad Nacional Agraria\, Managua\, km 12 1/2\, Managua\, Nicaragua
CATEGORIES:PRESENTACIÓN
END:VEVENT
BEGIN:VEVENT
DTSTART;TZID=America/Managua:20250324T180000
DTEND;TZID=America/Managua:20250324T200000
DTSTAMP:20260422T071219
CREATED:20250324T202011Z
LAST-MODIFIED:20250324T202011Z
UID:22357-1742839200-1742846400@www.una.edu.ni
SUMMARY:Taller de preparación para el Primer Ejercicio Nacional para proteger la vida en situaciones multiamenazas con becados internos
DESCRIPTION:
URL:https://www.una.edu.ni/event/taller-de-preparacion-para-el-primer-ejercicio-nacional-para-proteger-la-vida-en-situaciones-multiamenazas-con-becados-internos/
LOCATION:Universidad Nacional Agraria\, Managua\, km 12 1/2\, Managua\, Nicaragua
CATEGORIES:TALLER
END:VEVENT
END:VCALENDAR