BEGIN:VCALENDAR
VERSION:2.0
PRODID:-//Universidad Nacional Agraria - ECPv6.15.20//NONSGML v1.0//EN
CALSCALE:GREGORIAN
METHOD:PUBLISH
X-WR-CALNAME:Universidad Nacional Agraria
X-ORIGINAL-URL:https://www.una.edu.ni
X-WR-CALDESC:Eventos para Universidad Nacional Agraria
REFRESH-INTERVAL;VALUE=DURATION:PT1H
X-Robots-Tag:noindex
X-PUBLISHED-TTL:PT1H
BEGIN:VTIMEZONE
TZID:America/Managua
BEGIN:STANDARD
TZOFFSETFROM:-0600
TZOFFSETTO:-0600
TZNAME:CST
DTSTART:20240101T000000
END:STANDARD
END:VTIMEZONE
BEGIN:VEVENT
DTSTART;TZID=America/Managua:20250325T080000
DTEND;TZID=America/Managua:20250325T120000
DTSTAMP:20260422T055208
CREATED:20250324T202629Z
LAST-MODIFIED:20250324T202629Z
UID:22361-1742889600-1742904000@www.una.edu.ni
SUMMARY:Taller sobre Interpretación de uroanálisis en caninos y felinos
DESCRIPTION:
URL:https://www.una.edu.ni/event/taller-sobre-interpretacion-de-uroanalisis-en-caninos-y-felinos/
LOCATION:UNICAM Muelle de los Bueyes\, Nicaragua
CATEGORIES:TALLER
END:VEVENT
BEGIN:VEVENT
DTSTART;TZID=America/Managua:20250325T080000
DTEND;TZID=America/Managua:20250325T120000
DTSTAMP:20260422T055208
CREATED:20250324T202730Z
LAST-MODIFIED:20250324T202730Z
UID:22363-1742889600-1742904000@www.una.edu.ni
SUMMARY:Taller sobre Análisis microbiológico en lácteos para consumo humano
DESCRIPTION:
URL:https://www.una.edu.ni/event/taller-sobre-analisis-microbiologico-en-lacteos-para-consumo-humano/
LOCATION:Centro Universitario Regional UNA Juigalpa\, Juigapa
CATEGORIES:TALLER
END:VEVENT
BEGIN:VEVENT
DTSTART;TZID=America/Managua:20250325T083000
DTEND;TZID=America/Managua:20250325T120000
DTSTAMP:20260422T055208
CREATED:20250324T203006Z
LAST-MODIFIED:20250324T203006Z
UID:22370-1742891400-1742904000@www.una.edu.ni
SUMMARY:Taller sobre Preparación de suelo para el establecimiento de cultivo de orégano para consumo nutricional animal
DESCRIPTION:
URL:https://www.una.edu.ni/event/taller-sobre-preparacion-de-suelo-para-el-establecimiento-de-cultivo-de-oregano-para-consumo-nutricional-animal/
LOCATION:Universidad Nacional Agraria\, Managua\, km 12 1/2\, Managua\, Nicaragua
CATEGORIES:TALLER
END:VEVENT
BEGIN:VEVENT
DTSTART;TZID=America/Managua:20250325T083000
DTEND;TZID=America/Managua:20250325T120000
DTSTAMP:20260422T055208
CREATED:20250324T203323Z
LAST-MODIFIED:20250324T203323Z
UID:22374-1742891400-1742904000@www.una.edu.ni
SUMMARY:Taller sobre Buenas prácticas de ordeño manual y mecánico
DESCRIPTION:
URL:https://www.una.edu.ni/event/taller-sobre-buenas-practicas-de-ordeno-manual-y-mecanico/
LOCATION:Universidad Nacional Agraria\, Managua\, km 12 1/2\, Managua\, Nicaragua
CATEGORIES:TALLER
END:VEVENT
BEGIN:VEVENT
DTSTART;TZID=America/Managua:20250325T090000
DTEND;TZID=America/Managua:20250325T120000
DTSTAMP:20260422T055208
CREATED:20250324T202119Z
LAST-MODIFIED:20250324T202119Z
UID:22359-1742893200-1742904000@www.una.edu.ni
SUMMARY:Ponencia “Sistemas hidropónicos\, importancias\, usos y perspectivas”
DESCRIPTION:
URL:https://www.una.edu.ni/event/ponencia-sistemas-hidroponicos-importancias-usos-y-perspectivas/
LOCATION:Universidad Nacional Agraria\, Managua\, km 12 1/2\, Managua\, Nicaragua
CATEGORIES:PONENCIA
END:VEVENT
BEGIN:VEVENT
DTSTART;TZID=America/Managua:20250325T090000
DTEND;TZID=America/Managua:20250325T120000
DTSTAMP:20260422T055208
CREATED:20250324T203129Z
LAST-MODIFIED:20250324T203129Z
UID:22372-1742893200-1742904000@www.una.edu.ni
SUMMARY:Taller sobre Control de infecciones parasitarias en granjas avícolas
DESCRIPTION:
URL:https://www.una.edu.ni/event/taller-sobre-control-de-infecciones-parasitarias-en-granjas-avicolas/
LOCATION:Universidad Nacional Agraria\, Managua\, km 12 1/2\, Managua\, Nicaragua
CATEGORIES:TALLER
END:VEVENT
BEGIN:VEVENT
DTSTART;TZID=America/Managua:20250325T100000
DTEND;TZID=America/Managua:20250325T120000
DTSTAMP:20260422T055208
CREATED:20250324T201257Z
LAST-MODIFIED:20250324T201257Z
UID:22349-1742896800-1742904000@www.una.edu.ni
SUMMARY:Lanzamiento de Primera Edición de la Revista Universitaria que recogerá artículos de estudiantes de todas las carreras
DESCRIPTION:
URL:https://www.una.edu.ni/event/lanzamiento-de-primera-edicion-de-la-revista-universitaria-que-recogera-articulos-de-estudiantes-de-todas-las-carreras/
LOCATION:Universidad Nacional Agraria\, Managua\, km 12 1/2\, Managua\, Nicaragua
CATEGORIES:LANZAMIENTO
END:VEVENT
BEGIN:VEVENT
DTSTART;TZID=America/Managua:20250325T130000
DTEND;TZID=America/Managua:20250325T170000
DTSTAMP:20260422T055208
CREATED:20250324T202912Z
LAST-MODIFIED:20250324T202912Z
UID:22368-1742907600-1742922000@www.una.edu.ni
SUMMARY:Taller sobre Elaboración de suplementos alimenticios para ganado porcino
DESCRIPTION:
URL:https://www.una.edu.ni/event/taller-sobre-elaboracion-de-suplementos-alimenticios-para-ganado-porcino/
LOCATION:Comunidad El Barro\, Camoapa\, Nicaragua
CATEGORIES:TALLER
END:VEVENT
BEGIN:VEVENT
DTSTART;TZID=America/Managua:20250325T170000
DTEND;TZID=America/Managua:20250325T190000
DTSTAMP:20260422T055208
CREATED:20250324T203501Z
LAST-MODIFIED:20250324T203501Z
UID:22376-1742922000-1742929200@www.una.edu.ni
SUMMARY:Intercambio deportivo estudiantil de voleibol UNICAM Nandaime Vs UNA Central
DESCRIPTION:
URL:https://www.una.edu.ni/event/intercambio-deportivo-estudiantil-de-voleibol-unicam-nandaime-vs-una-central/
LOCATION:Universidad Nacional Agraria\, Managua\, km 12 1/2\, Managua\, Nicaragua
CATEGORIES:OTROS
END:VEVENT
END:VCALENDAR