BEGIN:VCALENDAR
VERSION:2.0
PRODID:-//Universidad Nacional Agraria - ECPv6.15.20//NONSGML v1.0//EN
CALSCALE:GREGORIAN
METHOD:PUBLISH
X-WR-CALNAME:Universidad Nacional Agraria
X-ORIGINAL-URL:https://www.una.edu.ni
X-WR-CALDESC:Eventos para Universidad Nacional Agraria
REFRESH-INTERVAL;VALUE=DURATION:PT1H
X-Robots-Tag:noindex
X-PUBLISHED-TTL:PT1H
BEGIN:VTIMEZONE
TZID:America/Managua
BEGIN:STANDARD
TZOFFSETFROM:-0600
TZOFFSETTO:-0600
TZNAME:CST
DTSTART:20240101T000000
END:STANDARD
END:VTIMEZONE
BEGIN:VTIMEZONE
TZID:Europe/Madrid
BEGIN:DAYLIGHT
TZOFFSETFROM:+0100
TZOFFSETTO:+0200
TZNAME:CEST
DTSTART:20240331T010000
END:DAYLIGHT
BEGIN:STANDARD
TZOFFSETFROM:+0200
TZOFFSETTO:+0100
TZNAME:CET
DTSTART:20241027T010000
END:STANDARD
BEGIN:DAYLIGHT
TZOFFSETFROM:+0100
TZOFFSETTO:+0200
TZNAME:CEST
DTSTART:20250330T010000
END:DAYLIGHT
BEGIN:STANDARD
TZOFFSETFROM:+0200
TZOFFSETTO:+0100
TZNAME:CET
DTSTART:20251026T010000
END:STANDARD
BEGIN:DAYLIGHT
TZOFFSETFROM:+0100
TZOFFSETTO:+0200
TZNAME:CEST
DTSTART:20260329T010000
END:DAYLIGHT
BEGIN:STANDARD
TZOFFSETFROM:+0200
TZOFFSETTO:+0100
TZNAME:CET
DTSTART:20261025T010000
END:STANDARD
END:VTIMEZONE
BEGIN:VEVENT
DTSTART;TZID=America/Managua:20250407T080000
DTEND;TZID=America/Managua:20250407T120000
DTSTAMP:20260422T125551
CREATED:20250407T150010Z
LAST-MODIFIED:20250407T150010Z
UID:22611-1744012800-1744027200@www.una.edu.ni
SUMMARY:Taller sobre Manejo nutricional y veterinario en equinos
DESCRIPTION:
URL:https://www.una.edu.ni/event/taller-sobre-manejo-nutricional-y-veterinario-en-equinos/
LOCATION:Centro Universitario Regional UNA Camoapa\, Camoapa
CATEGORIES:TALLER
END:VEVENT
BEGIN:VEVENT
DTSTART;TZID=America/Managua:20250407T090000
DTEND;TZID=America/Managua:20250407T120000
DTSTAMP:20260422T125551
CREATED:20250407T150207Z
LAST-MODIFIED:20250407T150207Z
UID:22613-1744016400-1744027200@www.una.edu.ni
SUMMARY:Taller sobre Métodos de sujeción en animales domésticos
DESCRIPTION:
URL:https://www.una.edu.ni/event/taller-sobre-metodos-de-sujecion-en-animales-domesticos/
LOCATION:Universidad Nacional Agraria\, Managua\, km 12 1/2\, Managua\, Nicaragua
CATEGORIES:TALLER
END:VEVENT
BEGIN:VEVENT
DTSTART;TZID=America/Managua:20250407T100000
DTEND;TZID=America/Managua:20250407T120000
DTSTAMP:20260422T125551
CREATED:20250407T144723Z
LAST-MODIFIED:20250407T144723Z
UID:22597-1744020000-1744027200@www.una.edu.ni
SUMMARY:Conferencia “Uso de Bioestimulantes en Cultivos de Granos Básicos”
DESCRIPTION:
URL:https://www.una.edu.ni/event/conferencia-uso-de-bioestimulantes-en-cultivos-de-granos-basicos/
LOCATION:UNICAM El Ayote\, Juigalpa\, Nicaragua
CATEGORIES:CONFERENCIA
END:VEVENT
BEGIN:VEVENT
DTSTART;TZID=America/Managua:20250407T110000
DTEND;TZID=America/Managua:20250407T150000
DTSTAMP:20260422T125551
CREATED:20250407T151816Z
LAST-MODIFIED:20250407T151816Z
UID:22619-1744023600-1744038000@www.una.edu.ni
SUMMARY:Exposición de escritos de la Revolución “Logros alcanzados”
DESCRIPTION:
URL:https://www.una.edu.ni/event/exposicion-de-escritos-de-la-revolucion-logros-alcanzados/
LOCATION:Universidad Nacional Agraria\, Managua\, km 12 1/2\, Managua\, Nicaragua
CATEGORIES:OTROS
END:VEVENT
BEGIN:VEVENT
DTSTART;TZID=America/Managua:20250407T123000
DTEND;TZID=America/Managua:20250407T170000
DTSTAMP:20260422T125551
CREATED:20250407T145538Z
LAST-MODIFIED:20250407T145538Z
UID:22609-1744029000-1744045200@www.una.edu.ni
SUMMARY:Taller sobre Manejo agro técnico de los sistemas de pasturas
DESCRIPTION:
URL:https://www.una.edu.ni/event/taller-sobre-manejo-agro-tecnico-de-los-sistemas-de-pasturas/
LOCATION:Universidad Nacional Agraria\, Managua\, km 12 1/2\, Managua\, Nicaragua
CATEGORIES:TALLER
END:VEVENT
BEGIN:VEVENT
DTSTART;TZID=Europe/Madrid:20250407T133000
DTEND;TZID=Europe/Madrid:20250407T170000
DTSTAMP:20260422T125551
CREATED:20250407T144057Z
LAST-MODIFIED:20250407T144057Z
UID:22595-1744032600-1744045200@www.una.edu.ni
SUMMARY:Lanzamiento de Torneo Universitario de matemáticas
DESCRIPTION:
URL:https://www.una.edu.ni/event/lanzamiento-de-torneo-universitario-de-matematicas/
LOCATION:Universidad Nacional Agraria\, Managua\, km 12 1/2\, Managua\, Nicaragua
CATEGORIES:LANZAMIENTO
END:VEVENT
BEGIN:VEVENT
DTSTART;TZID=America/Managua:20250407T140000
DTEND;TZID=America/Managua:20250407T170000
DTSTAMP:20260422T125551
CREATED:20250407T150445Z
LAST-MODIFIED:20250407T150445Z
UID:22617-1744034400-1744045200@www.una.edu.ni
SUMMARY:Jornada Deportiva “Soberanía es mi tierra”
DESCRIPTION:
URL:https://www.una.edu.ni/event/jornada-deportiva-soberania-es-mi-tierra/
LOCATION:Universidad Nacional Agraria\, Managua\, km 12 1/2\, Managua\, Nicaragua
CATEGORIES:JORNADA
END:VEVENT
BEGIN:VEVENT
DTSTART;TZID=Europe/Madrid:20250407T153000
DTEND;TZID=Europe/Madrid:20250407T170000
DTSTAMP:20260422T125551
CREATED:20250407T145008Z
LAST-MODIFIED:20250407T145008Z
UID:22601-1744039800-1744045200@www.una.edu.ni
SUMMARY:Jornada de aprendizaje con productores “Creatividad empresarial para la prosperidad y bienestar de las familias emprendedoras”
DESCRIPTION:
URL:https://www.una.edu.ni/event/jornada-de-aprendizaje-con-productores-creatividad-empresarial-para-la-prosperidad-y-bienestar-de-las-familias-emprendedoras/
LOCATION:Universidad Nacional Agraria\, Managua\, km 12 1/2\, Managua\, Nicaragua
CATEGORIES:JORNADA
END:VEVENT
BEGIN:VEVENT
DTSTART;TZID=America/Managua:20250407T180000
DTEND;TZID=America/Managua:20250407T210000
DTSTAMP:20260422T125551
CREATED:20250407T150325Z
LAST-MODIFIED:20250407T150325Z
UID:22615-1744048800-1744059600@www.una.edu.ni
SUMMARY:Espectáculo Cultural “Abril creativo consagrado a la paz”
DESCRIPTION:
URL:https://www.una.edu.ni/event/espectaculo-cultural-abril-creativo-consagrado-a-la-paz/
LOCATION:Universidad Nacional Agraria\, Managua\, km 12 1/2\, Managua\, Nicaragua
CATEGORIES:OTROS
END:VEVENT
END:VCALENDAR