BEGIN:VCALENDAR
VERSION:2.0
PRODID:-//Universidad Nacional Agraria - ECPv6.15.20//NONSGML v1.0//EN
CALSCALE:GREGORIAN
METHOD:PUBLISH
X-WR-CALNAME:Universidad Nacional Agraria
X-ORIGINAL-URL:https://www.una.edu.ni
X-WR-CALDESC:Eventos para Universidad Nacional Agraria
REFRESH-INTERVAL;VALUE=DURATION:PT1H
X-Robots-Tag:noindex
X-PUBLISHED-TTL:PT1H
BEGIN:VTIMEZONE
TZID:America/Managua
BEGIN:STANDARD
TZOFFSETFROM:-0600
TZOFFSETTO:-0600
TZNAME:CST
DTSTART:20240101T000000
END:STANDARD
END:VTIMEZONE
BEGIN:VEVENT
DTSTART;TZID=America/Managua:20250428T090000
DTEND;TZID=America/Managua:20250428T120000
DTSTAMP:20260422T125551
CREATED:20250428T163033Z
LAST-MODIFIED:20250428T163033Z
UID:22888-1745830800-1745841600@www.una.edu.ni
SUMMARY:Taller sobre Análisis de inocuidad y calidad de agua en estanques de peces de tilapia
DESCRIPTION:
URL:https://www.una.edu.ni/event/taller-sobre-analisis-de-inocuidad-y-calidad-de-agua-en-estanques-de-peces-de-tilapia/
LOCATION:Centro Universitario Regional UNA Juigalpa\, Juigapa
CATEGORIES:TALLER
END:VEVENT
BEGIN:VEVENT
DTSTART;TZID=America/Managua:20250428T130000
DTEND;TZID=America/Managua:20250428T170000
DTSTAMP:20260422T125551
CREATED:20250428T162500Z
LAST-MODIFIED:20250428T162500Z
UID:22880-1745845200-1745859600@www.una.edu.ni
SUMMARY:Conferencia sobre Importancia y Beneficios de insectos en el control de plagas de cultivos agrícolas
DESCRIPTION:
URL:https://www.una.edu.ni/event/conferencia-sobre-importancia-y-beneficios-de-insectos-en-el-control-de-plagas-de-cultivos-agricolas/
LOCATION:Universidad Nacional Agraria\, Managua\, km 12 1/2\, Managua\, Nicaragua
CATEGORIES:CONFERENCIA
END:VEVENT
BEGIN:VEVENT
DTSTART;TZID=America/Managua:20250428T140000
DTEND;TZID=America/Managua:20250428T170000
DTSTAMP:20260422T125551
CREATED:20250428T161505Z
LAST-MODIFIED:20250428T161505Z
UID:22867-1745848800-1745859600@www.una.edu.ni
SUMMARY:Lanzamiento del Curso con productores “Técnicas básicas en la medicina veterinaria”
DESCRIPTION:
URL:https://www.una.edu.ni/event/lanzamiento-del-curso-con-productores-tecnicas-basicas-en-la-medicina-veterinaria/
LOCATION:Centro Universitario Regional UNA Juigalpa\, Juigapa
CATEGORIES:LANZAMIENTO
END:VEVENT
BEGIN:VEVENT
DTSTART;TZID=America/Managua:20250428T180000
DTEND;TZID=America/Managua:20250428T200000
DTSTAMP:20260422T125551
CREATED:20250428T164024Z
LAST-MODIFIED:20250428T164024Z
UID:22902-1745863200-1745870400@www.una.edu.ni
SUMMARY:Asamblea Trimestral de Becados internos con la participación de la Unión Nacional de Estudiantes
DESCRIPTION:
URL:https://www.una.edu.ni/event/asamblea-trimestral-de-becados-internos-con-la-participacion-de-la-union-nacional-de-estudiantes/
LOCATION:Universidad Nacional Agraria\, Managua\, km 12 1/2\, Managua\, Nicaragua
CATEGORIES:ASAMBLEA
END:VEVENT
END:VCALENDAR