BEGIN:VCALENDAR
VERSION:2.0
PRODID:-//Universidad Nacional Agraria - ECPv6.15.20//NONSGML v1.0//EN
CALSCALE:GREGORIAN
METHOD:PUBLISH
X-WR-CALNAME:Universidad Nacional Agraria
X-ORIGINAL-URL:https://www.una.edu.ni
X-WR-CALDESC:Eventos para Universidad Nacional Agraria
REFRESH-INTERVAL;VALUE=DURATION:PT1H
X-Robots-Tag:noindex
X-PUBLISHED-TTL:PT1H
BEGIN:VTIMEZONE
TZID:America/Managua
BEGIN:STANDARD
TZOFFSETFROM:-0600
TZOFFSETTO:-0600
TZNAME:CST
DTSTART:20240101T000000
END:STANDARD
END:VTIMEZONE
BEGIN:VEVENT
DTSTART;TZID=America/Managua:20250504T080000
DTEND;TZID=America/Managua:20250504T120000
DTSTAMP:20260422T125550
CREATED:20250430T215451Z
LAST-MODIFIED:20250430T215451Z
UID:22985-1746345600-1746360000@www.una.edu.ni
SUMMARY:Feria y presentación de Ideas Emprendedoras “Identidad\, Dignidad y Orgullo Patrio”
DESCRIPTION:
URL:https://www.una.edu.ni/event/feria-y-presentacion-de-ideas-emprendedoras-identidad-dignidad-y-orgullo-patrio/
LOCATION:UNICAM Sébaco\, Nicaragua
CATEGORIES:FERIA
END:VEVENT
BEGIN:VEVENT
DTSTART;TZID=America/Managua:20250504T080000
DTEND;TZID=America/Managua:20250504T120000
DTSTAMP:20260422T125550
CREATED:20250430T220930Z
LAST-MODIFIED:20250430T220930Z
UID:23001-1746345600-1746360000@www.una.edu.ni
SUMMARY:Taller sobre Identificación de sistemas morfofisiológicos en animales domésticos
DESCRIPTION:
URL:https://www.una.edu.ni/event/taller-sobre-identificacion-de-sistemas-morfofisiologicos-en-animales-domesticos/
LOCATION:UNICAM Morrito\, Nicaragua
CATEGORIES:TALLER
END:VEVENT
BEGIN:VEVENT
DTSTART;TZID=America/Managua:20250504T090000
DTEND;TZID=America/Managua:20250504T120000
DTSTAMP:20260422T125550
CREATED:20250430T215936Z
LAST-MODIFIED:20250430T215936Z
UID:22991-1746349200-1746360000@www.una.edu.ni
SUMMARY:Presentación de proyectos Emprendedores “Por la Agricultura y el medio ambiente\, innovamos en la ciencia”
DESCRIPTION:
URL:https://www.una.edu.ni/event/presentacion-de-proyectos-emprendedores-por-la-agricultura-y-el-medio-ambiente-innovamos-en-la-ciencia-4/
LOCATION:Centro Universitario Regional UNA Camoapa\, Camoapa
CATEGORIES:PRESENTACIÓN
END:VEVENT
END:VCALENDAR