BEGIN:VCALENDAR
VERSION:2.0
PRODID:-//Universidad Nacional Agraria - ECPv6.15.20//NONSGML v1.0//EN
CALSCALE:GREGORIAN
METHOD:PUBLISH
X-ORIGINAL-URL:https://www.una.edu.ni
X-WR-CALDESC:Eventos para Universidad Nacional Agraria
REFRESH-INTERVAL;VALUE=DURATION:PT1H
X-Robots-Tag:noindex
X-PUBLISHED-TTL:PT1H
BEGIN:VTIMEZONE
TZID:America/Managua
BEGIN:STANDARD
TZOFFSETFROM:-0600
TZOFFSETTO:-0600
TZNAME:CST
DTSTART:20240101T000000
END:STANDARD
END:VTIMEZONE
BEGIN:VEVENT
DTSTART;TZID=America/Managua:20250527T083000
DTEND;TZID=America/Managua:20250527T120000
DTSTAMP:20260422T142256
CREATED:20250526T152502Z
LAST-MODIFIED:20250526T152502Z
UID:23712-1748334600-1748347200@www.una.edu.ni
SUMMARY:Taller sobre Inseminación artificial en bovino
DESCRIPTION:
URL:https://www.una.edu.ni/event/taller-sobre-inseminacion-artificial-en-bovino/
LOCATION:Universidad Nacional Agraria\, Managua\, km 12 1/2\, Managua\, Nicaragua
CATEGORIES:TALLER
END:VEVENT
BEGIN:VEVENT
DTSTART;TZID=America/Managua:20250527T090000
DTEND;TZID=America/Managua:20250527T120000
DTSTAMP:20260422T142256
CREATED:20250526T152303Z
LAST-MODIFIED:20250526T152303Z
UID:23710-1748336400-1748347200@www.una.edu.ni
SUMMARY:Jornada de desparasitación masiva y de bienestar animal en caprinos
DESCRIPTION:
URL:https://www.una.edu.ni/event/jornada-de-desparasitacion-masiva-y-de-bienestar-animal-en-caprinos/
LOCATION:Universidad Nacional Agraria\, Managua\, km 12 1/2\, Managua\, Nicaragua
CATEGORIES:JORNADA
END:VEVENT
BEGIN:VEVENT
DTSTART;TZID=America/Managua:20250527T090000
DTEND;TZID=America/Managua:20250527T120000
DTSTAMP:20260422T142256
CREATED:20250526T152622Z
LAST-MODIFIED:20250526T152622Z
UID:23714-1748336400-1748347200@www.una.edu.ni
SUMMARY:Taller sobre Procesamiento de carne de cerdo
DESCRIPTION:
URL:https://www.una.edu.ni/event/taller-sobre-procesamiento-de-carne-de-cerdo/
LOCATION:Comunidad Santa Elisa\, Bluefields\, Nicaragua
CATEGORIES:TALLER
END:VEVENT
BEGIN:VEVENT
DTSTART;TZID=America/Managua:20250527T090000
DTEND;TZID=America/Managua:20250527T120000
DTSTAMP:20260422T142256
CREATED:20250526T152738Z
LAST-MODIFIED:20250526T152738Z
UID:23716-1748336400-1748347200@www.una.edu.ni
SUMMARY:Taller sobre Elaboración de muestras de bebida fermentada a base de marango y noni
DESCRIPTION:
URL:https://www.una.edu.ni/event/taller-sobre-elaboracion-de-muestras-de-bebida-fermentada-a-base-de-marango-y-noni/
LOCATION:Centro de Desarrollo Moringa Comandante Fidel\, municipio de León\, Nicaragua
CATEGORIES:TALLER
END:VEVENT
BEGIN:VEVENT
DTSTART;TZID=America/Managua:20250527T100000
DTEND;TZID=America/Managua:20250527T120000
DTSTAMP:20260422T142256
CREATED:20250526T151356Z
LAST-MODIFIED:20250526T151356Z
UID:23695-1748340000-1748347200@www.una.edu.ni
SUMMARY:Encuentro Nacional de las Madres Productoras del Campo
DESCRIPTION:
URL:https://www.una.edu.ni/event/encuentro-nacional-de-las-madres-productoras-del-campo/
LOCATION:Centro Universitario Regional UNA Juigalpa\, Juigapa
CATEGORIES:ENCUENTRO
END:VEVENT
BEGIN:VEVENT
DTSTART;TZID=America/Managua:20250527T140000
DTEND;TZID=America/Managua:20250527T170000
DTSTAMP:20260422T142256
CREATED:20250526T151640Z
LAST-MODIFIED:20250526T151640Z
UID:23700-1748354400-1748365200@www.una.edu.ni
SUMMARY:Curso sobre elaboración de abonos orgánicos utilizando desechos de verduras y hortalizas
DESCRIPTION:
URL:https://www.una.edu.ni/event/curso-sobre-elaboracion-de-abonos-organicos-utilizando-desechos-de-verduras-y-hortalizas/
LOCATION:Universidad Nacional Agraria\, Managua\, km 12 1/2\, Managua\, Nicaragua
CATEGORIES:CURSO
END:VEVENT
END:VCALENDAR