BEGIN:VCALENDAR
VERSION:2.0
PRODID:-//Universidad Nacional Agraria - ECPv6.15.20//NONSGML v1.0//EN
CALSCALE:GREGORIAN
METHOD:PUBLISH
X-WR-CALNAME:Universidad Nacional Agraria
X-ORIGINAL-URL:https://www.una.edu.ni
X-WR-CALDESC:Eventos para Universidad Nacional Agraria
REFRESH-INTERVAL;VALUE=DURATION:PT1H
X-Robots-Tag:noindex
X-PUBLISHED-TTL:PT1H
BEGIN:VTIMEZONE
TZID:America/Managua
BEGIN:STANDARD
TZOFFSETFROM:-0600
TZOFFSETTO:-0600
TZNAME:CST
DTSTART:20240101T000000
END:STANDARD
END:VTIMEZONE
BEGIN:VTIMEZONE
TZID:Europe/Madrid
BEGIN:DAYLIGHT
TZOFFSETFROM:+0100
TZOFFSETTO:+0200
TZNAME:CEST
DTSTART:20240331T010000
END:DAYLIGHT
BEGIN:STANDARD
TZOFFSETFROM:+0200
TZOFFSETTO:+0100
TZNAME:CET
DTSTART:20241027T010000
END:STANDARD
BEGIN:DAYLIGHT
TZOFFSETFROM:+0100
TZOFFSETTO:+0200
TZNAME:CEST
DTSTART:20250330T010000
END:DAYLIGHT
BEGIN:STANDARD
TZOFFSETFROM:+0200
TZOFFSETTO:+0100
TZNAME:CET
DTSTART:20251026T010000
END:STANDARD
BEGIN:DAYLIGHT
TZOFFSETFROM:+0100
TZOFFSETTO:+0200
TZNAME:CEST
DTSTART:20260329T010000
END:DAYLIGHT
BEGIN:STANDARD
TZOFFSETFROM:+0200
TZOFFSETTO:+0100
TZNAME:CET
DTSTART:20261025T010000
END:STANDARD
END:VTIMEZONE
BEGIN:VEVENT
DTSTART;TZID=America/Managua:20250529T080000
DTEND;TZID=America/Managua:20250529T120000
DTSTAMP:20260422T174623
CREATED:20250528T144338Z
LAST-MODIFIED:20250528T144338Z
UID:23782-1748505600-1748520000@www.una.edu.ni
SUMMARY:Curso sobre Mejora genética de cultivo de maíz con énfasis en reproducción de híbridos
DESCRIPTION:
URL:https://www.una.edu.ni/event/curso-sobre-mejora-genetica-de-cultivo-de-maiz-con-enfasis-en-reproduccion-de-hibridos/
LOCATION:Centro Universitario Regional UNA Juigalpa\, Juigapa
CATEGORIES:CURSO
END:VEVENT
BEGIN:VEVENT
DTSTART;TZID=America/Managua:20250529T080000
DTEND;TZID=America/Managua:20250529T170000
DTSTAMP:20260422T174623
CREATED:20250528T144744Z
LAST-MODIFIED:20250528T144744Z
UID:23788-1748505600-1748538000@www.una.edu.ni
SUMMARY:Jornada de desparasitación masiva y de bienestar animal en bovinos
DESCRIPTION:
URL:https://www.una.edu.ni/event/jornada-de-desparasitacion-masiva-y-de-bienestar-animal-en-bovinos/
LOCATION:Comunidades Hato Grande\, El Cóbano\, Las Limas\, Puerto Díaz\, Guapinolapa\, La Libertad\, Santo Tomás\, Acoyapa; en el municipio de Chontales\, Nicaragua
CATEGORIES:JORNADA
END:VEVENT
BEGIN:VEVENT
DTSTART;TZID=Europe/Madrid:20250529T090000
DTEND;TZID=Europe/Madrid:20250529T120000
DTSTAMP:20260422T174623
CREATED:20250528T143050Z
LAST-MODIFIED:20250528T143050Z
UID:23763-1748509200-1748520000@www.una.edu.ni
SUMMARY:Conferencia sobre producción de porcinos de mayores rendimientos
DESCRIPTION:
URL:https://www.una.edu.ni/event/conferencia-sobre-produccion-de-porcinos-de-mayores-rendimientos/
LOCATION:Programa Porcino “Cocibolca”\, Nicaragua
CATEGORIES:CONFERENCIA
END:VEVENT
BEGIN:VEVENT
DTSTART;TZID=America/Managua:20250529T090000
DTEND;TZID=America/Managua:20250529T120000
DTSTAMP:20260422T174623
CREATED:20250528T143258Z
LAST-MODIFIED:20250528T143258Z
UID:23765-1748509200-1748520000@www.una.edu.ni
SUMMARY:Encuentro con productores intercambiando sobre control de plagas en plantaciones de marango
DESCRIPTION:
URL:https://www.una.edu.ni/event/encuentro-con-productores-intercambiando-sobre-control-de-plagas-en-plantaciones-de-marango/
LOCATION:Centro de Desarrollo Moringa Comandante Fidel\, municipio de León\, Nicaragua
CATEGORIES:ENCUENTRO
END:VEVENT
BEGIN:VEVENT
DTSTART;TZID=America/Managua:20250529T100000
DTEND;TZID=America/Managua:20250529T120000
DTSTAMP:20260422T174623
CREATED:20250526T151029Z
LAST-MODIFIED:20250526T151029Z
UID:23687-1748512800-1748520000@www.una.edu.ni
SUMMARY:Inauguración de I etapa del Edificio de aulas
DESCRIPTION:
URL:https://www.una.edu.ni/event/inauguracion-de-i-etapa-del-edificio-de-aulas/
LOCATION:Centro Universitario Regional UNA Juigalpa\, Juigapa
CATEGORIES:INAUGURACIÓN
END:VEVENT
BEGIN:VEVENT
DTSTART;TZID=America/Managua:20250529T100000
DTEND;TZID=America/Managua:20250529T130000
DTSTAMP:20260422T174623
CREATED:20250528T143338Z
LAST-MODIFIED:20250528T143338Z
UID:23767-1748512800-1748523600@www.una.edu.ni
SUMMARY:Curso “Manejo y crianza de tilapias”
DESCRIPTION:
URL:https://www.una.edu.ni/event/curso-manejo-y-crianza-de-tilapias/
LOCATION:Universidad Nacional Agraria\, Managua\, km 12 1/2\, Managua\, Nicaragua
CATEGORIES:CURSO
END:VEVENT
BEGIN:VEVENT
DTSTART;TZID=America/Managua:20250529T110000
DTEND;TZID=America/Managua:20250529T130000
DTSTAMP:20260422T174623
CREATED:20250528T143513Z
LAST-MODIFIED:20250528T143513Z
UID:23769-1748516400-1748523600@www.una.edu.ni
SUMMARY:Sesión No. 17 del Diplomado de Tecnologías Agropecuarias con el tema “Tecnologías digitales para la producción de hortalizas”
DESCRIPTION:
URL:https://www.una.edu.ni/event/sesion-no-17-del-diplomado-de-tecnologias-agropecuarias-con-el-tema-tecnologias-digitales-para-la-produccion-de-hortalizas/
LOCATION:Plataforma UALN\, Nicaragua
CATEGORIES:DIPLOMADO
END:VEVENT
BEGIN:VEVENT
DTSTART;TZID=America/Managua:20250529T110000
DTEND;TZID=America/Managua:20250529T130000
DTSTAMP:20260422T174623
CREATED:20250528T144623Z
LAST-MODIFIED:20250528T144623Z
UID:23786-1748516400-1748523600@www.una.edu.ni
SUMMARY:Espectáculo Artístico de Música y Danza en saludo a las madres nicaragüenses
DESCRIPTION:
URL:https://www.una.edu.ni/event/espectaculo-artistico-de-musica-y-danza-en-saludo-a-las-madres-nicaraguenses/
LOCATION:Universidad Nacional Agraria\, Managua\, km 12 1/2\, Managua\, Nicaragua
CATEGORIES:OTROS
END:VEVENT
BEGIN:VEVENT
DTSTART;TZID=America/Managua:20250529T130000
DTEND;TZID=America/Managua:20250529T160000
DTSTAMP:20260422T174623
CREATED:20250528T144437Z
LAST-MODIFIED:20250528T144437Z
UID:23784-1748523600-1748534400@www.una.edu.ni
SUMMARY:Foro Científico sobre uso de la inteligencia artificial en ellos procesos de investigación agropecuaria
DESCRIPTION:
URL:https://www.una.edu.ni/event/foro-cientifico-sobre-uso-de-la-inteligencia-artificial-en-ellos-procesos-de-investigacion-agropecuaria/
LOCATION:Universidad Nacional Agraria\, Managua\, km 12 1/2\, Managua\, Nicaragua
CATEGORIES:FORO
END:VEVENT
END:VCALENDAR