BEGIN:VCALENDAR
VERSION:2.0
PRODID:-//Universidad Nacional Agraria - ECPv6.15.20//NONSGML v1.0//EN
CALSCALE:GREGORIAN
METHOD:PUBLISH
X-WR-CALNAME:Universidad Nacional Agraria
X-ORIGINAL-URL:https://www.una.edu.ni
X-WR-CALDESC:Eventos para Universidad Nacional Agraria
REFRESH-INTERVAL;VALUE=DURATION:PT1H
X-Robots-Tag:noindex
X-PUBLISHED-TTL:PT1H
BEGIN:VTIMEZONE
TZID:America/Managua
BEGIN:STANDARD
TZOFFSETFROM:-0600
TZOFFSETTO:-0600
TZNAME:CST
DTSTART:20240101T000000
END:STANDARD
END:VTIMEZONE
BEGIN:VEVENT
DTSTART;TZID=America/Managua:20250531T090000
DTEND;TZID=America/Managua:20250531T160000
DTSTAMP:20260422T174620
CREATED:20250528T145051Z
LAST-MODIFIED:20250528T145051Z
UID:23793-1748682000-1748707200@www.una.edu.ni
SUMMARY:Jornada de desparasitación masiva y de bienestar animal en bovinos
DESCRIPTION:
URL:https://www.una.edu.ni/event/jornada-de-desparasitacion-masiva-y-de-bienestar-animal-en-bovinos-2/
LOCATION:Boaco Viejo\, Villa Revolución\, Camoapa\, Nicaragua
CATEGORIES:JORNADA
END:VEVENT
END:VCALENDAR