BEGIN:VCALENDAR
VERSION:2.0
PRODID:-//Universidad Nacional Agraria - ECPv6.15.20//NONSGML v1.0//EN
CALSCALE:GREGORIAN
METHOD:PUBLISH
X-ORIGINAL-URL:https://www.una.edu.ni
X-WR-CALDESC:Eventos para Universidad Nacional Agraria
REFRESH-INTERVAL;VALUE=DURATION:PT1H
X-Robots-Tag:noindex
X-PUBLISHED-TTL:PT1H
BEGIN:VTIMEZONE
TZID:America/Managua
BEGIN:STANDARD
TZOFFSETFROM:-0600
TZOFFSETTO:-0600
TZNAME:CST
DTSTART:20240101T000000
END:STANDARD
END:VTIMEZONE
BEGIN:VEVENT
DTSTART;TZID=America/Managua:20250602T090000
DTEND;TZID=America/Managua:20250602T120000
DTSTAMP:20260422T175454
CREATED:20250602T163751Z
LAST-MODIFIED:20250602T163751Z
UID:23842-1748854800-1748865600@www.una.edu.ni
SUMMARY:Taller sobre Buenas prácticas agropecuarias en granjas bovinas
DESCRIPTION:
URL:https://www.una.edu.ni/event/taller-sobre-buenas-practicas-agropecuarias-en-granjas-bovinas/
LOCATION:Centro Universitario Regional UNA Juigalpa\, Juigapa
CATEGORIES:TALLER
END:VEVENT
BEGIN:VEVENT
DTSTART;TZID=America/Managua:20250602T100000
DTEND;TZID=America/Managua:20250602T120000
DTSTAMP:20260422T175454
CREATED:20250602T163841Z
LAST-MODIFIED:20250602T163841Z
UID:23844-1748858400-1748865600@www.una.edu.ni
SUMMARY:Taller sobre Manejo agronómico de cultivos de hortalizas y granos básicos
DESCRIPTION:
URL:https://www.una.edu.ni/event/taller-sobre-manejo-agronomico-de-cultivos-de-hortalizas-y-granos-basicos/
LOCATION:Centro Universitario Regional UNA Juigalpa\, Juigapa
CATEGORIES:TALLER
END:VEVENT
BEGIN:VEVENT
DTSTART;TZID=America/Managua:20250602T100000
DTEND;TZID=America/Managua:20250602T130000
DTSTAMP:20260422T175454
CREATED:20250602T163526Z
LAST-MODIFIED:20250602T163526Z
UID:23838-1748858400-1748869200@www.una.edu.ni
SUMMARY:Conferencia inteligencia artificial para la sostenibilidad de la agricultura moderna
DESCRIPTION:
URL:https://www.una.edu.ni/event/conferencia-inteligencia-artificial-para-la-sostenibilidad-de-la-agricultura-moderna/
LOCATION:Universidad Nacional Agraria\, Managua\, km 12 1/2\, Managua\, Nicaragua
CATEGORIES:CONFERENCIA
END:VEVENT
BEGIN:VEVENT
DTSTART;TZID=America/Managua:20250602T130000
DTEND;TZID=America/Managua:20250602T170000
DTSTAMP:20260422T175454
CREATED:20250602T163621Z
LAST-MODIFIED:20250602T163621Z
UID:23840-1748869200-1748883600@www.una.edu.ni
SUMMARY:Conferencia sobre fermentación del cacao y su incidencia en la calidad del chocolate
DESCRIPTION:
URL:https://www.una.edu.ni/event/conferencia-sobre-fermentacion-del-cacao-y-su-incidencia-en-la-calidad-del-chocolate/
LOCATION:Universidad Nacional Agraria\, Managua\, km 12 1/2\, Managua\, Nicaragua
CATEGORIES:CONFERENCIA
END:VEVENT
BEGIN:VEVENT
DTSTART;TZID=America/Managua:20250602T133000
DTEND;TZID=America/Managua:20250602T170000
DTSTAMP:20260422T175454
CREATED:20250602T163120Z
LAST-MODIFIED:20250602T163120Z
UID:23829-1748871000-1748883600@www.una.edu.ni
SUMMARY:Entrega de Certificados a protagonistas del Diplomado Sistemas agropecuarios en parcelas productivas
DESCRIPTION:
URL:https://www.una.edu.ni/event/entrega-de-certificados-a-protagonistas-del-diplomado-sistemas-agropecuarios-en-parcelas-productivas/
LOCATION:Universidad Nacional Agraria\, Managua\, km 12 1/2\, Managua\, Nicaragua
CATEGORIES:OTROS
END:VEVENT
BEGIN:VEVENT
DTSTART;TZID=America/Managua:20250602T150000
DTEND;TZID=America/Managua:20250602T170000
DTSTAMP:20260422T175454
CREATED:20250602T144012Z
LAST-MODIFIED:20250602T144012Z
UID:23823-1748876400-1748883600@www.una.edu.ni
SUMMARY:Lanzamiento de la App “Escritorio Docente-EDOC”\, para Registro digital de asistencia estudiantil\, desarrollada por la Dirección de Informática de la universidad
DESCRIPTION:
URL:https://www.una.edu.ni/event/lanzamiento-de-la-app-escritorio-docente-edoc-para-registro-digital-de-asistencia-estudiantil-desarrollada-por-la-direccion-de-informatica-de-la-universidad/
LOCATION:Universidad Nacional Agraria\, Managua\, km 12 1/2\, Managua\, Nicaragua
CATEGORIES:LANZAMIENTO
END:VEVENT
END:VCALENDAR