BEGIN:VCALENDAR
VERSION:2.0
PRODID:-//Universidad Nacional Agraria - ECPv6.15.20//NONSGML v1.0//EN
CALSCALE:GREGORIAN
METHOD:PUBLISH
X-ORIGINAL-URL:https://www.una.edu.ni
X-WR-CALDESC:Eventos para Universidad Nacional Agraria
REFRESH-INTERVAL;VALUE=DURATION:PT1H
X-Robots-Tag:noindex
X-PUBLISHED-TTL:PT1H
BEGIN:VTIMEZONE
TZID:America/Managua
BEGIN:STANDARD
TZOFFSETFROM:-0600
TZOFFSETTO:-0600
TZNAME:CST
DTSTART:20240101T000000
END:STANDARD
END:VTIMEZONE
BEGIN:VEVENT
DTSTART;TZID=America/Managua:20250605T083000
DTEND;TZID=America/Managua:20250605T120000
DTSTAMP:20260422T191513
CREATED:20250604T171040Z
LAST-MODIFIED:20250604T171040Z
UID:23935-1749112200-1749124800@www.una.edu.ni
SUMMARY:Presentación de estrategias para la adaptación del cambio climático en pro del bienestar animal en los Programas de Universidad en el Campo
DESCRIPTION:
URL:https://www.una.edu.ni/event/presentacion-de-estrategias-para-la-adaptacion-del-cambio-climatico-en-pro-del-bienestar-animal-en-los-programas-de-universidad-en-el-campo/
LOCATION:Universidad Nacional Agraria\, Managua\, km 12 1/2\, Managua\, Nicaragua
CATEGORIES:PRESENTACIÓN
END:VEVENT
BEGIN:VEVENT
DTSTART;TZID=America/Managua:20250605T090000
DTEND;TZID=America/Managua:20250605T120000
DTSTAMP:20260422T191513
CREATED:20250604T170344Z
LAST-MODIFIED:20250604T170344Z
UID:23929-1749114000-1749124800@www.una.edu.ni
SUMMARY:Feria Académica “Innovación Tecnológica para el desarrollo agropecuario”
DESCRIPTION:
URL:https://www.una.edu.ni/event/feria-academica-innovacion-tecnologica-para-el-desarrollo-agropecuario/
LOCATION:Universidad Nacional Agraria\, Managua\, km 12 1/2\, Managua\, Nicaragua
CATEGORIES:FERIA
END:VEVENT
BEGIN:VEVENT
DTSTART;TZID=America/Managua:20250605T090000
DTEND;TZID=America/Managua:20250605T120000
DTSTAMP:20260422T191513
CREATED:20250604T170703Z
LAST-MODIFIED:20250604T170703Z
UID:23931-1749114000-1749124800@www.una.edu.ni
SUMMARY:Feria de Innovación Agroindustrial en Cacao\, con exposición de proyectos estudiantiles\, Panel con expertos invitados y degustaciones
DESCRIPTION:
URL:https://www.una.edu.ni/event/feria-de-innovacion-agroindustrial-en-cacao-con-exposicion-de-proyectos-estudiantiles-panel-con-expertos-invitados-y-degustaciones/
LOCATION:Universidad Nacional Agraria\, Managua\, km 12 1/2\, Managua\, Nicaragua
CATEGORIES:FERIA
END:VEVENT
BEGIN:VEVENT
DTSTART;TZID=America/Managua:20250605T100000
DTEND;TZID=America/Managua:20250605T120000
DTSTAMP:20260422T191513
CREATED:20250602T163004Z
LAST-MODIFIED:20250602T163004Z
UID:23827-1749117600-1749124800@www.una.edu.ni
SUMMARY:Inauguración de mejoras de Clínica Veterinaria en CUR Camoapa
DESCRIPTION:
URL:https://www.una.edu.ni/event/inauguracion-de-mejoras-de-clinica-veterinaria-en-cur-camoapa/
LOCATION:Centro Universitario Regional UNA Camoapa\, Camoapa
CATEGORIES:INAUGURACIÓN
END:VEVENT
BEGIN:VEVENT
DTSTART;TZID=America/Managua:20250605T100000
DTEND;TZID=America/Managua:20250605T120000
DTSTAMP:20260422T191513
CREATED:20250604T171241Z
LAST-MODIFIED:20250604T171241Z
UID:23937-1749117600-1749124800@www.una.edu.ni
SUMMARY:Simposio sobre diagnóstico de enfermedades infecciosas en animales domésticos
DESCRIPTION:
URL:https://www.una.edu.ni/event/simposio-sobre-diagnostico-de-enfermedades-infecciosas-en-animales-domesticos/
LOCATION:Universidad Nacional Agraria\, Managua\, km 12 1/2\, Managua\, Nicaragua
CATEGORIES:Simposio
END:VEVENT
BEGIN:VEVENT
DTSTART;TZID=America/Managua:20250605T110000
DTEND;TZID=America/Managua:20250605T130000
DTSTAMP:20260422T191513
CREATED:20250604T170820Z
LAST-MODIFIED:20250604T170820Z
UID:23933-1749121200-1749128400@www.una.edu.ni
SUMMARY:Sesión No. 18 del Diplomado de Tecnologías Agropecuarias con el tema “Técnicas para asegurar la producción segura de hortalizas”
DESCRIPTION:
URL:https://www.una.edu.ni/event/sesion-no-18-del-diplomado-de-tecnologias-agropecuarias-con-el-tema-tecnicas-para-asegurar-la-produccion-segura-de-hortalizas/
LOCATION:Plataforma UALN\, Nicaragua
CATEGORIES:OTROS
END:VEVENT
BEGIN:VEVENT
DTSTART;TZID=America/Managua:20250605T110000
DTEND;TZID=America/Managua:20250605T130000
DTSTAMP:20260422T191513
CREATED:20250604T171358Z
LAST-MODIFIED:20250604T171358Z
UID:23939-1749121200-1749128400@www.una.edu.ni
SUMMARY:Conferencia “Biodiversidad y Cambio Climático”
DESCRIPTION:
URL:https://www.una.edu.ni/event/conferencia-biodiversidad-y-cambio-climatico/
LOCATION:Universidad Nacional Agraria\, Managua\, km 12 1/2\, Managua\, Nicaragua
CATEGORIES:CONFERENCIA
END:VEVENT
END:VCALENDAR