BEGIN:VCALENDAR
VERSION:2.0
PRODID:-//Universidad Nacional Agraria - ECPv6.15.20//NONSGML v1.0//EN
CALSCALE:GREGORIAN
METHOD:PUBLISH
X-WR-CALNAME:Universidad Nacional Agraria
X-ORIGINAL-URL:https://www.una.edu.ni
X-WR-CALDESC:Eventos para Universidad Nacional Agraria
REFRESH-INTERVAL;VALUE=DURATION:PT1H
X-Robots-Tag:noindex
X-PUBLISHED-TTL:PT1H
BEGIN:VTIMEZONE
TZID:Europe/Madrid
BEGIN:DAYLIGHT
TZOFFSETFROM:+0100
TZOFFSETTO:+0200
TZNAME:CEST
DTSTART:20240331T010000
END:DAYLIGHT
BEGIN:STANDARD
TZOFFSETFROM:+0200
TZOFFSETTO:+0100
TZNAME:CET
DTSTART:20241027T010000
END:STANDARD
BEGIN:DAYLIGHT
TZOFFSETFROM:+0100
TZOFFSETTO:+0200
TZNAME:CEST
DTSTART:20250330T010000
END:DAYLIGHT
BEGIN:STANDARD
TZOFFSETFROM:+0200
TZOFFSETTO:+0100
TZNAME:CET
DTSTART:20251026T010000
END:STANDARD
BEGIN:DAYLIGHT
TZOFFSETFROM:+0100
TZOFFSETTO:+0200
TZNAME:CEST
DTSTART:20260329T010000
END:DAYLIGHT
BEGIN:STANDARD
TZOFFSETFROM:+0200
TZOFFSETTO:+0100
TZNAME:CET
DTSTART:20261025T010000
END:STANDARD
END:VTIMEZONE
BEGIN:VTIMEZONE
TZID:America/Managua
BEGIN:STANDARD
TZOFFSETFROM:-0600
TZOFFSETTO:-0600
TZNAME:CST
DTSTART:20240101T000000
END:STANDARD
END:VTIMEZONE
BEGIN:VEVENT
DTSTART;VALUE=DATE:20250606
DTEND;VALUE=DATE:20250608
DTSTAMP:20260422T174623
CREATED:20250606T144855Z
LAST-MODIFIED:20250606T144855Z
UID:23971-1749168000-1749340799@www.una.edu.ni
SUMMARY:Participación de estudiantes protagonistas en Rally Nacional de Innovación
DESCRIPTION:
URL:https://www.una.edu.ni/event/participacion-de-estudiantes-protagonistas-en-rally-nacional-de-innovacion/
LOCATION:Universidad Nacional Agraria\, Managua\, km 12 1/2\, Managua\, Nicaragua
CATEGORIES:OTROS
END:VEVENT
BEGIN:VEVENT
DTSTART;TZID=America/Managua:20250606T080000
DTEND;TZID=America/Managua:20250606T120000
DTSTAMP:20260422T174623
CREATED:20250606T145127Z
LAST-MODIFIED:20250606T145127Z
UID:23975-1749196800-1749211200@www.una.edu.ni
SUMMARY:Taller sobre Diagnóstico reproductivo en ganado bovino
DESCRIPTION:
URL:https://www.una.edu.ni/event/taller-sobre-diagnostico-reproductivo-en-ganado-bovino/
LOCATION:Universidad Nacional Agraria\, Managua\, km 12 1/2\, Managua\, Nicaragua
CATEGORIES:TALLER
END:VEVENT
BEGIN:VEVENT
DTSTART;TZID=America/Managua:20250606T080000
DTEND;TZID=America/Managua:20250606T120000
DTSTAMP:20260422T174623
CREATED:20250606T150816Z
LAST-MODIFIED:20250606T150816Z
UID:23992-1749196800-1749211200@www.una.edu.ni
SUMMARY:Jornada de Reforestación "Siembra un futuro verde\, planta un árbol hoy" en saludo al Día Mundial del Ambiente
DESCRIPTION:
URL:https://www.una.edu.ni/event/jornada-de-reforestacion-siembra-un-futuro-verde-planta-un-arbol-hoy-en-saludo-al-dia-mundial-del-ambiente-2/
LOCATION:UNICAM El Rama\, Nicaragua
CATEGORIES:JORNADA
END:VEVENT
BEGIN:VEVENT
DTSTART;TZID=America/Managua:20250606T083000
DTEND;TZID=America/Managua:20250606T120000
DTSTAMP:20260422T174623
CREATED:20250606T144628Z
LAST-MODIFIED:20250606T144628Z
UID:23969-1749198600-1749211200@www.una.edu.ni
SUMMARY:Presentación de ensayos académicos de investigación agropecuaria
DESCRIPTION:
URL:https://www.una.edu.ni/event/presentacion-de-ensayos-academicos-de-investigacion-agropecuaria/
LOCATION:Universidad Nacional Agraria\, Managua\, km 12 1/2\, Managua\, Nicaragua
CATEGORIES:PRESENTACIÓN
END:VEVENT
BEGIN:VEVENT
DTSTART;TZID=America/Managua:20250606T090000
DTEND;TZID=America/Managua:20250606T120000
DTSTAMP:20260422T174623
CREATED:20250606T145020Z
LAST-MODIFIED:20250606T145020Z
UID:23973-1749200400-1749211200@www.una.edu.ni
SUMMARY:Conferencia sobre alternativas tecnológicas sostenibles en los sistemas de producción agropecuario
DESCRIPTION:
URL:https://www.una.edu.ni/event/conferencia-sobre-alternativas-tecnologicas-sostenibles-en-los-sistemas-de-produccion-agropecuario/
LOCATION:Universidad Nacional Agraria\, Managua\, km 12 1/2\, Managua\, Nicaragua
CATEGORIES:CONFERENCIA
END:VEVENT
BEGIN:VEVENT
DTSTART;TZID=America/Managua:20250606T090000
DTEND;TZID=America/Managua:20250606T120000
DTSTAMP:20260422T174623
CREATED:20250606T145345Z
LAST-MODIFIED:20250606T145345Z
UID:23980-1749200400-1749211200@www.una.edu.ni
SUMMARY:Taller sobre Cosecha de semillas de moringa olifeira para establecimiento de bancos forrajeros
DESCRIPTION:
URL:https://www.una.edu.ni/event/taller-sobre-cosecha-de-semillas-de-moringa-olifeira-para-establecimiento-de-bancos-forrajeros/
LOCATION:Universidad Nacional Agraria\, Managua\, km 12 1/2\, Managua\, Nicaragua
CATEGORIES:TALLER
END:VEVENT
BEGIN:VEVENT
DTSTART;TZID=America/Managua:20250606T090000
DTEND;TZID=America/Managua:20250606T120000
DTSTAMP:20260422T174623
CREATED:20250606T145625Z
LAST-MODIFIED:20250606T145625Z
UID:23984-1749200400-1749211200@www.una.edu.ni
SUMMARY:Taller sobre Elaboración de tortas de carne con inclusión de marango
DESCRIPTION:
URL:https://www.una.edu.ni/event/taller-sobre-elaboracion-de-tortas-de-carne-con-inclusion-de-marango/
LOCATION:Centro de Desarrollo Moringa Comandante Fidel\, municipio de León\, Nicaragua
CATEGORIES:TALLER
END:VEVENT
BEGIN:VEVENT
DTSTART;TZID=America/Managua:20250606T100000
DTEND;TZID=America/Managua:20250606T130000
DTSTAMP:20260422T174623
CREATED:20250606T145453Z
LAST-MODIFIED:20250606T145453Z
UID:23982-1749204000-1749214800@www.una.edu.ni
SUMMARY:Taller sobre Técnicas de reproducción de codorniz
DESCRIPTION:
URL:https://www.una.edu.ni/event/taller-sobre-tecnicas-de-reproduccion-de-codorniz/
LOCATION:UNICAM El Rama\, Nicaragua
CATEGORIES:TALLER
END:VEVENT
END:VCALENDAR