BEGIN:VCALENDAR
VERSION:2.0
PRODID:-//Universidad Nacional Agraria - ECPv6.15.20//NONSGML v1.0//EN
CALSCALE:GREGORIAN
METHOD:PUBLISH
X-WR-CALNAME:Universidad Nacional Agraria
X-ORIGINAL-URL:https://www.una.edu.ni
X-WR-CALDESC:Eventos para Universidad Nacional Agraria
REFRESH-INTERVAL;VALUE=DURATION:PT1H
X-Robots-Tag:noindex
X-PUBLISHED-TTL:PT1H
BEGIN:VTIMEZONE
TZID:America/Managua
BEGIN:STANDARD
TZOFFSETFROM:-0600
TZOFFSETTO:-0600
TZNAME:CST
DTSTART:20240101T000000
END:STANDARD
END:VTIMEZONE
BEGIN:VTIMEZONE
TZID:Europe/Madrid
BEGIN:DAYLIGHT
TZOFFSETFROM:+0100
TZOFFSETTO:+0200
TZNAME:CEST
DTSTART:20240331T010000
END:DAYLIGHT
BEGIN:STANDARD
TZOFFSETFROM:+0200
TZOFFSETTO:+0100
TZNAME:CET
DTSTART:20241027T010000
END:STANDARD
BEGIN:DAYLIGHT
TZOFFSETFROM:+0100
TZOFFSETTO:+0200
TZNAME:CEST
DTSTART:20250330T010000
END:DAYLIGHT
BEGIN:STANDARD
TZOFFSETFROM:+0200
TZOFFSETTO:+0100
TZNAME:CET
DTSTART:20251026T010000
END:STANDARD
BEGIN:DAYLIGHT
TZOFFSETFROM:+0100
TZOFFSETTO:+0200
TZNAME:CEST
DTSTART:20260329T010000
END:DAYLIGHT
BEGIN:STANDARD
TZOFFSETFROM:+0200
TZOFFSETTO:+0100
TZNAME:CET
DTSTART:20261025T010000
END:STANDARD
END:VTIMEZONE
BEGIN:VEVENT
DTSTART;TZID=America/Managua:20250610T080000
DTEND;TZID=America/Managua:20250610T120000
DTSTAMP:20260422T174622
CREATED:20250609T143912Z
LAST-MODIFIED:20250609T143912Z
UID:24067-1749542400-1749556800@www.una.edu.ni
SUMMARY:Presentación de resultados de proyectos de investigación en salud animal
DESCRIPTION:
URL:https://www.una.edu.ni/event/presentacion-de-resultados-de-proyectos-de-investigacion-en-salud-animal/
LOCATION:Universidad Nacional Agraria\, Managua\, km 12 1/2\, Managua\, Nicaragua
CATEGORIES:PRESENTACIÓN
END:VEVENT
BEGIN:VEVENT
DTSTART;TZID=America/Managua:20250610T080000
DTEND;TZID=America/Managua:20250610T120000
DTSTAMP:20260422T174622
CREATED:20250609T145220Z
LAST-MODIFIED:20250609T145220Z
UID:24071-1749542400-1749556800@www.una.edu.ni
SUMMARY:Feria de ideas y proyectos innovadores agropecuarios
DESCRIPTION:
URL:https://www.una.edu.ni/event/feria-de-ideas-y-proyectos-innovadores-agropecuarios/
LOCATION:Universidad Nacional Agraria\, Managua\, km 12 1/2\, Managua\, Nicaragua
CATEGORIES:FERIA
END:VEVENT
BEGIN:VEVENT
DTSTART;TZID=America/Managua:20250610T080000
DTEND;TZID=America/Managua:20250610T120000
DTSTAMP:20260422T174622
CREATED:20250609T145505Z
LAST-MODIFIED:20250609T145505Z
UID:24075-1749542400-1749556800@www.una.edu.ni
SUMMARY:Taller sobre Alternativas tecnológicas para la alimentación de aves y cerdos en granjas familiares
DESCRIPTION:
URL:https://www.una.edu.ni/event/taller-sobre-alternativas-tecnologicas-para-la-alimentacion-de-aves-y-cerdos-en-granjas-familiares/
LOCATION:Universidad Nacional Agraria\, Managua\, km 12 1/2\, Managua\, Nicaragua
CATEGORIES:TALLER
END:VEVENT
BEGIN:VEVENT
DTSTART;TZID=America/Managua:20250610T083000
DTEND;TZID=America/Managua:20250610T120000
DTSTAMP:20260422T174622
CREATED:20250609T144431Z
LAST-MODIFIED:20250609T144431Z
UID:24069-1749544200-1749556800@www.una.edu.ni
SUMMARY:Sesión No. 03 del Curso en Producción orgánica de frutas y hortalizas\, dirigido a productores del Municipio de Managua
DESCRIPTION:
URL:https://www.una.edu.ni/event/sesion-no-03-del-curso-en-produccion-organica-de-frutas-y-hortalizas-dirigido-a-productores-del-municipio-de-managua/
LOCATION:Universidad Nacional Agraria\, Managua\, km 12 1/2\, Managua\, Nicaragua
CATEGORIES:CURSO
END:VEVENT
BEGIN:VEVENT
DTSTART;TZID=America/Managua:20250610T083000
DTEND;TZID=America/Managua:20250610T120000
DTSTAMP:20260422T174622
CREATED:20250609T145715Z
LAST-MODIFIED:20250609T145715Z
UID:24079-1749544200-1749556800@www.una.edu.ni
SUMMARY:Taller sobre Diagnóstico de enfermedades digestivas en ganado bovino
DESCRIPTION:
URL:https://www.una.edu.ni/event/taller-sobre-diagnostico-de-enfermedades-digestivas-en-ganado-bovino/
LOCATION:Universidad Nacional Agraria\, Managua\, km 12 1/2\, Managua\, Nicaragua
CATEGORIES:TALLER
END:VEVENT
BEGIN:VEVENT
DTSTART;TZID=America/Managua:20250610T090000
DTEND;TZID=America/Managua:20250610T120000
DTSTAMP:20260422T174622
CREATED:20250609T145351Z
LAST-MODIFIED:20250609T145351Z
UID:24073-1749546000-1749556800@www.una.edu.ni
SUMMARY:Foro sobre establecimiento de producción semi intensivo en gallinas de patio
DESCRIPTION:
URL:https://www.una.edu.ni/event/foro-sobre-establecimiento-de-produccion-semi-intensivo-en-gallinas-de-patio/
LOCATION:Universidad Nacional Agraria\, Managua\, km 12 1/2\, Managua\, Nicaragua
CATEGORIES:FORO
END:VEVENT
BEGIN:VEVENT
DTSTART;TZID=America/Managua:20250610T090000
DTEND;TZID=America/Managua:20250610T120000
DTSTAMP:20260422T174622
CREATED:20250609T145557Z
LAST-MODIFIED:20250609T145557Z
UID:24077-1749546000-1749556800@www.una.edu.ni
SUMMARY:Taller sobre Mejora genética en ganado bovino
DESCRIPTION:
URL:https://www.una.edu.ni/event/taller-sobre-mejora-genetica-en-ganado-bovino/
LOCATION:Universidad Nacional Agraria\, Managua\, km 12 1/2\, Managua\, Nicaragua
CATEGORIES:TALLER
END:VEVENT
BEGIN:VEVENT
DTSTART;TZID=America/Managua:20250610T090000
DTEND;TZID=America/Managua:20250610T120000
DTSTAMP:20260422T174622
CREATED:20250609T145837Z
LAST-MODIFIED:20250609T145837Z
UID:24081-1749546000-1749556800@www.una.edu.ni
SUMMARY:Taller sobre Elaboración artesanal de chocolate
DESCRIPTION:
URL:https://www.una.edu.ni/event/taller-sobre-elaboracion-artesanal-de-chocolate/
LOCATION:Universidad Nacional Agraria\, Managua\, km 12 1/2\, Managua\, Nicaragua
CATEGORIES:TALLER
END:VEVENT
BEGIN:VEVENT
DTSTART;TZID=Europe/Madrid:20250610T100000
DTEND;TZID=Europe/Madrid:20250610T120000
DTSTAMP:20260422T174622
CREATED:20250609T143720Z
LAST-MODIFIED:20250609T143720Z
UID:24064-1749549600-1749556800@www.una.edu.ni
SUMMARY:Entrega de equipos educativos para formación práctica a Centro Universitario “Héroes de Chinandega”
DESCRIPTION:
URL:https://www.una.edu.ni/event/entrega-de-equipos-educativos-para-formacion-practica-a-centro-universitario-heroes-de-chinandega/
LOCATION:Centro Universitario “Héroes de Chinandega”\, Nicaragua
CATEGORIES:OTROS
END:VEVENT
BEGIN:VEVENT
DTSTART;TZID=America/Managua:20250610T100000
DTEND;TZID=America/Managua:20250610T130000
DTSTAMP:20260422T174622
CREATED:20250609T151042Z
LAST-MODIFIED:20250609T151042Z
UID:24088-1749549600-1749560400@www.una.edu.ni
SUMMARY:Taller sobre Esterilización de cerdos de inicio
DESCRIPTION:
URL:https://www.una.edu.ni/event/taller-sobre-esterilizacion-de-cerdos-de-inicio/
LOCATION:Programa Porcino “Cocibolca”\, Nicaragua
CATEGORIES:TALLER
END:VEVENT
BEGIN:VEVENT
DTSTART;TZID=America/Managua:20250610T130000
DTEND;TZID=America/Managua:20250610T170000
DTSTAMP:20260422T174622
CREATED:20250609T145945Z
LAST-MODIFIED:20250609T145945Z
UID:24083-1749560400-1749574800@www.una.edu.ni
SUMMARY:Taller sobre Cultivo y producción de plátano con bioestimulantes
DESCRIPTION:
URL:https://www.una.edu.ni/event/taller-sobre-cultivo-y-produccion-de-platano-con-bioestimulantes/
LOCATION:Comunidad Los Sábalos\, Nicaragua
CATEGORIES:TALLER
END:VEVENT
BEGIN:VEVENT
DTSTART;TZID=America/Managua:20250610T130000
DTEND;TZID=America/Managua:20250610T170000
DTSTAMP:20260422T174622
CREATED:20250609T150940Z
LAST-MODIFIED:20250609T150940Z
UID:24086-1749560400-1749574800@www.una.edu.ni
SUMMARY:Taller sobre Manejo de granos básicos
DESCRIPTION:
URL:https://www.una.edu.ni/event/taller-sobre-manejo-de-granos-basicos/
LOCATION:UNICAM Muelle de los Bueyes\, Nicaragua
CATEGORIES:TALLER
END:VEVENT
END:VCALENDAR