BEGIN:VCALENDAR
VERSION:2.0
PRODID:-//Universidad Nacional Agraria - ECPv6.15.20//NONSGML v1.0//EN
CALSCALE:GREGORIAN
METHOD:PUBLISH
X-WR-CALNAME:Universidad Nacional Agraria
X-ORIGINAL-URL:https://www.una.edu.ni
X-WR-CALDESC:Eventos para Universidad Nacional Agraria
REFRESH-INTERVAL;VALUE=DURATION:PT1H
X-Robots-Tag:noindex
X-PUBLISHED-TTL:PT1H
BEGIN:VTIMEZONE
TZID:America/Managua
BEGIN:STANDARD
TZOFFSETFROM:-0600
TZOFFSETTO:-0600
TZNAME:CST
DTSTART:20240101T000000
END:STANDARD
END:VTIMEZONE
BEGIN:VTIMEZONE
TZID:Europe/Madrid
BEGIN:DAYLIGHT
TZOFFSETFROM:+0100
TZOFFSETTO:+0200
TZNAME:CEST
DTSTART:20240331T010000
END:DAYLIGHT
BEGIN:STANDARD
TZOFFSETFROM:+0200
TZOFFSETTO:+0100
TZNAME:CET
DTSTART:20241027T010000
END:STANDARD
BEGIN:DAYLIGHT
TZOFFSETFROM:+0100
TZOFFSETTO:+0200
TZNAME:CEST
DTSTART:20250330T010000
END:DAYLIGHT
BEGIN:STANDARD
TZOFFSETFROM:+0200
TZOFFSETTO:+0100
TZNAME:CET
DTSTART:20251026T010000
END:STANDARD
BEGIN:DAYLIGHT
TZOFFSETFROM:+0100
TZOFFSETTO:+0200
TZNAME:CEST
DTSTART:20260329T010000
END:DAYLIGHT
BEGIN:STANDARD
TZOFFSETFROM:+0200
TZOFFSETTO:+0100
TZNAME:CET
DTSTART:20261025T010000
END:STANDARD
END:VTIMEZONE
BEGIN:VEVENT
DTSTART;TZID=America/Managua:20250624T090000
DTEND;TZID=America/Managua:20250624T120000
DTSTAMP:20260422T191337
CREATED:20250623T144120Z
LAST-MODIFIED:20250623T144120Z
UID:24330-1750755600-1750766400@www.una.edu.ni
SUMMARY:Presentación de herramientas digitales para estudio de variedades de especies animales en peligro de extinción
DESCRIPTION:
URL:https://www.una.edu.ni/event/presentacion-de-herramientas-digitales-para-estudio-de-variedades-de-especies-animales-en-peligro-de-extincion/
LOCATION:Universidad Nacional Agraria\, Managua\, km 12 1/2\, Managua\, Nicaragua
CATEGORIES:PRESENTACIÓN
END:VEVENT
BEGIN:VEVENT
DTSTART;TZID=America/Managua:20250624T090000
DTEND;TZID=America/Managua:20250624T170000
DTSTAMP:20260422T191337
CREATED:20250623T145449Z
LAST-MODIFIED:20250623T145449Z
UID:24347-1750755600-1750784400@www.una.edu.ni
SUMMARY:Taller sobre Diagnóstico reproductivo en caballos
DESCRIPTION:
URL:https://www.una.edu.ni/event/taller-sobre-diagnostico-reproductivo-en-caballos/
LOCATION:Centro Universitario Regional UNA Camoapa\, Camoapa
CATEGORIES:TALLER
END:VEVENT
BEGIN:VEVENT
DTSTART;TZID=America/Managua:20250624T100000
DTEND;TZID=America/Managua:20250624T120000
DTSTAMP:20260422T191337
CREATED:20250623T144246Z
LAST-MODIFIED:20250623T144246Z
UID:24332-1750759200-1750766400@www.una.edu.ni
SUMMARY:Encuentro con productores para el intercambio de experiencias sobre mejoramiento genético en variedades de cultivos de frijol\, pipián\, ayote y maíz
DESCRIPTION:
URL:https://www.una.edu.ni/event/encuentro-con-productores-para-el-intercambio-de-experiencias-sobre-mejoramiento-genetico-en-variedades-de-cultivos-de-frijol-pipian-ayote-y-maiz/
LOCATION:Centro Universitario “Don Orlando”\, Niquinohomo\, Nicaragua
CATEGORIES:ENCUENTRO
END:VEVENT
BEGIN:VEVENT
DTSTART;TZID=America/Managua:20250624T130000
DTEND;TZID=America/Managua:20250624T170000
DTSTAMP:20260422T191337
CREATED:20250623T143748Z
LAST-MODIFIED:20250623T143748Z
UID:24323-1750770000-1750784400@www.una.edu.ni
SUMMARY:VII Encuentro del Curso sobre Cultivo y producción de plátano
DESCRIPTION:
URL:https://www.una.edu.ni/event/vii-encuentro-del-curso-sobre-cultivo-y-produccion-de-platano/
LOCATION:Comunidad Los Sábalos\, Managua\, Nicaragua
CATEGORIES:ENCUENTRO
END:VEVENT
BEGIN:VEVENT
DTSTART;TZID=America/Managua:20250624T140000
DTEND;TZID=America/Managua:20250624T170000
DTSTAMP:20260422T191337
CREATED:20250623T142705Z
LAST-MODIFIED:20250623T142705Z
UID:24309-1750773600-1750784400@www.una.edu.ni
SUMMARY:Inauguración de Escuela para transformación de frutas y hortalizas
DESCRIPTION:
URL:https://www.una.edu.ni/event/inauguracion-de-escuela-para-transformacion-de-frutas-y-hortalizas/
LOCATION:Centro Universitario Regional UNA Juigalpa\, Juigapa
CATEGORIES:INAUGURACIÓN
END:VEVENT
BEGIN:VEVENT
DTSTART;TZID=Europe/Madrid:20250624T140000
DTEND;TZID=Europe/Madrid:20250624T170000
DTSTAMP:20260422T191337
CREATED:20250623T145653Z
LAST-MODIFIED:20250623T145653Z
UID:24349-1750773600-1750784400@www.una.edu.ni
SUMMARY:Taller sobre Manejo zootécnico en ganado bovino y porcino
DESCRIPTION:
URL:https://www.una.edu.ni/event/taller-sobre-manejo-zootecnico-en-ganado-bovino-y-porcino/
LOCATION:Centro Universitario Regional UNA Juigalpa\, Juigapa
CATEGORIES:TALLER
END:VEVENT
BEGIN:VEVENT
DTSTART;TZID=America/Managua:20250624T140000
DTEND;TZID=America/Managua:20250624T170000
DTSTAMP:20260422T191337
CREATED:20250623T150524Z
LAST-MODIFIED:20250623T150524Z
UID:24358-1750773600-1750784400@www.una.edu.ni
SUMMARY:Juramentación de la militancia de la Sandinistas en la Unidad de Victoria Juan Francisco Paguaga de la UNA
DESCRIPTION:
URL:https://www.una.edu.ni/event/juramentacion-de-la-militancia-de-la-sandinistas-en-la-unidad-de-victoria-juan-francisco-paguaga-de-la-una/
LOCATION:Universidad Nacional Agraria\, Managua\, km 12 1/2\, Managua\, Nicaragua
CATEGORIES:OTROS
END:VEVENT
END:VCALENDAR