BEGIN:VCALENDAR
VERSION:2.0
PRODID:-//Universidad Nacional Agraria - ECPv6.15.20//NONSGML v1.0//EN
CALSCALE:GREGORIAN
METHOD:PUBLISH
X-ORIGINAL-URL:https://www.una.edu.ni
X-WR-CALDESC:Eventos para Universidad Nacional Agraria
REFRESH-INTERVAL;VALUE=DURATION:PT1H
X-Robots-Tag:noindex
X-PUBLISHED-TTL:PT1H
BEGIN:VTIMEZONE
TZID:America/Managua
BEGIN:STANDARD
TZOFFSETFROM:-0600
TZOFFSETTO:-0600
TZNAME:CST
DTSTART:20240101T000000
END:STANDARD
END:VTIMEZONE
BEGIN:VTIMEZONE
TZID:Europe/Madrid
BEGIN:DAYLIGHT
TZOFFSETFROM:+0100
TZOFFSETTO:+0200
TZNAME:CEST
DTSTART:20240331T010000
END:DAYLIGHT
BEGIN:STANDARD
TZOFFSETFROM:+0200
TZOFFSETTO:+0100
TZNAME:CET
DTSTART:20241027T010000
END:STANDARD
BEGIN:DAYLIGHT
TZOFFSETFROM:+0100
TZOFFSETTO:+0200
TZNAME:CEST
DTSTART:20250330T010000
END:DAYLIGHT
BEGIN:STANDARD
TZOFFSETFROM:+0200
TZOFFSETTO:+0100
TZNAME:CET
DTSTART:20251026T010000
END:STANDARD
BEGIN:DAYLIGHT
TZOFFSETFROM:+0100
TZOFFSETTO:+0200
TZNAME:CEST
DTSTART:20260329T010000
END:DAYLIGHT
BEGIN:STANDARD
TZOFFSETFROM:+0200
TZOFFSETTO:+0100
TZNAME:CET
DTSTART:20261025T010000
END:STANDARD
END:VTIMEZONE
BEGIN:VEVENT
DTSTART;TZID=America/Managua:20250625T080000
DTEND;TZID=America/Managua:20250625T120000
DTSTAMP:20260422T175454
CREATED:20250623T144716Z
LAST-MODIFIED:20250623T144716Z
UID:24340-1750838400-1750852800@www.una.edu.ni
SUMMARY:Panel sobre técnicas de mapeo digital de suelos y sensores para la mejora de la productividad y sostenibilidad de los sistemas agrícolas
DESCRIPTION:
URL:https://www.una.edu.ni/event/panel-sobre-tecnicas-de-mapeo-digital-de-suelos-y-sensores-para-la-mejora-de-la-productividad-y-sostenibilidad-de-los-sistemas-agricolas/
LOCATION:Universidad Nacional Agraria\, Managua\, km 12 1/2\, Managua\, Nicaragua
CATEGORIES:PANEL
END:VEVENT
BEGIN:VEVENT
DTSTART;TZID=America/Managua:20250625T083000
DTEND;TZID=America/Managua:20250625T120000
DTSTAMP:20260422T175454
CREATED:20250623T150207Z
LAST-MODIFIED:20250623T150207Z
UID:24353-1750840200-1750852800@www.una.edu.ni
SUMMARY:Taller sobre Formulación y desarrollo de alimentos proteicos para la nutrición acuícola
DESCRIPTION:
URL:https://www.una.edu.ni/event/taller-sobre-formulacion-y-desarrollo-de-alimentos-proteicos-para-la-nutricion-acuicola/
LOCATION:Centro de práctica acuícola\, Nicaragua
CATEGORIES:TALLER
END:VEVENT
BEGIN:VEVENT
DTSTART;TZID=Europe/Madrid:20250625T090000
DTEND;TZID=Europe/Madrid:20250625T120000
DTSTAMP:20260422T175454
CREATED:20250623T145821Z
LAST-MODIFIED:20250623T145916Z
UID:24351-1750842000-1750852800@www.una.edu.ni
SUMMARY:Taller sobre Elaboración de quesos y productos lácteos
DESCRIPTION:
URL:https://www.una.edu.ni/event/taller-sobre-elaboracion-de-quesos-y-productos-lacteos/
LOCATION:Finca Experimental El Plantel\, Nicaragua
CATEGORIES:TALLER
END:VEVENT
BEGIN:VEVENT
DTSTART;TZID=America/Managua:20250625T100000
DTEND;TZID=America/Managua:20250625T130000
DTSTAMP:20260422T175454
CREATED:20250623T143006Z
LAST-MODIFIED:20250623T143006Z
UID:24313-1750845600-1750856400@www.una.edu.ni
SUMMARY:Entrega de certificados a protagonistas del Curso sobre Establecimiento de huertos
DESCRIPTION:
URL:https://www.una.edu.ni/event/entrega-de-certificados-a-protagonistas-del-curso-sobre-establecimiento-de-huertos/
LOCATION:Finca Experimental El Plantel\, Nicaragua
CATEGORIES:OTROS
END:VEVENT
END:VCALENDAR