BEGIN:VCALENDAR
VERSION:2.0
PRODID:-//Universidad Nacional Agraria - ECPv6.15.20//NONSGML v1.0//EN
CALSCALE:GREGORIAN
METHOD:PUBLISH
X-ORIGINAL-URL:https://www.una.edu.ni
X-WR-CALDESC:Eventos para Universidad Nacional Agraria
REFRESH-INTERVAL;VALUE=DURATION:PT1H
X-Robots-Tag:noindex
X-PUBLISHED-TTL:PT1H
BEGIN:VTIMEZONE
TZID:America/Managua
BEGIN:STANDARD
TZOFFSETFROM:-0600
TZOFFSETTO:-0600
TZNAME:CST
DTSTART:20240101T000000
END:STANDARD
END:VTIMEZONE
BEGIN:VTIMEZONE
TZID:Europe/Madrid
BEGIN:DAYLIGHT
TZOFFSETFROM:+0100
TZOFFSETTO:+0200
TZNAME:CEST
DTSTART:20240331T010000
END:DAYLIGHT
BEGIN:STANDARD
TZOFFSETFROM:+0200
TZOFFSETTO:+0100
TZNAME:CET
DTSTART:20241027T010000
END:STANDARD
BEGIN:DAYLIGHT
TZOFFSETFROM:+0100
TZOFFSETTO:+0200
TZNAME:CEST
DTSTART:20250330T010000
END:DAYLIGHT
BEGIN:STANDARD
TZOFFSETFROM:+0200
TZOFFSETTO:+0100
TZNAME:CET
DTSTART:20251026T010000
END:STANDARD
BEGIN:DAYLIGHT
TZOFFSETFROM:+0100
TZOFFSETTO:+0200
TZNAME:CEST
DTSTART:20260329T010000
END:DAYLIGHT
BEGIN:STANDARD
TZOFFSETFROM:+0200
TZOFFSETTO:+0100
TZNAME:CET
DTSTART:20261025T010000
END:STANDARD
END:VTIMEZONE
BEGIN:VEVENT
DTSTART;TZID=America/Managua:20250627T080000
DTEND;TZID=America/Managua:20250627T120000
DTSTAMP:20260422T175453
CREATED:20250623T143155Z
LAST-MODIFIED:20250623T143155Z
UID:24315-1751011200-1751025600@www.una.edu.ni
SUMMARY:Lanzamiento e inicio del Diplomado en Bioinsumos agropecuarios
DESCRIPTION:
URL:https://www.una.edu.ni/event/lanzamiento-e-inicio-del-diplomado-en-bioinsumos-agropecuarios/
LOCATION:Universidad Nacional Agraria\, Managua\, km 12 1/2\, Managua\, Nicaragua
CATEGORIES:LANZAMIENTO
END:VEVENT
BEGIN:VEVENT
DTSTART;TZID=Europe/Madrid:20250627T080000
DTEND;TZID=Europe/Madrid:20250627T120000
DTSTAMP:20260422T175453
CREATED:20250623T150759Z
LAST-MODIFIED:20250623T150759Z
UID:24362-1751011200-1751025600@www.una.edu.ni
SUMMARY:Expo feria gastronómica “Sabores de mi tierra”
DESCRIPTION:
URL:https://www.una.edu.ni/event/expo-feria-gastronomica-sabores-de-mi-tierra/
LOCATION:UNICAM Muelle de los Bueyes\, Nicaragua
CATEGORIES:OTROS
END:VEVENT
BEGIN:VEVENT
DTSTART;TZID=America/Managua:20250627T083000
DTEND;TZID=America/Managua:20250627T120000
DTSTAMP:20260422T175453
CREATED:20250623T145043Z
LAST-MODIFIED:20250623T145043Z
UID:24345-1751013000-1751025600@www.una.edu.ni
SUMMARY:Taller sobre Caracterización de suelo para el establecimiento de maíz forrajero
DESCRIPTION:
URL:https://www.una.edu.ni/event/taller-sobre-caracterizacion-de-suelo-para-el-establecimiento-de-maiz-forrajero-2/
LOCATION:Universidad Nacional Agraria\, Managua\, km 12 1/2\, Managua\, Nicaragua
CATEGORIES:TALLER
END:VEVENT
BEGIN:VEVENT
DTSTART;TZID=America/Managua:20250627T110000
DTEND;TZID=America/Managua:20250627T130000
DTSTAMP:20260422T175453
CREATED:20250623T144007Z
LAST-MODIFIED:20250623T144007Z
UID:24328-1751022000-1751029200@www.una.edu.ni
SUMMARY:Diplomado en Tecnologías agropecuarias\, con el tema “Mejoramiento genético porcino”.
DESCRIPTION:
URL:https://www.una.edu.ni/event/diplomado-en-tecnologias-agropecuarias-con-el-tema-mejoramiento-genetico-porcino/
LOCATION:Plataforma UALN\, Nicaragua
CATEGORIES:DIPLOMADO
END:VEVENT
BEGIN:VEVENT
DTSTART;TZID=America/Managua:20250627T130000
DTEND;TZID=America/Managua:20250627T170000
DTSTAMP:20260422T175453
CREATED:20250623T143451Z
LAST-MODIFIED:20250623T143451Z
UID:24319-1751029200-1751043600@www.una.edu.ni
SUMMARY:Inicio del Diplomado de Hortalizas\, Cucurbitáceas y cultivos de Enramadas en Don Orlando\, Niquinohomo
DESCRIPTION:
URL:https://www.una.edu.ni/event/inicio-del-diplomado-de-hortalizas-cucurbitaceas-y-cultivos-de-enramadas-en-don-orlando-niquinohomo/
LOCATION:Don Orlando\, Niquinohomo\, Nicaragua
CATEGORIES:DIPLOMADO
END:VEVENT
END:VCALENDAR