BEGIN:VCALENDAR
VERSION:2.0
PRODID:-//Universidad Nacional Agraria - ECPv6.15.20//NONSGML v1.0//EN
CALSCALE:GREGORIAN
METHOD:PUBLISH
X-WR-CALNAME:Universidad Nacional Agraria
X-ORIGINAL-URL:https://www.una.edu.ni
X-WR-CALDESC:Eventos para Universidad Nacional Agraria
REFRESH-INTERVAL;VALUE=DURATION:PT1H
X-Robots-Tag:noindex
X-PUBLISHED-TTL:PT1H
BEGIN:VTIMEZONE
TZID:America/Managua
BEGIN:STANDARD
TZOFFSETFROM:-0600
TZOFFSETTO:-0600
TZNAME:CST
DTSTART:20240101T000000
END:STANDARD
END:VTIMEZONE
BEGIN:VTIMEZONE
TZID:Europe/Madrid
BEGIN:DAYLIGHT
TZOFFSETFROM:+0100
TZOFFSETTO:+0200
TZNAME:CEST
DTSTART:20240331T010000
END:DAYLIGHT
BEGIN:STANDARD
TZOFFSETFROM:+0200
TZOFFSETTO:+0100
TZNAME:CET
DTSTART:20241027T010000
END:STANDARD
BEGIN:DAYLIGHT
TZOFFSETFROM:+0100
TZOFFSETTO:+0200
TZNAME:CEST
DTSTART:20250330T010000
END:DAYLIGHT
BEGIN:STANDARD
TZOFFSETFROM:+0200
TZOFFSETTO:+0100
TZNAME:CET
DTSTART:20251026T010000
END:STANDARD
BEGIN:DAYLIGHT
TZOFFSETFROM:+0100
TZOFFSETTO:+0200
TZNAME:CEST
DTSTART:20260329T010000
END:DAYLIGHT
BEGIN:STANDARD
TZOFFSETFROM:+0200
TZOFFSETTO:+0100
TZNAME:CET
DTSTART:20261025T010000
END:STANDARD
END:VTIMEZONE
BEGIN:VEVENT
DTSTART;TZID=America/Managua:20250702T080000
DTEND;TZID=America/Managua:20250702T120000
DTSTAMP:20260422T174623
CREATED:20250630T004228Z
LAST-MODIFIED:20250630T004228Z
UID:24412-1751443200-1751457600@www.una.edu.ni
SUMMARY:Intercambio de experiencias con productores sobre establecimiento de huertos familiares
DESCRIPTION:
URL:https://www.una.edu.ni/event/intercambio-de-experiencias-con-productores-sobre-establecimiento-de-huertos-familiares/
LOCATION:Centro Universitario “Camilo Torres Restrepo”\, Matagalpa\, Nicaragua
CATEGORIES:OTROS
END:VEVENT
BEGIN:VEVENT
DTSTART;TZID=America/Managua:20250702T080000
DTEND;TZID=America/Managua:20250702T120000
DTSTAMP:20260422T174623
CREATED:20250701T143805Z
LAST-MODIFIED:20250701T143805Z
UID:24443-1751443200-1751457600@www.una.edu.ni
SUMMARY:Taller sobre Manejo reproductivo de alevines
DESCRIPTION:
URL:https://www.una.edu.ni/event/taller-sobre-manejo-reproductivo-de-alevines/
LOCATION:Centro de práctica acuícola\, Nicaragua
CATEGORIES:TALLER
END:VEVENT
BEGIN:VEVENT
DTSTART;TZID=America/Managua:20250702T090000
DTEND;TZID=America/Managua:20250702T120000
DTSTAMP:20260422T174623
CREATED:20250701T144005Z
LAST-MODIFIED:20250701T144005Z
UID:24447-1751446800-1751457600@www.una.edu.ni
SUMMARY:Taller sobre Establecimiento de banco de proteínas a base de marango
DESCRIPTION:
URL:https://www.una.edu.ni/event/taller-sobre-establecimiento-de-banco-de-proteinas-a-base-de-marango/
LOCATION:Universidad Nacional Agraria\, Managua\, km 12 1/2\, Managua\, Nicaragua
CATEGORIES:TALLER
END:VEVENT
BEGIN:VEVENT
DTSTART;TZID=Europe/Madrid:20250702T100000
DTEND;TZID=Europe/Madrid:20250702T120000
DTSTAMP:20260422T174623
CREATED:20250630T002602Z
LAST-MODIFIED:20250630T002602Z
UID:24402-1751450400-1751457600@www.una.edu.ni
SUMMARY:Inauguración de vivero de frutales y forestales “Luis Alberto Jirón”
DESCRIPTION:
URL:https://www.una.edu.ni/event/inauguracion-de-vivero-de-frutales-y-forestales-luis-alberto-jiron/
LOCATION:UNICAM Morrito\, Nicaragua
CATEGORIES:INAUGURACIÓN
END:VEVENT
BEGIN:VEVENT
DTSTART;TZID=America/Managua:20250702T140000
DTEND;TZID=America/Managua:20250702T160000
DTSTAMP:20260422T174623
CREATED:20250630T005740Z
LAST-MODIFIED:20250630T005740Z
UID:24431-1751464800-1751472000@www.una.edu.ni
SUMMARY:Charla sobre manejo integral de granjas porcinas y bienestar animal
DESCRIPTION:
URL:https://www.una.edu.ni/event/charla-sobre-manejo-integral-de-granjas-porcinas-y-bienestar-animal/
LOCATION:Centro Universitario Regional UNA Juigalpa\, Juigapa
CATEGORIES:CHARLA
END:VEVENT
BEGIN:VEVENT
DTSTART;TZID=America/Managua:20250702T140000
DTEND;TZID=America/Managua:20250702T170000
DTSTAMP:20260422T174623
CREATED:20250630T004510Z
LAST-MODIFIED:20250630T004510Z
UID:24415-1751464800-1751475600@www.una.edu.ni
SUMMARY:Capacitación a productores sobre variedades de frijol de potencial genético y productivo
DESCRIPTION:
URL:https://www.una.edu.ni/event/capacitacion-a-productores-sobre-variedades-de-frijol-de-potencial-genetico-y-productivo/
LOCATION:Centro Universitario Regional UNA Juigalpa\, Juigapa
CATEGORIES:CAPACITACION
END:VEVENT
BEGIN:VEVENT
DTSTART;TZID=America/Managua:20250702T140000
DTEND;TZID=America/Managua:20250702T170000
DTSTAMP:20260422T174623
CREATED:20250701T143916Z
LAST-MODIFIED:20250701T143916Z
UID:24445-1751464800-1751475600@www.una.edu.ni
SUMMARY:Taller sobre Injertación en acodos y plantas frutales
DESCRIPTION:
URL:https://www.una.edu.ni/event/taller-sobre-injertacion-en-acodos-y-plantas-frutales/
LOCATION:Universidad Nacional Agraria\, Managua\, km 12 1/2\, Managua\, Nicaragua
CATEGORIES:TALLER
END:VEVENT
END:VCALENDAR