BEGIN:VCALENDAR
VERSION:2.0
PRODID:-//Universidad Nacional Agraria - ECPv6.15.20//NONSGML v1.0//EN
CALSCALE:GREGORIAN
METHOD:PUBLISH
X-WR-CALNAME:Universidad Nacional Agraria
X-ORIGINAL-URL:https://www.una.edu.ni
X-WR-CALDESC:Eventos para Universidad Nacional Agraria
REFRESH-INTERVAL;VALUE=DURATION:PT1H
X-Robots-Tag:noindex
X-PUBLISHED-TTL:PT1H
BEGIN:VTIMEZONE
TZID:America/Managua
BEGIN:STANDARD
TZOFFSETFROM:-0600
TZOFFSETTO:-0600
TZNAME:CST
DTSTART:20240101T000000
END:STANDARD
END:VTIMEZONE
BEGIN:VTIMEZONE
TZID:Europe/Madrid
BEGIN:DAYLIGHT
TZOFFSETFROM:+0100
TZOFFSETTO:+0200
TZNAME:CEST
DTSTART:20240331T010000
END:DAYLIGHT
BEGIN:STANDARD
TZOFFSETFROM:+0200
TZOFFSETTO:+0100
TZNAME:CET
DTSTART:20241027T010000
END:STANDARD
BEGIN:DAYLIGHT
TZOFFSETFROM:+0100
TZOFFSETTO:+0200
TZNAME:CEST
DTSTART:20250330T010000
END:DAYLIGHT
BEGIN:STANDARD
TZOFFSETFROM:+0200
TZOFFSETTO:+0100
TZNAME:CET
DTSTART:20251026T010000
END:STANDARD
BEGIN:DAYLIGHT
TZOFFSETFROM:+0100
TZOFFSETTO:+0200
TZNAME:CEST
DTSTART:20260329T010000
END:DAYLIGHT
BEGIN:STANDARD
TZOFFSETFROM:+0200
TZOFFSETTO:+0100
TZNAME:CET
DTSTART:20261025T010000
END:STANDARD
END:VTIMEZONE
BEGIN:VEVENT
DTSTART;TZID=America/Managua:20250703T083000
DTEND;TZID=America/Managua:20250703T120000
DTSTAMP:20260422T191335
CREATED:20250701T144201Z
LAST-MODIFIED:20250701T144201Z
UID:24451-1751531400-1751544000@www.una.edu.ni
SUMMARY:Feria de productores y emprendedores agropecuarios
DESCRIPTION:
URL:https://www.una.edu.ni/event/feria-de-productores-y-emprendedores-agropecuarios/
LOCATION:Universidad Nacional Agraria\, Managua\, km 12 1/2\, Managua\, Nicaragua
CATEGORIES:FERIA
END:VEVENT
BEGIN:VEVENT
DTSTART;TZID=Europe/Madrid:20250703T100000
DTEND;TZID=Europe/Madrid:20250703T120000
DTSTAMP:20260422T191335
CREATED:20250630T004634Z
LAST-MODIFIED:20250630T004634Z
UID:24417-1751536800-1751544000@www.una.edu.ni
SUMMARY:Encuentro con mujeres productoras para intercambiar experiencias sobre manejo integral de apiarios
DESCRIPTION:
URL:https://www.una.edu.ni/event/encuentro-con-mujeres-productoras-para-intercambiar-experiencias-sobre-manejo-integral-de-apiarios/
LOCATION:Universidad Nacional Agraria\, Managua\, km 12 1/2\, Managua\, Nicaragua
CATEGORIES:ENCUENTRO
END:VEVENT
BEGIN:VEVENT
DTSTART;TZID=America/Managua:20250703T100000
DTEND;TZID=America/Managua:20250703T120000
DTSTAMP:20260422T191335
CREATED:20250701T144108Z
LAST-MODIFIED:20250701T144108Z
UID:24449-1751536800-1751544000@www.una.edu.ni
SUMMARY:Taller sobre Uso de plataforma tecnológica para el monitoreo y seguimiento de incendios forestales
DESCRIPTION:
URL:https://www.una.edu.ni/event/taller-sobre-uso-de-plataforma-tecnologica-para-el-monitoreo-y-seguimiento-de-incendios-forestales/
LOCATION:Universidad Nacional Agraria\, Managua\, km 12 1/2\, Managua\, Nicaragua
CATEGORIES:TALLER
END:VEVENT
BEGIN:VEVENT
DTSTART;TZID=America/Managua:20250703T100000
DTEND;TZID=America/Managua:20250703T130000
DTSTAMP:20260422T191335
CREATED:20250701T144303Z
LAST-MODIFIED:20250701T144303Z
UID:24453-1751536800-1751547600@www.una.edu.ni
SUMMARY:Jornada de reforestación “Sembrando futuro\, cosechando vida”
DESCRIPTION:
URL:https://www.una.edu.ni/event/jornada-de-reforestacion-sembrando-futuro-cosechando-vida/
LOCATION:Universidad Nacional Agraria\, Managua\, km 12 1/2\, Managua\, Nicaragua
CATEGORIES:JORNADA
END:VEVENT
BEGIN:VEVENT
DTSTART;TZID=America/Managua:20250703T110000
DTEND;TZID=America/Managua:20250703T140000
DTSTAMP:20260422T191335
CREATED:20250630T002912Z
LAST-MODIFIED:20250630T002912Z
UID:24406-1751540400-1751551200@www.una.edu.ni
SUMMARY:Sesión del Diplomado en Tecnologías agropecuarias\, con el tema “Manejo de cerdas reproductoras y de reemplazo”
DESCRIPTION:
URL:https://www.una.edu.ni/event/sesion-del-diplomado-en-tecnologias-agropecuarias-con-el-tema-manejo-de-cerdas-reproductoras-y-de-reemplazo/
LOCATION:Plataforma UALN\, Nicaragua
CATEGORIES:OTROS
END:VEVENT
END:VCALENDAR