BEGIN:VCALENDAR
VERSION:2.0
PRODID:-//Universidad Nacional Agraria - ECPv6.15.20//NONSGML v1.0//EN
CALSCALE:GREGORIAN
METHOD:PUBLISH
X-ORIGINAL-URL:https://www.una.edu.ni
X-WR-CALDESC:Eventos para Universidad Nacional Agraria
REFRESH-INTERVAL;VALUE=DURATION:PT1H
X-Robots-Tag:noindex
X-PUBLISHED-TTL:PT1H
BEGIN:VTIMEZONE
TZID:America/Managua
BEGIN:STANDARD
TZOFFSETFROM:-0600
TZOFFSETTO:-0600
TZNAME:CST
DTSTART:20240101T000000
END:STANDARD
END:VTIMEZONE
BEGIN:VEVENT
DTSTART;TZID=America/Managua:20250707T100000
DTEND;TZID=America/Managua:20250707T120000
DTSTAMP:20260422T172810
CREATED:20250707T143342Z
LAST-MODIFIED:20250707T143342Z
UID:24558-1751882400-1751889600@www.una.edu.ni
SUMMARY:Taller sobre Elaboración de forraje verde hidropónico como alternativa nutricional bovina
DESCRIPTION:
URL:https://www.una.edu.ni/event/taller-sobre-elaboracion-de-forraje-verde-hidroponico-como-alternativa-nutricional-bovina/
LOCATION:Centro de prácticas acuícola\, Nicaragua
CATEGORIES:TALLER
END:VEVENT
BEGIN:VEVENT
DTSTART;TZID=America/Managua:20250707T100000
DTEND;TZID=America/Managua:20250707T120000
DTSTAMP:20260422T172810
CREATED:20250707T143552Z
LAST-MODIFIED:20250707T155059Z
UID:24562-1751882400-1751889600@www.una.edu.ni
SUMMARY:Presentación de la cartilla “Jóvenes valientes en tiempos de esperanza y paz”
DESCRIPTION:
URL:https://www.una.edu.ni/event/presentacion-de-la-cartilla-jovenes-valientes-en-tiempos-de-esperanza-y-paz/
LOCATION:Universidad Nacional Agraria\, Managua\, km 12 1/2\, Managua\, Nicaragua
CATEGORIES:PRESENTACIÓN
END:VEVENT
BEGIN:VEVENT
DTSTART;TZID=America/Managua:20250707T130000
DTEND;TZID=America/Managua:20250707T170000
DTSTAMP:20260422T172810
CREATED:20250707T143227Z
LAST-MODIFIED:20250707T143227Z
UID:24556-1751893200-1751907600@www.una.edu.ni
SUMMARY:Conferencia sobre manejo de plagas en cítricos
DESCRIPTION:
URL:https://www.una.edu.ni/event/conferencia-sobre-manejo-de-plagas-en-citricos/
LOCATION:Universidad Nacional Agraria\, Managua\, km 12 1/2\, Managua\, Nicaragua
CATEGORIES:CONFERENCIA
END:VEVENT
END:VCALENDAR