BEGIN:VCALENDAR
VERSION:2.0
PRODID:-//Universidad Nacional Agraria - ECPv6.15.20//NONSGML v1.0//EN
CALSCALE:GREGORIAN
METHOD:PUBLISH
X-WR-CALNAME:Universidad Nacional Agraria
X-ORIGINAL-URL:https://www.una.edu.ni
X-WR-CALDESC:Eventos para Universidad Nacional Agraria
REFRESH-INTERVAL;VALUE=DURATION:PT1H
X-Robots-Tag:noindex
X-PUBLISHED-TTL:PT1H
BEGIN:VTIMEZONE
TZID:America/Managua
BEGIN:STANDARD
TZOFFSETFROM:-0600
TZOFFSETTO:-0600
TZNAME:CST
DTSTART:20240101T000000
END:STANDARD
END:VTIMEZONE
BEGIN:VEVENT
DTSTART;TZID=America/Managua:20250722T080000
DTEND;TZID=America/Managua:20250722T120000
DTSTAMP:20260422T191335
CREATED:20250721T164358Z
LAST-MODIFIED:20250721T164358Z
UID:25059-1753171200-1753185600@www.una.edu.ni
SUMMARY:Curso sobre Calidad y atención en el sector agroturístico nicaragüense
DESCRIPTION:
URL:https://www.una.edu.ni/event/curso-sobre-calidad-y-atencion-en-el-sector-agroturistico-nicaraguense/
LOCATION:Reserva Natural La Makina\, Nicaragua
CATEGORIES:CURSO
END:VEVENT
BEGIN:VEVENT
DTSTART;TZID=America/Managua:20250722T080000
DTEND;TZID=America/Managua:20250722T120000
DTSTAMP:20260422T191335
CREATED:20250721T164854Z
LAST-MODIFIED:20250721T164854Z
UID:25068-1753171200-1753185600@www.una.edu.ni
SUMMARY:Capacitación a productores sobre mejoramiento genético de cultivos de frijol\, pipián y maíz
DESCRIPTION:
URL:https://www.una.edu.ni/event/capacitacion-a-productores-sobre-mejoramiento-genetico-de-cultivos-de-frijol-pipian-y-maiz/
LOCATION:Centro Universitario “Don Orlando”\, Niquinohomo\, Nicaragua
CATEGORIES:CAPACITACION
END:VEVENT
BEGIN:VEVENT
DTSTART;TZID=America/Managua:20250722T080000
DTEND;TZID=America/Managua:20250722T120000
DTSTAMP:20260422T191335
CREATED:20250721T170312Z
LAST-MODIFIED:20250721T170312Z
UID:25086-1753171200-1753185600@www.una.edu.ni
SUMMARY:Taller sobre Transplante de cultivos de hortalizas
DESCRIPTION:
URL:https://www.una.edu.ni/event/taller-sobre-transplante-de-cultivos-de-hortalizas/
LOCATION:Centro Universitario “Don Orlando”\, Niquinohomo\, Nicaragua
CATEGORIES:TALLER
END:VEVENT
BEGIN:VEVENT
DTSTART;TZID=America/Managua:20250722T083000
DTEND;TZID=America/Managua:20250722T120000
DTSTAMP:20260422T191335
CREATED:20250721T165754Z
LAST-MODIFIED:20250721T165754Z
UID:25082-1753173000-1753185600@www.una.edu.ni
SUMMARY:Taller sobre  Manejo zoosanitario de granjas porcinas
DESCRIPTION:
URL:https://www.una.edu.ni/event/taller-sobre-manejo-zoosanitario-de-granjas-porcinas/
LOCATION:Finca Experimental El Plantel\, Nicaragua
CATEGORIES:TALLER
END:VEVENT
BEGIN:VEVENT
DTSTART;TZID=America/Managua:20250722T090000
DTEND;TZID=America/Managua:20250722T120000
DTSTAMP:20260422T191335
CREATED:20250721T170154Z
LAST-MODIFIED:20250721T170154Z
UID:25084-1753174800-1753185600@www.una.edu.ni
SUMMARY:Taller sobre Técnicas de Preservación de harina de marango
DESCRIPTION:
URL:https://www.una.edu.ni/event/taller-sobre-tecnicas-de-preservacion-de-harina-de-marango/
LOCATION:Centro de Desarrollo Moringa Comandante Fidel\, municipio de León\, Nicaragua
CATEGORIES:TALLER
END:VEVENT
BEGIN:VEVENT
DTSTART;TZID=America/Managua:20250722T090000
DTEND;TZID=America/Managua:20250722T120000
DTSTAMP:20260422T191335
CREATED:20250721T171605Z
LAST-MODIFIED:20250721T171605Z
UID:25092-1753174800-1753185600@www.una.edu.ni
SUMMARY:Tornero de kitball\, ajedrez y dominó con estudiantes del Programa Integral de Educación para presos
DESCRIPTION:
URL:https://www.una.edu.ni/event/tornero-de-kitball-ajedrez-y-domino-con-estudiantes-del-programa-integral-de-educacion-para-presos/
LOCATION:Sistema penitenciario Jorge Navarro\, municipio de Tipitapa\, Nicaragua
CATEGORIES:OTROS
END:VEVENT
BEGIN:VEVENT
DTSTART;TZID=America/Managua:20250722T110000
DTEND;TZID=America/Managua:20250722T170000
DTSTAMP:20260422T191335
CREATED:20250721T172241Z
LAST-MODIFIED:20250721T172241Z
UID:25102-1753182000-1753203600@www.una.edu.ni
SUMMARY:Jornada de reforestación “Sembrando vida\, cultivamos el futuro”
DESCRIPTION:
URL:https://www.una.edu.ni/event/jornada-de-reforestacion-sembrando-vida-cultivamos-el-futuro/
LOCATION:Boaco\, Nicaragua
CATEGORIES:JORNADA
END:VEVENT
BEGIN:VEVENT
DTSTART;TZID=America/Managua:20250722T140000
DTEND;TZID=America/Managua:20250722T170000
DTSTAMP:20260422T191335
CREATED:20250721T171913Z
LAST-MODIFIED:20250721T171913Z
UID:25097-1753192800-1753203600@www.una.edu.ni
SUMMARY:Jornada de vitaminación y desparasitación bovina
DESCRIPTION:
URL:https://www.una.edu.ni/event/jornada-de-vitaminacion-y-desparasitacion-bovina/
LOCATION:UNICAM El Ayote\, Juigalpa\, Nicaragua
CATEGORIES:JORNADA
END:VEVENT
END:VCALENDAR