BEGIN:VCALENDAR
VERSION:2.0
PRODID:-//Universidad Nacional Agraria - ECPv6.15.20//NONSGML v1.0//EN
CALSCALE:GREGORIAN
METHOD:PUBLISH
X-ORIGINAL-URL:https://www.una.edu.ni
X-WR-CALDESC:Eventos para Universidad Nacional Agraria
REFRESH-INTERVAL;VALUE=DURATION:PT1H
X-Robots-Tag:noindex
X-PUBLISHED-TTL:PT1H
BEGIN:VTIMEZONE
TZID:America/Managua
BEGIN:STANDARD
TZOFFSETFROM:-0600
TZOFFSETTO:-0600
TZNAME:CST
DTSTART:20240101T000000
END:STANDARD
END:VTIMEZONE
BEGIN:VTIMEZONE
TZID:Europe/Madrid
BEGIN:DAYLIGHT
TZOFFSETFROM:+0100
TZOFFSETTO:+0200
TZNAME:CEST
DTSTART:20240331T010000
END:DAYLIGHT
BEGIN:STANDARD
TZOFFSETFROM:+0200
TZOFFSETTO:+0100
TZNAME:CET
DTSTART:20241027T010000
END:STANDARD
BEGIN:DAYLIGHT
TZOFFSETFROM:+0100
TZOFFSETTO:+0200
TZNAME:CEST
DTSTART:20250330T010000
END:DAYLIGHT
BEGIN:STANDARD
TZOFFSETFROM:+0200
TZOFFSETTO:+0100
TZNAME:CET
DTSTART:20251026T010000
END:STANDARD
BEGIN:DAYLIGHT
TZOFFSETFROM:+0100
TZOFFSETTO:+0200
TZNAME:CEST
DTSTART:20260329T010000
END:DAYLIGHT
BEGIN:STANDARD
TZOFFSETFROM:+0200
TZOFFSETTO:+0100
TZNAME:CET
DTSTART:20261025T010000
END:STANDARD
END:VTIMEZONE
BEGIN:VEVENT
DTSTART;TZID=America/Managua:20250723T090000
DTEND;TZID=America/Managua:20250723T120000
DTSTAMP:20260422T191510
CREATED:20250721T163700Z
LAST-MODIFIED:20250721T163700Z
UID:25051-1753261200-1753272000@www.una.edu.ni
SUMMARY:Entrega de certificados a protagonistas del Curso de gestión aduanera
DESCRIPTION:
URL:https://www.una.edu.ni/event/entrega-de-certificados-a-protagonistas-del-curso-de-gestion-aduanera/
LOCATION:Centro Universitario “Héroes de Chinandega”\, Nicaragua
CATEGORIES:OTROS
END:VEVENT
BEGIN:VEVENT
DTSTART;TZID=America/Managua:20250723T090000
DTEND;TZID=America/Managua:20250723T120000
DTSTAMP:20260422T191510
CREATED:20250721T164500Z
LAST-MODIFIED:20250721T164500Z
UID:25062-1753261200-1753272000@www.una.edu.ni
SUMMARY:Curso sobre elaboración de Conservas de vegetales y productos avícolas
DESCRIPTION:
URL:https://www.una.edu.ni/event/curso-sobre-elaboracion-de-conservas-de-vegetales-y-productos-avicolas/
LOCATION:Finca Experimental El Plantel\, Nicaragua
CATEGORIES:CURSO
END:VEVENT
BEGIN:VEVENT
DTSTART;TZID=America/Managua:20250723T090000
DTEND;TZID=America/Managua:20250723T120000
DTSTAMP:20260422T191510
CREATED:20250721T165008Z
LAST-MODIFIED:20250721T165008Z
UID:25070-1753261200-1753272000@www.una.edu.ni
SUMMARY:Encuentro de capacitación a mujeres productoras para capacitarlas sobre Gestión de emprendimiento agropecuario
DESCRIPTION:
URL:https://www.una.edu.ni/event/encuentro-de-capacitacion-a-mujeres-productoras-para-capacitarlas-sobre-gestion-de-emprendimiento-agropecuario/
LOCATION:UNICAM San Lorenzo\, Boaco\, Nicaragua
CATEGORIES:ENCUENTRO
END:VEVENT
BEGIN:VEVENT
DTSTART;TZID=America/Managua:20250723T090000
DTEND;TZID=America/Managua:20250723T120000
DTSTAMP:20260422T191510
CREATED:20250721T170512Z
LAST-MODIFIED:20250721T170512Z
UID:25088-1753261200-1753272000@www.una.edu.ni
SUMMARY:Taller sobre Establecimiento de cultivos tropicales y oleaginosos
DESCRIPTION:
URL:https://www.una.edu.ni/event/taller-sobre-establecimiento-de-cultivos-tropicales-y-oleaginosos/
LOCATION:Finca Experimental El Plantel\, Nicaragua
CATEGORIES:TALLER
END:VEVENT
BEGIN:VEVENT
DTSTART;TZID=America/Managua:20250723T090000
DTEND;TZID=America/Managua:20250723T120000
DTSTAMP:20260422T191510
CREATED:20250721T171453Z
LAST-MODIFIED:20250721T171453Z
UID:25090-1753261200-1753272000@www.una.edu.ni
SUMMARY:Feria gastronómica para la Promoción de Emprendimientos
DESCRIPTION:
URL:https://www.una.edu.ni/event/feria-gastronomica-para-la-promocion-de-emprendimientos/
LOCATION:Centro Universitario “Héroes de Chinandega”\, Nicaragua
CATEGORIES:FERIA
END:VEVENT
BEGIN:VEVENT
DTSTART;TZID=America/Managua:20250723T090000
DTEND;TZID=America/Managua:20250723T120000
DTSTAMP:20260422T191510
CREATED:20250721T172051Z
LAST-MODIFIED:20250721T172051Z
UID:25099-1753261200-1753272000@www.una.edu.ni
SUMMARY:Jornada de vitaminación y desparasitación bovina
DESCRIPTION:
URL:https://www.una.edu.ni/event/jornada-de-vitaminacion-y-desparasitacion-bovina-2/
LOCATION:Comunidad Cofradía\, Nicaragua
CATEGORIES:JORNADA
END:VEVENT
BEGIN:VEVENT
DTSTART;TZID=Europe/Madrid:20250723T100000
DTEND;TZID=Europe/Madrid:20250723T160000
DTSTAMP:20260422T191510
CREATED:20250721T164052Z
LAST-MODIFIED:20250721T164052Z
UID:25055-1753264800-1753286400@www.una.edu.ni
SUMMARY:Encuentro de jóvenes emprendedores “Aquí nos ilumina un sol que no declina”
DESCRIPTION:
URL:https://www.una.edu.ni/event/encuentro-de-jovenes-emprendedores-aqui-nos-ilumina-un-sol-que-no-declina/
LOCATION:Universidad La Sandino\, Nicaragua
CATEGORIES:OTROS
END:VEVENT
END:VCALENDAR