BEGIN:VCALENDAR
VERSION:2.0
PRODID:-//Universidad Nacional Agraria - ECPv6.15.20//NONSGML v1.0//EN
CALSCALE:GREGORIAN
METHOD:PUBLISH
X-WR-CALNAME:Universidad Nacional Agraria
X-ORIGINAL-URL:https://www.una.edu.ni
X-WR-CALDESC:Eventos para Universidad Nacional Agraria
REFRESH-INTERVAL;VALUE=DURATION:PT1H
X-Robots-Tag:noindex
X-PUBLISHED-TTL:PT1H
BEGIN:VTIMEZONE
TZID:America/Managua
BEGIN:STANDARD
TZOFFSETFROM:-0600
TZOFFSETTO:-0600
TZNAME:CST
DTSTART:20240101T000000
END:STANDARD
END:VTIMEZONE
BEGIN:VTIMEZONE
TZID:Europe/Madrid
BEGIN:DAYLIGHT
TZOFFSETFROM:+0100
TZOFFSETTO:+0200
TZNAME:CEST
DTSTART:20240331T010000
END:DAYLIGHT
BEGIN:STANDARD
TZOFFSETFROM:+0200
TZOFFSETTO:+0100
TZNAME:CET
DTSTART:20241027T010000
END:STANDARD
BEGIN:DAYLIGHT
TZOFFSETFROM:+0100
TZOFFSETTO:+0200
TZNAME:CEST
DTSTART:20250330T010000
END:DAYLIGHT
BEGIN:STANDARD
TZOFFSETFROM:+0200
TZOFFSETTO:+0100
TZNAME:CET
DTSTART:20251026T010000
END:STANDARD
BEGIN:DAYLIGHT
TZOFFSETFROM:+0100
TZOFFSETTO:+0200
TZNAME:CEST
DTSTART:20260329T010000
END:DAYLIGHT
BEGIN:STANDARD
TZOFFSETFROM:+0200
TZOFFSETTO:+0100
TZNAME:CET
DTSTART:20261025T010000
END:STANDARD
END:VTIMEZONE
BEGIN:VEVENT
DTSTART;TZID=America/Managua:20250725T083000
DTEND;TZID=America/Managua:20250725T120000
DTSTAMP:20260422T191335
CREATED:20250721T165121Z
LAST-MODIFIED:20250721T165121Z
UID:25072-1753432200-1753444800@www.una.edu.ni
SUMMARY:Intercambio de experiencias con productores sobre identificación y tratamiento de enfermedades en ganado mayor
DESCRIPTION:
URL:https://www.una.edu.ni/event/intercambio-de-experiencias-con-productores-sobre-identificacion-y-tratamiento-de-enfermedades-en-ganado-mayor/
LOCATION:UNICAM EL Plantel\, Nicaragua
CATEGORIES:OTROS
END:VEVENT
BEGIN:VEVENT
DTSTART;TZID=Europe/Madrid:20250725T090000
DTEND;TZID=Europe/Madrid:20250725T120000
DTSTAMP:20260422T191335
CREATED:20250721T163337Z
LAST-MODIFIED:20250721T163337Z
UID:25049-1753434000-1753444800@www.una.edu.ni
SUMMARY:Inauguración del Curso de Catación y Barismo
DESCRIPTION:
URL:https://www.una.edu.ni/event/inauguracion-del-curso-de-catacion-y-barismo/
LOCATION:Centro Universitario “Camilo Torres Restrepo”\, Matagalpa\, Nicaragua
CATEGORIES:INAUGURACIÓN
END:VEVENT
BEGIN:VEVENT
DTSTART;TZID=America/Managua:20250725T090000
DTEND;TZID=America/Managua:20250725T120000
DTSTAMP:20260422T191335
CREATED:20250721T173753Z
LAST-MODIFIED:20250721T173753Z
UID:25107-1753434000-1753444800@www.una.edu.ni
SUMMARY:Lanzamiento de la Brigada Ambiental “Cro. Pedro Joaquín Reyes”
DESCRIPTION:
URL:https://www.una.edu.ni/event/lanzamiento-de-la-brigada-ambiental-cro-pedro-joaquin-reyes-2/
LOCATION:Universidad Nacional Agraria\, Managua\, km 12 1/2\, Managua\, Nicaragua
CATEGORIES:LANZAMIENTO
END:VEVENT
BEGIN:VEVENT
DTSTART;TZID=America/Managua:20250725T100000
DTEND;TZID=America/Managua:20250725T120000
DTSTAMP:20260422T191335
CREATED:20250721T163138Z
LAST-MODIFIED:20250721T163138Z
UID:25047-1753437600-1753444800@www.una.edu.ni
SUMMARY:Inauguración de mejoras en el edificio administrativo “Miguel Ángel Ortez”
DESCRIPTION:
URL:https://www.una.edu.ni/event/inauguracion-de-mejoras-en-el-edificio-administrativo-miguel-angel-ortez/
LOCATION:Universidad Nacional Agraria\, Managua\, km 12 1/2\, Managua\, Nicaragua
CATEGORIES:INAUGURACIÓN
END:VEVENT
BEGIN:VEVENT
DTSTART;TZID=America/Managua:20250725T130000
DTEND;TZID=America/Managua:20250725T170000
DTSTAMP:20260422T191335
CREATED:20250721T164748Z
LAST-MODIFIED:20250721T164748Z
UID:25066-1753448400-1753462800@www.una.edu.ni
SUMMARY:Curso sobre Inseminación artificial bovina
DESCRIPTION:
URL:https://www.una.edu.ni/event/curso-sobre-inseminacion-artificial-bovina/
LOCATION:UNICAM Morrito\, Nicaragua
CATEGORIES:CURSO
END:VEVENT
END:VCALENDAR