BEGIN:VCALENDAR
VERSION:2.0
PRODID:-//Universidad Nacional Agraria - ECPv6.15.20//NONSGML v1.0//EN
CALSCALE:GREGORIAN
METHOD:PUBLISH
X-ORIGINAL-URL:https://www.una.edu.ni
X-WR-CALDESC:Eventos para Universidad Nacional Agraria
REFRESH-INTERVAL;VALUE=DURATION:PT1H
X-Robots-Tag:noindex
X-PUBLISHED-TTL:PT1H
BEGIN:VTIMEZONE
TZID:America/Managua
BEGIN:STANDARD
TZOFFSETFROM:-0600
TZOFFSETTO:-0600
TZNAME:CST
DTSTART:20240101T000000
END:STANDARD
END:VTIMEZONE
BEGIN:VEVENT
DTSTART;TZID=America/Managua:20250726T090000
DTEND;TZID=America/Managua:20250726T120000
DTSTAMP:20260422T191509
CREATED:20250721T171754Z
LAST-MODIFIED:20250721T171754Z
UID:25094-1753520400-1753531200@www.una.edu.ni
SUMMARY:Campeonato deportivo estudiantil con protagonistas de los Programas Universidad en el Campo de Boaco viejo y San Lorenzo
DESCRIPTION:
URL:https://www.una.edu.ni/event/campeonato-deportivo-estudiantil-con-protagonistas-de-los-programas-universidad-en-el-campo-de-boaco-viejo-y-san-lorenzo/
LOCATION:Cancha Municipal de San Lorenzo\, Boaco\, Nicaragua
CATEGORIES:OTROS
END:VEVENT
BEGIN:VEVENT
DTSTART;TZID=America/Managua:20250726T130000
DTEND;TZID=America/Managua:20250726T170000
DTSTAMP:20260422T191509
CREATED:20250721T165227Z
LAST-MODIFIED:20250721T165227Z
UID:25074-1753534800-1753549200@www.una.edu.ni
SUMMARY:Diplomado con productores sobre manejo de granjas porcinas
DESCRIPTION:
URL:https://www.una.edu.ni/event/diplomado-con-productores-sobre-manejo-de-granjas-porcinas/
LOCATION:UNICAM Muelle de los Bueyes\, Nicaragua
CATEGORIES:DIPLOMADO
END:VEVENT
BEGIN:VEVENT
DTSTART;TZID=America/Managua:20250726T130000
DTEND;TZID=America/Managua:20250726T170000
DTSTAMP:20260422T191509
CREATED:20250721T173657Z
LAST-MODIFIED:20250721T173657Z
UID:25105-1753534800-1753549200@www.una.edu.ni
SUMMARY:Lanzamiento de la Brigada Ambiental “Cro. Pedro Joaquín Reyes”
DESCRIPTION:
URL:https://www.una.edu.ni/event/lanzamiento-de-la-brigada-ambiental-cro-pedro-joaquin-reyes/
LOCATION:UNICAM San Pedro de Lóvago\, Nicaragua
CATEGORIES:LANZAMIENTO
END:VEVENT
END:VCALENDAR