BEGIN:VCALENDAR
VERSION:2.0
PRODID:-//Universidad Nacional Agraria - ECPv6.15.20//NONSGML v1.0//EN
CALSCALE:GREGORIAN
METHOD:PUBLISH
X-ORIGINAL-URL:https://www.una.edu.ni
X-WR-CALDESC:Eventos para Universidad Nacional Agraria
REFRESH-INTERVAL;VALUE=DURATION:PT1H
X-Robots-Tag:noindex
X-PUBLISHED-TTL:PT1H
BEGIN:VTIMEZONE
TZID:America/Managua
BEGIN:STANDARD
TZOFFSETFROM:-0600
TZOFFSETTO:-0600
TZNAME:CST
DTSTART:20240101T000000
END:STANDARD
END:VTIMEZONE
BEGIN:VEVENT
DTSTART;TZID=America/Managua:20250730T080000
DTEND;TZID=America/Managua:20250730T120000
DTSTAMP:20260422T191513
CREATED:20250727T221623Z
LAST-MODIFIED:20250727T221623Z
UID:25204-1753862400-1753876800@www.una.edu.ni
SUMMARY:Encuentro con productores para el intercambio de tecnologías modernas para la producción de semillas criollas
DESCRIPTION:
URL:https://www.una.edu.ni/event/encuentro-con-productores-para-el-intercambio-de-tecnologias-modernas-para-la-produccion-de-semillas-criollas/
LOCATION:Estelí\, Nicaragua
CATEGORIES:ENCUENTRO
END:VEVENT
BEGIN:VEVENT
DTSTART;TZID=America/Managua:20250730T080000
DTEND;TZID=America/Managua:20250730T120000
DTSTAMP:20260422T191513
CREATED:20250727T222003Z
LAST-MODIFIED:20250727T222003Z
UID:25211-1753862400-1753876800@www.una.edu.ni
SUMMARY:Taller sobre Manejo Agronómico de variedades del cultivo de plátano
DESCRIPTION:
URL:https://www.una.edu.ni/event/taller-sobre-manejo-agronomico-de-variedades-del-cultivo-de-platano/
LOCATION:Finca Experimental El Plantel\, Nicaragua
CATEGORIES:TALLER
END:VEVENT
BEGIN:VEVENT
DTSTART;TZID=America/Managua:20250730T100000
DTEND;TZID=America/Managua:20250730T120000
DTSTAMP:20260422T191513
CREATED:20250727T221328Z
LAST-MODIFIED:20250727T221328Z
UID:25200-1753869600-1753876800@www.una.edu.ni
SUMMARY:Entrega de reconocimiento a estudiantes de excelencia académica en los Sistemas penitenciarios de Tipitapa y Granada
DESCRIPTION:
URL:https://www.una.edu.ni/event/entrega-de-reconocimiento-a-estudiantes-de-excelencia-academica-en-los-sistemas-penitenciarios-de-tipitapa-y-granada/
LOCATION:Sistema Penitenciario de Granada\, Nicaragua
CATEGORIES:OTROS
END:VEVENT
BEGIN:VEVENT
DTSTART;TZID=America/Managua:20250730T100000
DTEND;TZID=America/Managua:20250730T130000
DTSTAMP:20260422T191513
CREATED:20250727T221723Z
LAST-MODIFIED:20250727T221723Z
UID:25207-1753869600-1753880400@www.una.edu.ni
SUMMARY:Conferencia dirigida a productores sobre Emprendimiento y Registro de marcas
DESCRIPTION:
URL:https://www.una.edu.ni/event/conferencia-dirigida-a-productores-sobre-emprendimiento-y-registro-de-marcas/
LOCATION:Universidad Nacional Agraria\, Managua\, km 12 1/2\, Managua\, Nicaragua
CATEGORIES:CONFERENCIA
END:VEVENT
BEGIN:VEVENT
DTSTART;TZID=America/Managua:20250730T140000
DTEND;TZID=America/Managua:20250730T170000
DTSTAMP:20260422T191513
CREATED:20250727T221828Z
LAST-MODIFIED:20250727T221828Z
UID:25209-1753884000-1753894800@www.una.edu.ni
SUMMARY:Conferencia sobre Estrategias de conservación de suelos\, agua y biodiversidad
DESCRIPTION:
URL:https://www.una.edu.ni/event/conferencia-sobre-estrategias-de-conservacion-de-suelos-agua-y-biodiversidad/
LOCATION:Centro Universitario Regional UNA Camoapa\, Camoapa
CATEGORIES:CONFERENCIA
END:VEVENT
END:VCALENDAR