BEGIN:VCALENDAR
VERSION:2.0
PRODID:-//Universidad Nacional Agraria - ECPv6.15.20//NONSGML v1.0//EN
CALSCALE:GREGORIAN
METHOD:PUBLISH
X-WR-CALNAME:Universidad Nacional Agraria
X-ORIGINAL-URL:https://www.una.edu.ni
X-WR-CALDESC:Eventos para Universidad Nacional Agraria
REFRESH-INTERVAL;VALUE=DURATION:PT1H
X-Robots-Tag:noindex
X-PUBLISHED-TTL:PT1H
BEGIN:VTIMEZONE
TZID:Europe/Madrid
BEGIN:DAYLIGHT
TZOFFSETFROM:+0100
TZOFFSETTO:+0200
TZNAME:CEST
DTSTART:20240331T010000
END:DAYLIGHT
BEGIN:STANDARD
TZOFFSETFROM:+0200
TZOFFSETTO:+0100
TZNAME:CET
DTSTART:20241027T010000
END:STANDARD
BEGIN:DAYLIGHT
TZOFFSETFROM:+0100
TZOFFSETTO:+0200
TZNAME:CEST
DTSTART:20250330T010000
END:DAYLIGHT
BEGIN:STANDARD
TZOFFSETFROM:+0200
TZOFFSETTO:+0100
TZNAME:CET
DTSTART:20251026T010000
END:STANDARD
BEGIN:DAYLIGHT
TZOFFSETFROM:+0100
TZOFFSETTO:+0200
TZNAME:CEST
DTSTART:20260329T010000
END:DAYLIGHT
BEGIN:STANDARD
TZOFFSETFROM:+0200
TZOFFSETTO:+0100
TZNAME:CET
DTSTART:20261025T010000
END:STANDARD
END:VTIMEZONE
BEGIN:VTIMEZONE
TZID:America/Managua
BEGIN:STANDARD
TZOFFSETFROM:-0600
TZOFFSETTO:-0600
TZNAME:CST
DTSTART:20240101T000000
END:STANDARD
END:VTIMEZONE
BEGIN:VEVENT
DTSTART;TZID=Europe/Madrid:20250731T080000
DTEND;TZID=Europe/Madrid:20250731T120000
DTSTAMP:20260422T191336
CREATED:20250728T193542Z
LAST-MODIFIED:20250728T193542Z
UID:25247-1753948800-1753963200@www.una.edu.ni
SUMMARY:Acto político cultural con trabajadores de la Universidad
DESCRIPTION:
URL:https://www.una.edu.ni/event/acto-politico-cultural-con-trabajadores-de-la-universidad/
LOCATION:Universidad La Sandino\, Nicaragua
CATEGORIES:OTROS
END:VEVENT
BEGIN:VEVENT
DTSTART;TZID=America/Managua:20250731T090000
DTEND;TZID=America/Managua:20250731T120000
DTSTAMP:20260422T191336
CREATED:20250728T174555Z
LAST-MODIFIED:20250728T174555Z
UID:25218-1753952400-1753963200@www.una.edu.ni
SUMMARY:Entrega de Certificados a productores del Curso sobre Valor agregado de Moringa
DESCRIPTION:
URL:https://www.una.edu.ni/event/entrega-de-certificados-a-productores-del-curso-sobre-valor-agregado-de-moringa/
LOCATION:Centro de Desarrollo Moringa Comandante Fidel\, municipio de León\, Nicaragua
CATEGORIES:OTROS
END:VEVENT
BEGIN:VEVENT
DTSTART;TZID=America/Managua:20250731T100000
DTEND;TZID=America/Managua:20250731T130000
DTSTAMP:20260422T191336
CREATED:20250727T215950Z
LAST-MODIFIED:20250727T215950Z
UID:25180-1753956000-1753966800@www.una.edu.ni
SUMMARY:Inauguración de Auditorio Arlen Siú\, en conmemoración al 50 aniversario de su tránsito a la inmortalidad
DESCRIPTION:
URL:https://www.una.edu.ni/event/inauguracion-de-auditorio-arlen-siu-en-conmemoracion-al-50-aniversario-de-su-transito-a-la-inmortalidad/
LOCATION:Universidad Nacional Agraria\, Managua\, km 12 1/2\, Managua\, Nicaragua
CATEGORIES:INAUGURACIÓN
END:VEVENT
BEGIN:VEVENT
DTSTART;TZID=America/Managua:20250731T100000
DTEND;TZID=America/Managua:20250731T130000
DTSTAMP:20260422T191336
CREATED:20250727T222149Z
LAST-MODIFIED:20250727T222149Z
UID:25213-1753956000-1753966800@www.una.edu.ni
SUMMARY:Entrega de reconocimiento a estudiantes de excelencia académica en los Sistemas penitenciarios de Tipitapa y Granada
DESCRIPTION:
URL:https://www.una.edu.ni/event/entrega-de-reconocimiento-a-estudiantes-de-excelencia-academica-en-los-sistemas-penitenciarios-de-tipitapa-y-granada-2/
LOCATION:Sistema penitenciario Jorge Navarro\, municipio de Tipitapa\, Nicaragua
CATEGORIES:OTROS
END:VEVENT
BEGIN:VEVENT
DTSTART;TZID=America/Managua:20250731T100000
DTEND;TZID=America/Managua:20250731T130000
DTSTAMP:20260422T191336
CREATED:20250728T175415Z
LAST-MODIFIED:20250728T175415Z
UID:25229-1753956000-1753966800@www.una.edu.ni
SUMMARY:Taller sobre Control de plagas en maíz
DESCRIPTION:
URL:https://www.una.edu.ni/event/taller-sobre-control-de-plagas-en-maiz/
LOCATION:Centro Universitario Regional UNA Juigalpa\, Juigapa
CATEGORIES:TALLER
END:VEVENT
BEGIN:VEVENT
DTSTART;TZID=America/Managua:20250731T110000
DTEND;TZID=America/Managua:20250731T130000
DTSTAMP:20260422T191336
CREATED:20250728T174929Z
LAST-MODIFIED:20250728T174929Z
UID:25223-1753959600-1753966800@www.una.edu.ni
SUMMARY:Sesión No. 26 del Diplomado en Tecnologías agropecuarias\, con el tema “Principales razas de ganado caprino”
DESCRIPTION:
URL:https://www.una.edu.ni/event/sesion-no-26-del-diplomado-en-tecnologias-agropecuarias-con-el-tema-principales-razas-de-ganado-caprino/
LOCATION:Plataforma UALN\, Nicaragua
CATEGORIES:DIPLOMADO
END:VEVENT
BEGIN:VEVENT
DTSTART;TZID=America/Managua:20250731T143000
DTEND;TZID=America/Managua:20250731T170000
DTSTAMP:20260422T191336
CREATED:20250728T175038Z
LAST-MODIFIED:20250728T175038Z
UID:25225-1753972200-1753981200@www.una.edu.ni
SUMMARY:Conferencia sobre Prevención y control ecológico de plagas y enfermedades en los cultivos
DESCRIPTION:
URL:https://www.una.edu.ni/event/conferencia-sobre-prevencion-y-control-ecologico-de-plagas-y-enfermedades-en-los-cultivos/
LOCATION:Universidad Nacional Agraria\, Managua\, km 12 1/2\, Managua\, Nicaragua
CATEGORIES:CONFERENCIA
END:VEVENT
END:VCALENDAR