BEGIN:VCALENDAR
VERSION:2.0
PRODID:-//Universidad Nacional Agraria - ECPv6.15.20//NONSGML v1.0//EN
CALSCALE:GREGORIAN
METHOD:PUBLISH
X-WR-CALNAME:Universidad Nacional Agraria
X-ORIGINAL-URL:https://www.una.edu.ni
X-WR-CALDESC:Eventos para Universidad Nacional Agraria
REFRESH-INTERVAL;VALUE=DURATION:PT1H
X-Robots-Tag:noindex
X-PUBLISHED-TTL:PT1H
BEGIN:VTIMEZONE
TZID:America/Managua
BEGIN:STANDARD
TZOFFSETFROM:-0600
TZOFFSETTO:-0600
TZNAME:CST
DTSTART:20240101T000000
END:STANDARD
END:VTIMEZONE
BEGIN:VTIMEZONE
TZID:Europe/Madrid
BEGIN:DAYLIGHT
TZOFFSETFROM:+0100
TZOFFSETTO:+0200
TZNAME:CEST
DTSTART:20240331T010000
END:DAYLIGHT
BEGIN:STANDARD
TZOFFSETFROM:+0200
TZOFFSETTO:+0100
TZNAME:CET
DTSTART:20241027T010000
END:STANDARD
BEGIN:DAYLIGHT
TZOFFSETFROM:+0100
TZOFFSETTO:+0200
TZNAME:CEST
DTSTART:20250330T010000
END:DAYLIGHT
BEGIN:STANDARD
TZOFFSETFROM:+0200
TZOFFSETTO:+0100
TZNAME:CET
DTSTART:20251026T010000
END:STANDARD
BEGIN:DAYLIGHT
TZOFFSETFROM:+0100
TZOFFSETTO:+0200
TZNAME:CEST
DTSTART:20260329T010000
END:DAYLIGHT
BEGIN:STANDARD
TZOFFSETFROM:+0200
TZOFFSETTO:+0100
TZNAME:CET
DTSTART:20261025T010000
END:STANDARD
END:VTIMEZONE
BEGIN:VEVENT
DTSTART;TZID=America/Managua:20250809T080000
DTEND;TZID=America/Managua:20250809T120000
DTSTAMP:20260422T233004
CREATED:20250806T163900Z
LAST-MODIFIED:20250806T163900Z
UID:25336-1754726400-1754740800@www.una.edu.ni
SUMMARY:Bienvenida a clases del Segundo semestre a los estudiantes de sabatino de las 11 carreras que se imparten en la Universidad Nacional Agraria
DESCRIPTION:
URL:https://www.una.edu.ni/event/bienvenida-a-clases-del-segundo-semestre-a-los-estudiantes-de-sabatino-de-las-11-carreras-que-se-imparten-en-la-universidad-nacional-agraria/
LOCATION:UNA Managua\, Juigalpa\, Matagalpa\, Camoapa y Chinandega\, Nicaragua
CATEGORIES:OTROS
END:VEVENT
BEGIN:VEVENT
DTSTART;TZID=America/Managua:20250809T080000
DTEND;TZID=America/Managua:20250809T120000
DTSTAMP:20260422T233004
CREATED:20250806T171037Z
LAST-MODIFIED:20250806T171037Z
UID:25363-1754726400-1754740800@www.una.edu.ni
SUMMARY:Feria de emprendimientos agropecuarios
DESCRIPTION:
URL:https://www.una.edu.ni/event/feria-de-emprendimientos-agropecuarios-2/
LOCATION:UNICAM Matiguás\, Nicaragua
CATEGORIES:FERIA
END:VEVENT
BEGIN:VEVENT
DTSTART;TZID=Europe/Madrid:20250809T140000
DTEND;TZID=Europe/Madrid:20250809T170000
DTSTAMP:20260422T233004
CREATED:20250806T170621Z
LAST-MODIFIED:20250806T170621Z
UID:25359-1754748000-1754758800@www.una.edu.ni
SUMMARY:Taller sobre Manejo sanitario en granjas porcinas
DESCRIPTION:
URL:https://www.una.edu.ni/event/taller-sobre-manejo-sanitario-en-granjas-porcinas/
LOCATION:UNICAM El Ayote\, Juigalpa\, Nicaragua
CATEGORIES:TALLER
END:VEVENT
BEGIN:VEVENT
DTSTART;TZID=America/Managua:20250809T140000
DTEND;TZID=America/Managua:20250809T170000
DTSTAMP:20260422T233004
CREATED:20250806T171434Z
LAST-MODIFIED:20250806T171434Z
UID:25369-1754748000-1754758800@www.una.edu.ni
SUMMARY:Torneo relámpago de Kickinball
DESCRIPTION:
URL:https://www.una.edu.ni/event/torneo-relampago-de-kickinball/
LOCATION:UNICAM San Pedro de Lóvago\, Nicaragua
CATEGORIES:OTROS
END:VEVENT
END:VCALENDAR