BEGIN:VCALENDAR
VERSION:2.0
PRODID:-//Universidad Nacional Agraria - ECPv6.15.20//NONSGML v1.0//EN
CALSCALE:GREGORIAN
METHOD:PUBLISH
X-ORIGINAL-URL:https://www.una.edu.ni
X-WR-CALDESC:Eventos para Universidad Nacional Agraria
REFRESH-INTERVAL;VALUE=DURATION:PT1H
X-Robots-Tag:noindex
X-PUBLISHED-TTL:PT1H
BEGIN:VTIMEZONE
TZID:America/Managua
BEGIN:STANDARD
TZOFFSETFROM:-0600
TZOFFSETTO:-0600
TZNAME:CST
DTSTART:20240101T000000
END:STANDARD
END:VTIMEZONE
BEGIN:VEVENT
DTSTART;TZID=America/Managua:20250811T090000
DTEND;TZID=America/Managua:20250811T120000
DTSTAMP:20260422T220650
CREATED:20250811T122257Z
LAST-MODIFIED:20250811T122257Z
UID:25380-1754902800-1754913600@www.una.edu.ni
SUMMARY:Acto de Bienvenida al Segundo Semestre de estudiantes de las diferentes carreras
DESCRIPTION:
URL:https://www.una.edu.ni/event/acto-de-bienvenida-al-segundo-semestre-de-estudiantes-de-las-diferentes-carreras/
LOCATION:Sede Central\, CUR UNA Juigalpa y Camoapa\, Nicaragua
CATEGORIES:OTROS
END:VEVENT
BEGIN:VEVENT
DTSTART;TZID=America/Managua:20250811T090000
DTEND;TZID=America/Managua:20250811T120000
DTSTAMP:20260422T220650
CREATED:20250811T122529Z
LAST-MODIFIED:20250811T122529Z
UID:25385-1754902800-1754913600@www.una.edu.ni
SUMMARY:Jornada de vacunación a mascotas “Juventud por la salud animal”
DESCRIPTION:
URL:https://www.una.edu.ni/event/jornada-de-vacunacion-a-mascotas-juventud-por-la-salud-animal/
LOCATION:UNICAM Muelle de los Bueyes\, Nicaragua
CATEGORIES:JORNADA
END:VEVENT
BEGIN:VEVENT
DTSTART;TZID=America/Managua:20250811T090000
DTEND;TZID=America/Managua:20250811T120000
DTSTAMP:20260422T220650
CREATED:20250811T133006Z
LAST-MODIFIED:20250811T133006Z
UID:25415-1754902800-1754913600@www.una.edu.ni
SUMMARY:Acto político cultural en conmemoración del natalicio de los Comandantes Fidel Castro Ruz y Tomás Borge Martínez
DESCRIPTION:
URL:https://www.una.edu.ni/event/acto-politico-cultural-en-conmemoracion-del-natalicio-de-los-comandantes-fidel-castro-ruz-y-tomas-borge-martinez-2/
LOCATION:Centro Universitario Regional UNA Juigalpa\, Juigapa
CATEGORIES:OTROS
END:VEVENT
BEGIN:VEVENT
DTSTART;TZID=America/Managua:20250811T100000
DTEND;TZID=America/Managua:20250811T120000
DTSTAMP:20260422T220650
CREATED:20250811T122349Z
LAST-MODIFIED:20250811T122349Z
UID:25383-1754906400-1754913600@www.una.edu.ni
SUMMARY:Presentación de variedad de maíz genéticamente mejorada
DESCRIPTION:
URL:https://www.una.edu.ni/event/presentacion-de-variedad-de-maiz-geneticamente-mejorada/
LOCATION:Universidad Nacional Agraria\, Managua\, km 12 1/2\, Managua\, Nicaragua
CATEGORIES:PRESENTACIÓN
END:VEVENT
END:VCALENDAR