BEGIN:VCALENDAR
VERSION:2.0
PRODID:-//Universidad Nacional Agraria - ECPv6.15.20//NONSGML v1.0//EN
CALSCALE:GREGORIAN
METHOD:PUBLISH
X-ORIGINAL-URL:https://www.una.edu.ni
X-WR-CALDESC:Eventos para Universidad Nacional Agraria
REFRESH-INTERVAL;VALUE=DURATION:PT1H
X-Robots-Tag:noindex
X-PUBLISHED-TTL:PT1H
BEGIN:VTIMEZONE
TZID:America/Managua
BEGIN:STANDARD
TZOFFSETFROM:-0600
TZOFFSETTO:-0600
TZNAME:CST
DTSTART:20240101T000000
END:STANDARD
END:VTIMEZONE
BEGIN:VEVENT
DTSTART;TZID=America/Managua:20250814T080000
DTEND;TZID=America/Managua:20250814T120000
DTSTAMP:20260422T220651
CREATED:20250813T154035Z
LAST-MODIFIED:20250813T154035Z
UID:25491-1755158400-1755172800@www.una.edu.ni
SUMMARY:Diplomado en Reproducción eficiente de ganado porcino
DESCRIPTION:
URL:https://www.una.edu.ni/event/diplomado-en-reproduccion-eficiente-de-ganado-porcino/
LOCATION:Programa Porcino “Cocibolca”\, Nicaragua
CATEGORIES:DIPLOMADO
END:VEVENT
BEGIN:VEVENT
DTSTART;TZID=America/Managua:20250814T080000
DTEND;TZID=America/Managua:20250814T120000
DTSTAMP:20260422T220651
CREATED:20250813T154300Z
LAST-MODIFIED:20250813T154300Z
UID:25493-1755158400-1755172800@www.una.edu.ni
SUMMARY:Curso sobre elaboración de quesos especiales
DESCRIPTION:
URL:https://www.una.edu.ni/event/curso-sobre-elaboracion-de-quesos-especiales/
LOCATION:Centro Universitario “Camilo Torres Restrepo”\, Matagalpa\, Nicaragua
CATEGORIES:CURSO
END:VEVENT
BEGIN:VEVENT
DTSTART;TZID=America/Managua:20250814T080000
DTEND;TZID=America/Managua:20250814T120000
DTSTAMP:20260422T220651
CREATED:20250813T154646Z
LAST-MODIFIED:20250813T154646Z
UID:25497-1755158400-1755172800@www.una.edu.ni
SUMMARY:Lanzamiento\, presentación e inscripción a Reunión Científica de Docentes Investigadores
DESCRIPTION:
URL:https://www.una.edu.ni/event/lanzamiento-presentacion-e-inscripcion-a-reunion-cientifica-de-docentes-investigadores/
LOCATION:Universidad Nacional Agraria\, Managua\, km 12 1/2\, Managua\, Nicaragua
CATEGORIES:LANZAMIENTO
END:VEVENT
BEGIN:VEVENT
DTSTART;TZID=America/Managua:20250814T080000
DTEND;TZID=America/Managua:20250814T120000
DTSTAMP:20260422T220651
CREATED:20250813T154818Z
LAST-MODIFIED:20250813T154818Z
UID:25499-1755158400-1755172800@www.una.edu.ni
SUMMARY:Taller sobre Manejo y conservación de especies
DESCRIPTION:
URL:https://www.una.edu.ni/event/taller-sobre-manejo-y-conservacion-de-especies/
LOCATION:Herbario Nacional “Juan de Dios Rostrán”\, Nicaragua
CATEGORIES:TALLER
END:VEVENT
BEGIN:VEVENT
DTSTART;TZID=America/Managua:20250814T080000
DTEND;TZID=America/Managua:20250814T120000
DTSTAMP:20260422T220651
CREATED:20250813T161853Z
LAST-MODIFIED:20250813T161853Z
UID:25515-1755158400-1755172800@www.una.edu.ni
SUMMARY:Jornada de vacunación a mascotas “Juventud por la salud animal”
DESCRIPTION:
URL:https://www.una.edu.ni/event/jornada-de-vacunacion-a-mascotas-juventud-por-la-salud-animal-2/
LOCATION:UNICAM Matiguás\, Nicaragua
CATEGORIES:JORNADA
END:VEVENT
BEGIN:VEVENT
DTSTART;TZID=America/Managua:20250814T110000
DTEND;TZID=America/Managua:20250814T130000
DTSTAMP:20260422T220651
CREATED:20250813T153924Z
LAST-MODIFIED:20250813T153924Z
UID:25489-1755169200-1755176400@www.una.edu.ni
SUMMARY:Sesión del Diplomado de Tecnologías Agropecuarias\, con el tema: Productos y subproductos derivados de carne de caprinos
DESCRIPTION:
URL:https://www.una.edu.ni/event/sesion-del-diplomado-de-tecnologias-agropecuarias-con-el-tema-productos-y-subproductos-derivados-de-carne-de-caprinos/
LOCATION:Plataforma UALN\, Nicaragua
CATEGORIES:DIPLOMADO
END:VEVENT
END:VCALENDAR