BEGIN:VCALENDAR
VERSION:2.0
PRODID:-//Universidad Nacional Agraria - ECPv6.15.20//NONSGML v1.0//EN
CALSCALE:GREGORIAN
METHOD:PUBLISH
X-ORIGINAL-URL:https://www.una.edu.ni
X-WR-CALDESC:Eventos para Universidad Nacional Agraria
REFRESH-INTERVAL;VALUE=DURATION:PT1H
X-Robots-Tag:noindex
X-PUBLISHED-TTL:PT1H
BEGIN:VTIMEZONE
TZID:America/Managua
BEGIN:STANDARD
TZOFFSETFROM:-0600
TZOFFSETTO:-0600
TZNAME:CST
DTSTART:20240101T000000
END:STANDARD
END:VTIMEZONE
BEGIN:VEVENT
DTSTART;TZID=America/Managua:20250819T080000
DTEND;TZID=America/Managua:20250819T120000
DTSTAMP:20260422T220651
CREATED:20250818T153506Z
LAST-MODIFIED:20250818T153506Z
UID:25545-1755590400-1755604800@www.una.edu.ni
SUMMARY:Taller sobre Emprendimientos de Agroindustria
DESCRIPTION:
URL:https://www.una.edu.ni/event/taller-sobre-emprendimientos-de-agroindustria/
LOCATION:Universidad La Sandino\, Nicaragua
CATEGORIES:TALLER
END:VEVENT
BEGIN:VEVENT
DTSTART;TZID=America/Managua:20250819T080000
DTEND;TZID=America/Managua:20250819T120000
DTSTAMP:20260422T220651
CREATED:20250818T153605Z
LAST-MODIFIED:20250818T153605Z
UID:25547-1755590400-1755604800@www.una.edu.ni
SUMMARY:Taller sobre Diagnóstico de enfermedades en sistemas de producción acuícola
DESCRIPTION:
URL:https://www.una.edu.ni/event/taller-sobre-diagnostico-de-enfermedades-en-sistemas-de-produccion-acuicola/
LOCATION:Universidad Nacional Agraria\, Managua\, km 12 1/2\, Managua\, Nicaragua
CATEGORIES:TALLER
END:VEVENT
BEGIN:VEVENT
DTSTART;TZID=America/Managua:20250819T090000
DTEND;TZID=America/Managua:20250819T120000
DTSTAMP:20260422T220651
CREATED:20250818T153101Z
LAST-MODIFIED:20250818T153101Z
UID:25537-1755594000-1755604800@www.una.edu.ni
SUMMARY:Curso sobre fermentación de cacao
DESCRIPTION:
URL:https://www.una.edu.ni/event/curso-sobre-fermentacion-de-cacao/
LOCATION:Universidad Nacional Agraria\, Managua\, km 12 1/2\, Managua\, Nicaragua
CATEGORIES:CURSO
END:VEVENT
BEGIN:VEVENT
DTSTART;TZID=America/Managua:20250819T090000
DTEND;TZID=America/Managua:20250819T120000
DTSTAMP:20260422T220651
CREATED:20250818T153207Z
LAST-MODIFIED:20250818T153207Z
UID:25539-1755594000-1755604800@www.una.edu.ni
SUMMARY:Encuentro con productores sobre Tecnologías digitales para la producción de hortalizas en agricultura protegida
DESCRIPTION:
URL:https://www.una.edu.ni/event/encuentro-con-productores-sobre-tecnologias-digitales-para-la-produccion-de-hortalizas-en-agricultura-protegida/
LOCATION:Centro Regional “Don Orlando”\, Niquinohomo\, Nicaragua
CATEGORIES:ENCUENTRO
END:VEVENT
BEGIN:VEVENT
DTSTART;TZID=America/Managua:20250819T090000
DTEND;TZID=America/Managua:20250819T120000
DTSTAMP:20260422T220651
CREATED:20250818T153320Z
LAST-MODIFIED:20250818T153320Z
UID:25541-1755594000-1755604800@www.una.edu.ni
SUMMARY:Encuentro con productores sobre Procesamiento y valor agregado de marango
DESCRIPTION:
URL:https://www.una.edu.ni/event/encuentro-con-productores-sobre-procesamiento-y-valor-agregado-de-marango/
LOCATION:Centro de Desarrollo Moringa Comandante Fidel\, municipio de León\, Nicaragua
CATEGORIES:ENCUENTRO
END:VEVENT
BEGIN:VEVENT
DTSTART;TZID=America/Managua:20250819T100000
DTEND;TZID=America/Managua:20250819T120000
DTSTAMP:20260422T220651
CREATED:20250818T153007Z
LAST-MODIFIED:20250818T153007Z
UID:25535-1755597600-1755604800@www.una.edu.ni
SUMMARY:Diplomado en Manejo fitosanitario de sistema agrícolas de Nicaragua
DESCRIPTION:
URL:https://www.una.edu.ni/event/diplomado-en-manejo-fitosanitario-de-sistema-agricolas-de-nicaragua/
LOCATION:Universidad Nacional Agraria\, Managua\, km 12 1/2\, Managua\, Nicaragua
CATEGORIES:DIPLOMADO
END:VEVENT
BEGIN:VEVENT
DTSTART;TZID=America/Managua:20250819T100000
DTEND;TZID=America/Managua:20250819T120000
DTSTAMP:20260422T220651
CREATED:20250818T153419Z
LAST-MODIFIED:20250818T153419Z
UID:25543-1755597600-1755604800@www.una.edu.ni
SUMMARY:Conferencia sobre Manejo y control de plagas en el cultivo de enramadas
DESCRIPTION:
URL:https://www.una.edu.ni/event/conferencia-sobre-manejo-y-control-de-plagas-en-el-cultivo-de-enramadas/
LOCATION:Universidad Nacional Agraria\, Managua\, km 12 1/2\, Managua\, Nicaragua
CATEGORIES:CONFERENCIA
END:VEVENT
BEGIN:VEVENT
DTSTART;TZID=America/Managua:20250819T100000
DTEND;TZID=America/Managua:20250819T140000
DTSTAMP:20260422T220651
CREATED:20250818T153713Z
LAST-MODIFIED:20250818T153713Z
UID:25549-1755597600-1755612000@www.una.edu.ni
SUMMARY:Feria de innovación pecuaria
DESCRIPTION:
URL:https://www.una.edu.ni/event/feria-de-innovacion-pecuaria/
LOCATION:Centro Universitario Regional UNA Juigalpa\, Juigapa
CATEGORIES:FERIA
END:VEVENT
END:VCALENDAR